BEGIN:VCALENDAR
VERSION:2.0
PRODID:-//Soul of CA - ECPv6.15.17//NONSGML v1.0//EN
CALSCALE:GREGORIAN
METHOD:PUBLISH
X-WR-CALNAME:Soul of CA
X-ORIGINAL-URL:https://soulofca.org
X-WR-CALDESC:Events for Soul of CA
REFRESH-INTERVAL;VALUE=DURATION:PT1H
X-Robots-Tag:noindex
X-PUBLISHED-TTL:PT1H
BEGIN:VTIMEZONE
TZID:America/Los_Angeles
BEGIN:DAYLIGHT
TZOFFSETFROM:-0800
TZOFFSETTO:-0700
TZNAME:PDT
DTSTART:20170312T100000
END:DAYLIGHT
BEGIN:STANDARD
TZOFFSETFROM:-0700
TZOFFSETTO:-0800
TZNAME:PST
DTSTART:20171105T090000
END:STANDARD
BEGIN:DAYLIGHT
TZOFFSETFROM:-0800
TZOFFSETTO:-0700
TZNAME:PDT
DTSTART:20180311T100000
END:DAYLIGHT
BEGIN:STANDARD
TZOFFSETFROM:-0700
TZOFFSETTO:-0800
TZNAME:PST
DTSTART:20181104T090000
END:STANDARD
BEGIN:DAYLIGHT
TZOFFSETFROM:-0800
TZOFFSETTO:-0700
TZNAME:PDT
DTSTART:20190310T100000
END:DAYLIGHT
BEGIN:STANDARD
TZOFFSETFROM:-0700
TZOFFSETTO:-0800
TZNAME:PST
DTSTART:20191103T090000
END:STANDARD
END:VTIMEZONE
BEGIN:VEVENT
DTSTART;TZID=America/Los_Angeles:20181026T090000
DTEND;TZID=America/Los_Angeles:20181028T170000
DTSTAMP:20260419T173253
CREATED:20180219T183240Z
LAST-MODIFIED:20180219T183240Z
UID:5618-1540544400-1540746000@soulofca.org
SUMMARY:Pirelli World Challenge
DESCRIPTION:Just as things start getting a little chilly around here the car enthusiasts like to bring back a piece of summer. Then the Pirelli Challenge brings their cohort of teams and cars to liven things up. The great curves and challenges of Laguna Seca bring out their best in this part of their international championship season.
URL:https://soulofca.org/event/pirelli-world-challenge/
LOCATION:Mazda Laguna Seca Raceway\, 1021 Monterey-Salinas Highway\, Salinas\, CA\, 93908\, United States
END:VEVENT
BEGIN:VEVENT
DTSTART;TZID=America/Los_Angeles:20181026T090000
DTEND;TZID=America/Los_Angeles:20181028T170000
DTSTAMP:20260419T173253
CREATED:20180219T183240Z
LAST-MODIFIED:20180219T183240Z
UID:12251-1540544400-1540746000@soulofca.org
SUMMARY:Pirelli World Challenge
DESCRIPTION:Just as things start getting a little chilly around here the car enthusiasts like to bring back a piece of summer. Then the Pirelli Challenge brings their cohort of teams and cars to liven things up. The great curves and challenges of Laguna Seca bring out their best in this part of their international championship season.
URL:https://soulofca.org/event/pirelli-world-challenge-2/
LOCATION:Mazda Laguna Seca Raceway\, 1021 Monterey-Salinas Highway\, Salinas\, CA\, 93908\, United States
END:VEVENT
BEGIN:VEVENT
DTSTART;TZID=America/Los_Angeles:20181026T170000
DTEND;TZID=America/Los_Angeles:20181026T210000
DTSTAMP:20260419T173253
CREATED:20181012T221358Z
LAST-MODIFIED:20181012T221358Z
UID:7659-1540573200-1540587600@soulofca.org
SUMMARY:Zombie Prom
DESCRIPTION:Seaside is the place for zombies to see and be seen. At least for this event. Otherwise\, find a different place to find edible brains. The 600 block of Broadway is the place to be for this event. If you are the checking in sort of person you will want to go to 656 Broadway to do that. Call 831-899-6734 or 831-899-6800 for details.
URL:https://soulofca.org/event/zombie-prom/
LOCATION:Seaside\, 656 Broadway\, Seaside\, CA\, 93955\, United States
END:VEVENT
BEGIN:VEVENT
DTSTART;TZID=America/Los_Angeles:20181026T170000
DTEND;TZID=America/Los_Angeles:20181026T210000
DTSTAMP:20260419T173253
CREATED:20181012T221358Z
LAST-MODIFIED:20181012T221358Z
UID:12956-1540573200-1540587600@soulofca.org
SUMMARY:Zombie Prom
DESCRIPTION:Seaside is the place for zombies to see and be seen. At least for this event. Otherwise\, find a different place to find edible brains. The 600 block of Broadway is the place to be for this event. If you are the checking in sort of person you will want to go to 656 Broadway to do that. Call 831-899-6734 or 831-899-6800 for details.
URL:https://soulofca.org/event/zombie-prom-2/
LOCATION:Seaside\, 656 Broadway\, Seaside\, CA\, 93955\, United States
END:VEVENT
BEGIN:VEVENT
DTSTART;TZID=America/Los_Angeles:20181026T200000
DTEND;TZID=America/Los_Angeles:20181026T220000
DTSTAMP:20260419T173253
CREATED:20180827T181914Z
LAST-MODIFIED:20180827T181914Z
UID:7401-1540584000-1540591200@soulofca.org
SUMMARY:Jesse Colin Young
DESCRIPTION:You may remember the Youngbloods. This is the person who named that band. Now\, still singing and writing\, Jesse has come to present his work to us here on the Central Coast. http://riotheatre.com
URL:https://soulofca.org/event/jesse-colin-young/
LOCATION:Rio Theater\, 1205 Soquel Ave.\, Santa Cruz\, CA\, 95062\, United States
END:VEVENT
BEGIN:VEVENT
DTSTART;TZID=America/Los_Angeles:20181026T200000
DTEND;TZID=America/Los_Angeles:20181026T220000
DTSTAMP:20260419T173253
CREATED:20180827T181914Z
LAST-MODIFIED:20180827T181914Z
UID:12846-1540584000-1540591200@soulofca.org
SUMMARY:Jesse Colin Young
DESCRIPTION:You may remember the Youngbloods. This is the person who named that band. Now\, still singing and writing\, Jesse has come to present his work to us here on the Central Coast. http://riotheatre.com
URL:https://soulofca.org/event/jesse-colin-young-2/
LOCATION:Rio Theater\, 1205 Soquel Ave.\, Santa Cruz\, CA\, 95062\, United States
END:VEVENT
BEGIN:VEVENT
DTSTART;TZID=America/Los_Angeles:20181027T110000
DTEND;TZID=America/Los_Angeles:20181027T140000
DTSTAMP:20260419T173253
CREATED:20181012T221922Z
LAST-MODIFIED:20181012T221957Z
UID:7662-1540638000-1540648800@soulofca.org
SUMMARY:Carmel 102nd Parade\,Birthday Party\, and Street Dance
DESCRIPTION:That’s a lot of title for a street Party that coincides with Halloween. But for good reason\, Carmel has a lot to celebrate this day. It’s their Birthday! After its incorporation on Halloween\, 1916\, Carmel started partying. Some say they haven’t actually stopped. (Except for Zoning Commission meetings.) It all happens on Ocean Ave.; near Mission is a good place to begin.
URL:https://soulofca.org/event/carmel-102nd-paradebirthday-party-and-street-dance/
LOCATION:Carmel by The Sea\, Carmel BTS\, CA\, 93921\, United States
END:VEVENT
BEGIN:VEVENT
DTSTART;TZID=America/Los_Angeles:20181027T110000
DTEND;TZID=America/Los_Angeles:20181027T140000
DTSTAMP:20260419T173253
CREATED:20181012T221922Z
LAST-MODIFIED:20181012T221922Z
UID:12957-1540638000-1540648800@soulofca.org
SUMMARY:Carmel 102nd Parade\,Birthday Party\, and Street Dance
DESCRIPTION:That’s a lot of title for a street Party that coincides with Halloween. But for good reason\, Carmel has a lot to celebrate this day. It’s their Birthday! After its incorporation on Halloween\, 1916\, Carmel started partying. Some say they haven’t actually stopped. (Except for Zoning Commission meetings.) It all happens on Ocean Ave.; near Mission is a good place to begin.
URL:https://soulofca.org/event/carmel-102nd-paradebirthday-party-and-street-dance-2/
LOCATION:Carmel by The Sea\, Carmel BTS\, CA\, 93921\, United States
END:VEVENT
BEGIN:VEVENT
DTSTART;TZID=America/Los_Angeles:20181027T160000
DTEND;TZID=America/Los_Angeles:20181027T190000
DTSTAMP:20260419T173253
CREATED:20181012T222726Z
LAST-MODIFIED:20181012T222726Z
UID:7665-1540656000-1540666800@soulofca.org
SUMMARY:Evening of Mystery
DESCRIPTION:If you like to solve interesting problems but lack the need to do it in an “escape room” here’s a possibility. Get dressed up\, go to Joullian Winery. They are having a mystery night and you can walk out. But who would want to? All those glamorous people and wine will make it too tempting to stay. http://joullian.com
URL:https://soulofca.org/event/evening-of-mystery/
LOCATION:joullian winery\, 2 Village Dr.\, Carmel Village\, CA\, 93924\, United States
END:VEVENT
BEGIN:VEVENT
DTSTART;TZID=America/Los_Angeles:20181027T160000
DTEND;TZID=America/Los_Angeles:20181027T190000
DTSTAMP:20260419T173253
CREATED:20181012T222726Z
LAST-MODIFIED:20181012T222726Z
UID:12958-1540656000-1540666800@soulofca.org
SUMMARY:Evening of Mystery
DESCRIPTION:If you like to solve interesting problems but lack the need to do it in an “escape room” here’s a possibility. Get dressed up\, go to Joullian Winery. They are having a mystery night and you can walk out. But who would want to? All those glamorous people and wine will make it too tempting to stay. http://joullian.com
URL:https://soulofca.org/event/evening-of-mystery-2/
LOCATION:joullian winery\, 2 Village Dr.\, Carmel Village\, CA\, 93924\, United States
END:VEVENT
BEGIN:VEVENT
DTSTART;TZID=America/Los_Angeles:20181027T170000
DTEND;TZID=America/Los_Angeles:20181027T210000
DTSTAMP:20260419T173253
CREATED:20181012T214914Z
LAST-MODIFIED:20181012T214914Z
UID:7654-1540659600-1540674000@soulofca.org
SUMMARY:Point Sur Lighthouse Haunted Tours
DESCRIPTION:Where else can you get a guided tour that includes; a historical landmark\, haunted buildings\, dinner\, and a spectacular sunset? Not many other places. Make the beautiful drive down to the Point Sur Lighthouse and have all of these ready for your enjoyment. Actor and storyteller Kevin Hanstick will be your guide (and medium?).  http://pointsur.org
URL:https://soulofca.org/event/point-sur-lighthouse-haunted-tours-2/
LOCATION:Point Sur Lighthouse\, Highway One \, CA\, United States
END:VEVENT
BEGIN:VEVENT
DTSTART;TZID=America/Los_Angeles:20181027T170000
DTEND;TZID=America/Los_Angeles:20181027T210000
DTSTAMP:20260419T173253
CREATED:20181012T214914Z
LAST-MODIFIED:20181012T214914Z
UID:12954-1540659600-1540674000@soulofca.org
SUMMARY:Point Sur Lighthouse Haunted Tours
DESCRIPTION:Where else can you get a guided tour that includes; a historical landmark\, haunted buildings\, dinner\, and a spectacular sunset? Not many other places. Make the beautiful drive down to the Point Sur Lighthouse and have all of these ready for your enjoyment. Actor and storyteller Kevin Hanstick will be your guide (and medium?).  http://pointsur.org
URL:https://soulofca.org/event/point-sur-lighthouse-haunted-tours-2-2/
LOCATION:Point Sur Lighthouse\, Highway One \, CA\, United States
END:VEVENT
BEGIN:VEVENT
DTSTART;TZID=America/Los_Angeles:20181027T193000
DTEND;TZID=America/Los_Angeles:20181027T213000
DTSTAMP:20260419T173253
CREATED:20180827T182222Z
LAST-MODIFIED:20180827T182222Z
UID:7403-1540668600-1540675800@soulofca.org
SUMMARY:Henry Rollins
DESCRIPTION:The musician\, social activist\, and political commentator is bringing his slideshow of photos he has taken over the years and presenting his commentary on the reasons why he feels these pictures are important to him. He will probably try to convince us why these should matter to us as well. http://riotheatre.com
URL:https://soulofca.org/event/henry-rollins/
LOCATION:Rio Theater\, 1205 Soquel Ave.\, Santa Cruz\, CA\, 95062\, United States
END:VEVENT
BEGIN:VEVENT
DTSTART;TZID=America/Los_Angeles:20181027T193000
DTEND;TZID=America/Los_Angeles:20181027T213000
DTSTAMP:20260419T173253
CREATED:20180827T182222Z
LAST-MODIFIED:20180827T182222Z
UID:12847-1540668600-1540675800@soulofca.org
SUMMARY:Henry Rollins
DESCRIPTION:The musician\, social activist\, and political commentator is bringing his slideshow of photos he has taken over the years and presenting his commentary on the reasons why he feels these pictures are important to him. He will probably try to convince us why these should matter to us as well. http://riotheatre.com
URL:https://soulofca.org/event/henry-rollins-2/
LOCATION:Rio Theater\, 1205 Soquel Ave.\, Santa Cruz\, CA\, 95062\, United States
END:VEVENT
BEGIN:VEVENT
DTSTART;TZID=America/Los_Angeles:20181027T193000
DTEND;TZID=America/Los_Angeles:20181027T220000
DTSTAMP:20260419T173253
CREATED:20181014T191331Z
LAST-MODIFIED:20181014T191331Z
UID:7693-1540668600-1540677600@soulofca.org
SUMMARY:Santa Cruz Symphony
DESCRIPTION:It’s an evening of La Belle Epoque music. Stravinsky\, Gershwin\, Debussy will be on the program with Rite of Spring\, American in Paris\, and Apres midi d’une Faun. Very promising evening of great music.  Put down the remote control and come out and get some culture. http://santacruzsymphony.org
URL:https://soulofca.org/event/santa-cruz-symphony/
LOCATION:Santa Cruz Civic Auditorium\, 307 High St.\, Santa Cruz\, CA\, 95060\, United States
END:VEVENT
BEGIN:VEVENT
DTSTART;TZID=America/Los_Angeles:20181027T193000
DTEND;TZID=America/Los_Angeles:20181027T220000
DTSTAMP:20260419T173253
CREATED:20181014T191331Z
LAST-MODIFIED:20181014T191331Z
UID:12970-1540668600-1540677600@soulofca.org
SUMMARY:Santa Cruz Symphony
DESCRIPTION:It’s an evening of La Belle Epoque music. Stravinsky\, Gershwin\, Debussy will be on the program with Rite of Spring\, American in Paris\, and Apres midi d’une Faun. Very promising evening of great music.  Put down the remote control and come out and get some culture. http://santacruzsymphony.org
URL:https://soulofca.org/event/santa-cruz-symphony-2/
LOCATION:Santa Cruz Civic Auditorium\, 307 High St.\, Santa Cruz\, CA\, 95060\, United States
END:VEVENT
BEGIN:VEVENT
DTSTART;TZID=America/Los_Angeles:20181027T193000
DTEND;TZID=America/Los_Angeles:20181111T170000
DTSTAMP:20260419T173253
CREATED:20180611T203355Z
LAST-MODIFIED:20180611T203355Z
UID:6695-1540668600-1541955600@soulofca.org
SUMMARY:Legacy of Light
DESCRIPTION:The dramatic presentation of two women scientists from different eras and the similarities and differences that face them despite their separation in years.
URL:https://soulofca.org/event/legacy-of-light-2/
LOCATION:Western Stage\, Hartnell College\, Salinas\, CA\, 93901\, United States
END:VEVENT
BEGIN:VEVENT
DTSTART;TZID=America/Los_Angeles:20181027T193000
DTEND;TZID=America/Los_Angeles:20181111T170000
DTSTAMP:20260419T173253
CREATED:20180611T203355Z
LAST-MODIFIED:20180611T203355Z
UID:12559-1540668600-1541955600@soulofca.org
SUMMARY:Legacy of Light
DESCRIPTION:The dramatic presentation of two women scientists from different eras and the similarities and differences that face them despite their separation in years.
URL:https://soulofca.org/event/legacy-of-light-2-2/
LOCATION:Western Stage\, Hartnell College\, Salinas\, CA\, 93901\, United States
END:VEVENT
BEGIN:VEVENT
DTSTART;TZID=America/Los_Angeles:20181027T193000
DTEND;TZID=America/Los_Angeles:20181111T220000
DTSTAMP:20260419T173253
CREATED:20180219T190309Z
LAST-MODIFIED:20180219T190309Z
UID:5628-1540668600-1541973600@soulofca.org
SUMMARY:Legacy of Light
DESCRIPTION:The interwoven story of two women scientists who despite their separation by centuries\, find many similarities in their work and their lives. Check their website for specific dates and times.
URL:https://soulofca.org/event/legacy-of-light/
LOCATION:Western Stage\, Hartnell College\, Salinas\, CA\, 93901\, United States
END:VEVENT
BEGIN:VEVENT
DTSTART;TZID=America/Los_Angeles:20181027T193000
DTEND;TZID=America/Los_Angeles:20181111T220000
DTSTAMP:20260419T173253
CREATED:20180219T190309Z
LAST-MODIFIED:20180219T190309Z
UID:12256-1540668600-1541973600@soulofca.org
SUMMARY:Legacy of Light
DESCRIPTION:The interwoven story of two women scientists who despite their separation by centuries\, find many similarities in their work and their lives. Check their website for specific dates and times.
URL:https://soulofca.org/event/legacy-of-light-3/
LOCATION:Western Stage\, Hartnell College\, Salinas\, CA\, 93901\, United States
END:VEVENT
BEGIN:VEVENT
DTSTART;TZID=America/Los_Angeles:20181028T160000
DTEND;TZID=America/Los_Angeles:20181028T183000
DTSTAMP:20260419T173253
CREATED:20180910T184359Z
LAST-MODIFIED:20180910T184359Z
UID:7456-1540742400-1540751400@soulofca.org
SUMMARY:Jazz at East Village Coffee Lounge
DESCRIPTION:Another venue\, where the locals go\, to find good music and good conversation. A revolving roster of local talent and often some brought in from the eager travelling troubadours. Come have some good java\, tasty goodies and let the world wander by. http://facebook.com/eastvillagemonterey
URL:https://soulofca.org/event/jazz-at-east-village-coffee-lounge-5/
LOCATION:East Village Coffee Lounge\, 498 Washington St.\, Monterey\, CA\, 93940\, United States
END:VEVENT
BEGIN:VEVENT
DTSTART;TZID=America/Los_Angeles:20181028T160000
DTEND;TZID=America/Los_Angeles:20181028T183000
DTSTAMP:20260419T173253
CREATED:20180910T184359Z
LAST-MODIFIED:20180910T184359Z
UID:12870-1540742400-1540751400@soulofca.org
SUMMARY:Jazz at East Village Coffee Lounge
DESCRIPTION:Another venue\, where the locals go\, to find good music and good conversation. A revolving roster of local talent and often some brought in from the eager travelling troubadours. Come have some good java\, tasty goodies and let the world wander by. http://facebook.com/eastvillagemonterey
URL:https://soulofca.org/event/jazz-at-east-village-coffee-lounge-5-2/
LOCATION:East Village Coffee Lounge\, 498 Washington St.\, Monterey\, CA\, 93940\, United States
END:VEVENT
BEGIN:VEVENT
DTSTART;TZID=America/Los_Angeles:20181028T180000
DTEND;TZID=America/Los_Angeles:20181028T210000
DTSTAMP:20260419T173253
CREATED:20181014T191925Z
LAST-MODIFIED:20181014T191925Z
UID:7695-1540749600-1540760400@soulofca.org
SUMMARY:Maestro Celebration of the life of Lile O. Cruse
DESCRIPTION:The founder of several important programs at Cabrillo College and the Santa Cruz area\, Lile had a profound effect on the numerous musicians throughout the area. In addition his influence went further as his students matured and went afield. MAny of them will be returning to give the maestro the props he is due. http://riotheatre.com
URL:https://soulofca.org/event/maestro-celebration-of-the-life-of-lile-o-cruse/
LOCATION:Rio Theater\, 1205 Soquel Ave.\, Santa Cruz\, CA\, 95062\, United States
END:VEVENT
BEGIN:VEVENT
DTSTART;TZID=America/Los_Angeles:20181028T180000
DTEND;TZID=America/Los_Angeles:20181028T210000
DTSTAMP:20260419T173253
CREATED:20181014T191925Z
LAST-MODIFIED:20181014T191925Z
UID:12971-1540749600-1540760400@soulofca.org
SUMMARY:Maestro Celebration of the life of Lile O. Cruse
DESCRIPTION:The founder of several important programs at Cabrillo College and the Santa Cruz area\, Lile had a profound effect on the numerous musicians throughout the area. In addition his influence went further as his students matured and went afield. MAny of them will be returning to give the maestro the props he is due. http://riotheatre.com
URL:https://soulofca.org/event/maestro-celebration-of-the-life-of-lile-o-cruse-2/
LOCATION:Rio Theater\, 1205 Soquel Ave.\, Santa Cruz\, CA\, 95062\, United States
END:VEVENT
BEGIN:VEVENT
DTSTART;TZID=America/Los_Angeles:20181028T183000
DTEND;TZID=America/Los_Angeles:20181028T220000
DTSTAMP:20260419T173253
CREATED:20181012T223531Z
LAST-MODIFIED:20181012T223531Z
UID:7667-1540751400-1540764000@soulofca.org
SUMMARY:Hallowine
DESCRIPTION:Intrigued? why wouldn’t you be? It is a fundraiser for the Food Bank of Monterey County.  In addition it is a lot of fun. Thee will be food\, wine (of course)\, games and lots of spooky stuff created by the folks from Illusions of Grandeur. Have fun and do good. http://folktalewinery.com
URL:https://soulofca.org/event/hallowine/
LOCATION:Folktales Winery\, 8940 Carmel Valley Rd.\, Carmel\, CA\, 93923\, United States
END:VEVENT
BEGIN:VEVENT
DTSTART;TZID=America/Los_Angeles:20181028T183000
DTEND;TZID=America/Los_Angeles:20181028T220000
DTSTAMP:20260419T173253
CREATED:20181012T223531Z
LAST-MODIFIED:20181012T223531Z
UID:12959-1540751400-1540764000@soulofca.org
SUMMARY:Hallowine
DESCRIPTION:Intrigued? why wouldn’t you be? It is a fundraiser for the Food Bank of Monterey County.  In addition it is a lot of fun. Thee will be food\, wine (of course)\, games and lots of spooky stuff created by the folks from Illusions of Grandeur. Have fun and do good. http://folktalewinery.com
URL:https://soulofca.org/event/hallowine-2/
LOCATION:Folktales Winery\, 8940 Carmel Valley Rd.\, Carmel\, CA\, 93923\, United States
END:VEVENT
BEGIN:VEVENT
DTSTART;TZID=America/Los_Angeles:20181031T160000
DTEND;TZID=America/Los_Angeles:20181031T190000
DTSTAMP:20260419T173253
CREATED:20181014T171317Z
LAST-MODIFIED:20181014T171317Z
UID:7670-1541001600-1541012400@soulofca.org
SUMMARY:Trick or Treat on  the Bay
DESCRIPTION:If you want something a little different and interesting for the adults on Halloween\, here’s is your opportunity. From late afternoon to early evening the merchants of Fisherman’s Wharf will be doling out the fun stuff for the kids. The shops will be open for the grown-ups’ perusal.  There will also be a family movie playing in the Wharf Theater.  http://montereywharf.com
URL:https://soulofca.org/event/trick-or-treat-on-the-bay/
LOCATION:Monterey Fisherman’s Wharf\, Monterey\, CA\, 93940\, United States
END:VEVENT
BEGIN:VEVENT
DTSTART;TZID=America/Los_Angeles:20181031T160000
DTEND;TZID=America/Los_Angeles:20181031T190000
DTSTAMP:20260419T173253
CREATED:20181014T171317Z
LAST-MODIFIED:20181014T171317Z
UID:12960-1541001600-1541012400@soulofca.org
SUMMARY:Trick or Treat on  the Bay
DESCRIPTION:If you want something a little different and interesting for the adults on Halloween\, here’s is your opportunity. From late afternoon to early evening the merchants of Fisherman’s Wharf will be doling out the fun stuff for the kids. The shops will be open for the grown-ups’ perusal.  There will also be a family movie playing in the Wharf Theater.  http://montereywharf.com
URL:https://soulofca.org/event/trick-or-treat-on-the-bay-2/
LOCATION:Monterey Fisherman’s Wharf\, Monterey\, CA\, 93940\, United States
END:VEVENT
BEGIN:VEVENT
DTSTART;TZID=America/Los_Angeles:20181101T100000
DTEND;TZID=America/Los_Angeles:20181104T203000
DTSTAMP:20260419T173253
CREATED:20181014T171915Z
LAST-MODIFIED:20181014T171915Z
UID:7672-1541066400-1541363400@soulofca.org
SUMMARY:Big Sur Food and Wine Festival
DESCRIPTION:Join in the fun of Big Sur and the best of food and wine. There will be several activities which involve walking off the luscious food while takin gin the marvels of the scenery. Several days of indulgence and beauty will get you right with the return to reality. http://bigsurfoodandwine.org
URL:https://soulofca.org/event/big-sur-food-and-wine-festival/
LOCATION:Big Sur\, Highway One\, CA\, United States
END:VEVENT
BEGIN:VEVENT
DTSTART;TZID=America/Los_Angeles:20181101T100000
DTEND;TZID=America/Los_Angeles:20181104T203000
DTSTAMP:20260419T173253
CREATED:20181014T171915Z
LAST-MODIFIED:20181014T171915Z
UID:12961-1541066400-1541363400@soulofca.org
SUMMARY:Big Sur Food and Wine Festival
DESCRIPTION:Join in the fun of Big Sur and the best of food and wine. There will be several activities which involve walking off the luscious food while takin gin the marvels of the scenery. Several days of indulgence and beauty will get you right with the return to reality. http://bigsurfoodandwine.org
URL:https://soulofca.org/event/big-sur-food-and-wine-festival-2/
LOCATION:Big Sur\, Highway One\, CA\, United States
END:VEVENT
END:VCALENDAR