BEGIN:VCALENDAR
VERSION:2.0
PRODID:-//Soul of CA - ECPv6.15.17//NONSGML v1.0//EN
CALSCALE:GREGORIAN
METHOD:PUBLISH
X-WR-CALNAME:Soul of CA
X-ORIGINAL-URL:https://soulofca.org
X-WR-CALDESC:Events for Soul of CA
REFRESH-INTERVAL;VALUE=DURATION:PT1H
X-Robots-Tag:noindex
X-PUBLISHED-TTL:PT1H
BEGIN:VTIMEZONE
TZID:America/Los_Angeles
BEGIN:DAYLIGHT
TZOFFSETFROM:-0800
TZOFFSETTO:-0700
TZNAME:PDT
DTSTART:20170312T100000
END:DAYLIGHT
BEGIN:STANDARD
TZOFFSETFROM:-0700
TZOFFSETTO:-0800
TZNAME:PST
DTSTART:20171105T090000
END:STANDARD
BEGIN:DAYLIGHT
TZOFFSETFROM:-0800
TZOFFSETTO:-0700
TZNAME:PDT
DTSTART:20180311T100000
END:DAYLIGHT
BEGIN:STANDARD
TZOFFSETFROM:-0700
TZOFFSETTO:-0800
TZNAME:PST
DTSTART:20181104T090000
END:STANDARD
BEGIN:DAYLIGHT
TZOFFSETFROM:-0800
TZOFFSETTO:-0700
TZNAME:PDT
DTSTART:20190310T100000
END:DAYLIGHT
BEGIN:STANDARD
TZOFFSETFROM:-0700
TZOFFSETTO:-0800
TZNAME:PST
DTSTART:20191103T090000
END:STANDARD
END:VTIMEZONE
BEGIN:VEVENT
DTSTART;TZID=America/Los_Angeles:20181020T200000
DTEND;TZID=America/Los_Angeles:20181020T220000
DTSTAMP:20260419T144544
CREATED:20180806T191848Z
LAST-MODIFIED:20180806T191848Z
UID:7274-1540065600-1540072800@soulofca.org
SUMMARY:Patrick Combs
DESCRIPTION:This is a show which this up and coming young comedian has been performing for a while now. It tells his story of the attempts to cash a $95\,000 check. Hilarity\, in the shape of great frustration\, ensued. http://goldenstatetheatre.com
URL:https://soulofca.org/event/patrick-combs/
LOCATION:Golden State Theater\, 417 Alvarado St.\, Monterey\, CA\, 93940\, United States
END:VEVENT
BEGIN:VEVENT
DTSTART;TZID=America/Los_Angeles:20181020T200000
DTEND;TZID=America/Los_Angeles:20181020T220000
DTSTAMP:20260419T144544
CREATED:20180806T191848Z
LAST-MODIFIED:20180806T191848Z
UID:12796-1540065600-1540072800@soulofca.org
SUMMARY:Patrick Combs
DESCRIPTION:This is a show which this up and coming young comedian has been performing for a while now. It tells his story of the attempts to cash a $95\,000 check. Hilarity\, in the shape of great frustration\, ensued. http://goldenstatetheatre.com
URL:https://soulofca.org/event/patrick-combs-2/
LOCATION:Golden State Theater\, 417 Alvarado St.\, Monterey\, CA\, 93940\, United States
END:VEVENT
BEGIN:VEVENT
DTSTART;TZID=America/Los_Angeles:20181021T080000
DTEND;TZID=America/Los_Angeles:20181021T170000
DTSTAMP:20260419T144544
CREATED:20180910T184251Z
LAST-MODIFIED:20180910T184251Z
UID:7454-1540108800-1540141200@soulofca.org
SUMMARY:Jazz at East Village Coffee Lounge
DESCRIPTION:Another venue\, where the locals go\, to find good music and good conversation. A revolving roster of local talent and often some brought in from the eager travelling troubadours. Come have some good java\, tasty goodies and let the world wander by. http://facebook.com/eastvillagemonterey
URL:https://soulofca.org/event/jazz-at-east-village-coffee-lounge-4/
LOCATION:East Village Coffee Lounge\, 498 Washington St.\, Monterey\, CA\, 93940\, United States
END:VEVENT
BEGIN:VEVENT
DTSTART;TZID=America/Los_Angeles:20181021T080000
DTEND;TZID=America/Los_Angeles:20181021T170000
DTSTAMP:20260419T144544
CREATED:20180910T184251Z
LAST-MODIFIED:20180910T184251Z
UID:12869-1540108800-1540141200@soulofca.org
SUMMARY:Jazz at East Village Coffee Lounge
DESCRIPTION:Another venue\, where the locals go\, to find good music and good conversation. A revolving roster of local talent and often some brought in from the eager travelling troubadours. Come have some good java\, tasty goodies and let the world wander by. http://facebook.com/eastvillagemonterey
URL:https://soulofca.org/event/jazz-at-east-village-coffee-lounge-4-2/
LOCATION:East Village Coffee Lounge\, 498 Washington St.\, Monterey\, CA\, 93940\, United States
END:VEVENT
BEGIN:VEVENT
DTSTART;TZID=America/Los_Angeles:20181021T110000
DTEND;TZID=America/Los_Angeles:20181021T143000
DTSTAMP:20260419T144544
CREATED:20181015T164824Z
LAST-MODIFIED:20181015T164855Z
UID:7700-1540119600-1540132200@soulofca.org
SUMMARY:Howl-O-Ween
DESCRIPTION:Let’s say you have a dog and let’s say you have a darling dog costume. Where do you go\, beside around your block\, to show them off? You go to the Carmel Plaza. Then enter the contest \, have a photo taken and remember this wonderful experience for a long time. You also think better of yourself because you benefited a local charity aiding families who can’t afford care for their beloved animal\, Max’s Helping Paws.  Wow!
URL:https://soulofca.org/event/howl-o-ween/
LOCATION:Carmel Plaza\, Ocean & Mission\, Carmel BTS\, CA\, United States
END:VEVENT
BEGIN:VEVENT
DTSTART;TZID=America/Los_Angeles:20181021T110000
DTEND;TZID=America/Los_Angeles:20181021T143000
DTSTAMP:20260419T144544
CREATED:20181015T164824Z
LAST-MODIFIED:20181015T164824Z
UID:12973-1540119600-1540132200@soulofca.org
SUMMARY:Howl-O-Ween
DESCRIPTION:Let’s say you have a dog and let’s say you have a darling dog costume. Where do you go\, beside around your block\, to show them off? You go to the Carmel Plaza. Then enter the contest \, have a photo taken and remember this wonderful experience for a long time. You also think better of yourself because you benefited a local charity aiding families who can’t afford care for their beloved animal\, Max’s Helping Paws.  Wow!
URL:https://soulofca.org/event/howl-o-ween-2/
LOCATION:Carmel Plaza\, Ocean & Mission\, Carmel BTS\, CA\, United States
END:VEVENT
BEGIN:VEVENT
DTSTART;TZID=America/Los_Angeles:20181021T110000
DTEND;TZID=America/Los_Angeles:20181021T170000
DTSTAMP:20260419T144544
CREATED:20181015T164258Z
LAST-MODIFIED:20181015T164258Z
UID:7697-1540119600-1540141200@soulofca.org
SUMMARY:Greenfield Harvest Festival
DESCRIPTION:Parade\, music\, dancing\, food\, art\, and a small town atmosphere add to the enjoyment of autumn here in South Monterey County. Come out and grab a slice of Americana\, and a piece of pie also. (Maybe pan dulce too.)
URL:https://soulofca.org/event/greenfield-harvest-festival/
LOCATION:Greenfield\, El Camino Real\, Greenfield\, CA\, 93927\, United States
END:VEVENT
BEGIN:VEVENT
DTSTART;TZID=America/Los_Angeles:20181021T110000
DTEND;TZID=America/Los_Angeles:20181021T170000
DTSTAMP:20260419T144544
CREATED:20181015T164258Z
LAST-MODIFIED:20181015T164258Z
UID:12972-1540119600-1540141200@soulofca.org
SUMMARY:Greenfield Harvest Festival
DESCRIPTION:Parade\, music\, dancing\, food\, art\, and a small town atmosphere add to the enjoyment of autumn here in South Monterey County. Come out and grab a slice of Americana\, and a piece of pie also. (Maybe pan dulce too.)
URL:https://soulofca.org/event/greenfield-harvest-festival-2/
LOCATION:Greenfield\, El Camino Real\, Greenfield\, CA\, 93927\, United States
END:VEVENT
BEGIN:VEVENT
DTSTART;TZID=America/Los_Angeles:20181021T173000
DTEND;TZID=America/Los_Angeles:20181021T200000
DTSTAMP:20260419T144544
CREATED:20181015T165753Z
LAST-MODIFIED:20181015T165753Z
UID:7704-1540143000-1540152000@soulofca.org
SUMMARY:Carmel Pops!
DESCRIPTION:The Forest Theater is hosting the performances by CHS’s many talented students. There will be the orchestra\, dancers\, and\, smaller groups performing. Bring warm clothes\, some hot chocolate\, and have a fun evening under the stars. Don’t forget to sit near the open fires.
URL:https://soulofca.org/event/carmel-pops/
LOCATION:Forest Theater\, Santa Rita & Mountain View\, Carmel by the Sea\, CA\, 93923\, United States
END:VEVENT
BEGIN:VEVENT
DTSTART;TZID=America/Los_Angeles:20181021T173000
DTEND;TZID=America/Los_Angeles:20181021T200000
DTSTAMP:20260419T144544
CREATED:20181015T165753Z
LAST-MODIFIED:20181015T165753Z
UID:12974-1540143000-1540152000@soulofca.org
SUMMARY:Carmel Pops!
DESCRIPTION:The Forest Theater is hosting the performances by CHS’s many talented students. There will be the orchestra\, dancers\, and\, smaller groups performing. Bring warm clothes\, some hot chocolate\, and have a fun evening under the stars. Don’t forget to sit near the open fires.
URL:https://soulofca.org/event/carmel-pops-4/
LOCATION:Forest Theater\, Santa Rita & Mountain View\, Carmel by the Sea\, CA\, 93923\, United States
END:VEVENT
BEGIN:VEVENT
DTSTART;TZID=America/Los_Angeles:20181021T193000
DTEND;TZID=America/Los_Angeles:20181021T220000
DTSTAMP:20260419T144544
CREATED:20181008T200905Z
LAST-MODIFIED:20181008T200905Z
UID:7641-1540150200-1540159200@soulofca.org
SUMMARY:Subhasis Bhattachaya
DESCRIPTION:The master of the slide guitar\, Subhasis\, and his sitar playing friends\, also masters of their instruments\, will be presenting an evening of their virtuosity. This will be an evening of outstanding picking\, no doubt. http://kuumbwa.org
URL:https://soulofca.org/event/subhasis-bhattachaya/
LOCATION:Kuumbwa Jazz Center\, 320 Cedar St.\, Santa Cruz\, CA\, 95060\, United States
END:VEVENT
BEGIN:VEVENT
DTSTART;TZID=America/Los_Angeles:20181021T193000
DTEND;TZID=America/Los_Angeles:20181021T220000
DTSTAMP:20260419T144544
CREATED:20181008T200905Z
LAST-MODIFIED:20181008T200905Z
UID:12948-1540150200-1540159200@soulofca.org
SUMMARY:Subhasis Bhattachaya
DESCRIPTION:The master of the slide guitar\, Subhasis\, and his sitar playing friends\, also masters of their instruments\, will be presenting an evening of their virtuosity. This will be an evening of outstanding picking\, no doubt. http://kuumbwa.org
URL:https://soulofca.org/event/subhasis-bhattachaya-2/
LOCATION:Kuumbwa Jazz Center\, 320 Cedar St.\, Santa Cruz\, CA\, 95060\, United States
END:VEVENT
BEGIN:VEVENT
DTSTART;TZID=America/Los_Angeles:20181022T180000
DTEND;TZID=America/Los_Angeles:20181022T203000
DTSTAMP:20260419T144544
CREATED:20180924T221614Z
LAST-MODIFIED:20180924T221614Z
UID:7572-1540231200-1540240200@soulofca.org
SUMMARY:A Boy's Life
DESCRIPTION:As part of the Big Read program residents of the Salinas area are reading Tobias Wolf’s book “A Boy’s Life”. Supplementing this effort the Steinbeck Center is also presenting different films which will also portray a view of childhood and the traumas sometimes associated with growing up. http://steinbeck.org This week is the book that has been under revies and discussion\,”A Boy’s Life”.
URL:https://soulofca.org/event/a-boys-life/
LOCATION:Maya Cinema\, City Center 1 Main St.\, Salinas\, CA\, 93901\, United States
END:VEVENT
BEGIN:VEVENT
DTSTART;TZID=America/Los_Angeles:20181022T180000
DTEND;TZID=America/Los_Angeles:20181022T203000
DTSTAMP:20260419T144544
CREATED:20180924T221614Z
LAST-MODIFIED:20180924T221614Z
UID:12920-1540231200-1540240200@soulofca.org
SUMMARY:A Boy's Life
DESCRIPTION:As part of the Big Read program residents of the Salinas area are reading Tobias Wolf’s book “A Boy’s Life”. Supplementing this effort the Steinbeck Center is also presenting different films which will also portray a view of childhood and the traumas sometimes associated with growing up. http://steinbeck.org This week is the book that has been under revies and discussion\,”A Boy’s Life”.
URL:https://soulofca.org/event/a-boys-life-2/
LOCATION:Maya Cinema\, City Center 1 Main St.\, Salinas\, CA\, 93901\, United States
END:VEVENT
BEGIN:VEVENT
DTSTART;TZID=America/Los_Angeles:20181022T200000
DTEND;TZID=America/Los_Angeles:20181022T220000
DTSTAMP:20260419T144544
CREATED:20180827T181325Z
LAST-MODIFIED:20180827T181325Z
UID:7399-1540238400-1540245600@soulofca.org
SUMMARY:Ty Segall
DESCRIPTION:Come to the Rio Theatre and see and listen to this interesting and compelling singer/songwriter. http://riotheatre.com
URL:https://soulofca.org/event/ty-segall/
LOCATION:Rio Theater\, 1205 Soquel Ave.\, Santa Cruz\, CA\, 95062\, United States
END:VEVENT
BEGIN:VEVENT
DTSTART;TZID=America/Los_Angeles:20181022T200000
DTEND;TZID=America/Los_Angeles:20181022T220000
DTSTAMP:20260419T144544
CREATED:20180827T181325Z
LAST-MODIFIED:20180827T181325Z
UID:12845-1540238400-1540245600@soulofca.org
SUMMARY:Ty Segall
DESCRIPTION:Come to the Rio Theatre and see and listen to this interesting and compelling singer/songwriter. http://riotheatre.com
URL:https://soulofca.org/event/ty-segall-2/
LOCATION:Rio Theater\, 1205 Soquel Ave.\, Santa Cruz\, CA\, 95062\, United States
END:VEVENT
BEGIN:VEVENT
DTSTART;TZID=America/Los_Angeles:20181024T180000
DTEND;TZID=America/Los_Angeles:20181024T200000
DTSTAMP:20260419T144544
CREATED:20181014T190212Z
LAST-MODIFIED:20181014T190212Z
UID:7689-1540404000-1540411200@soulofca.org
SUMMARY:Organ and Cello Tryst
DESCRIPTION:An unlikely pairing but with its very own charm\, as evidenced by the acclaim which has followed this pair of musicians. Julian Collings and Rebecca Hepplewhite bring virtuosity and a great sense of cooperation to their music. http://stdcv.org
URL:https://soulofca.org/event/organ-and-cello-tryst/
LOCATION:St. Dunstan’s Episcopal Church\, 28005 Robinson Canyon Rd.\, Carmel\, CA\, 93923\, United States
END:VEVENT
BEGIN:VEVENT
DTSTART;TZID=America/Los_Angeles:20181024T180000
DTEND;TZID=America/Los_Angeles:20181024T200000
DTSTAMP:20260419T144544
CREATED:20181014T190212Z
LAST-MODIFIED:20181014T190212Z
UID:12968-1540404000-1540411200@soulofca.org
SUMMARY:Organ and Cello Tryst
DESCRIPTION:An unlikely pairing but with its very own charm\, as evidenced by the acclaim which has followed this pair of musicians. Julian Collings and Rebecca Hepplewhite bring virtuosity and a great sense of cooperation to their music. http://stdcv.org
URL:https://soulofca.org/event/organ-and-cello-tryst-2/
LOCATION:St. Dunstan’s Episcopal Church\, 28005 Robinson Canyon Rd.\, Carmel\, CA\, 93923\, United States
END:VEVENT
BEGIN:VEVENT
DTSTART;TZID=America/Los_Angeles:20181025T170000
DTEND;TZID=America/Los_Angeles:20181025T200000
DTSTAMP:20260419T144544
CREATED:20181012T220014Z
LAST-MODIFIED:20181012T220140Z
UID:7656-1540486800-1540497600@soulofca.org
SUMMARY:Central Coast Cheese and Wine Celebration
DESCRIPTION:In order to preserve the resources of our beautiful place these folks have banded together to present some really good reasons for their concern. They are focusing on really good eats from our local farmers\, vintners\, and ranchers. This is the best place to be a localvore. (Go ahead\, look it up. I’ll wait.)  http://rcdmonterey.org
URL:https://soulofca.org/event/central-coast-cheese-and-wine-celebration/
LOCATION:Happy Girl Kitchen\, 173 Central Ave.\, Pacific Grove\, CA\, 93950\, United States
END:VEVENT
BEGIN:VEVENT
DTSTART;TZID=America/Los_Angeles:20181025T170000
DTEND;TZID=America/Los_Angeles:20181025T200000
DTSTAMP:20260419T144544
CREATED:20181012T220014Z
LAST-MODIFIED:20181012T220014Z
UID:12955-1540486800-1540497600@soulofca.org
SUMMARY:Central Coast Cheese and Wine Celebration
DESCRIPTION:In order to preserve the resources of our beautiful place these folks have banded together to present some really good reasons for their concern. They are focusing on really good eats from our local farmers\, vintners\, and ranchers. This is the best place to be a localvore. (Go ahead\, look it up. I’ll wait.)  http://rcdmonterey.org
URL:https://soulofca.org/event/central-coast-cheese-and-wine-celebration-2/
LOCATION:Happy Girl Kitchen\, 173 Central Ave.\, Pacific Grove\, CA\, 93950\, United States
END:VEVENT
BEGIN:VEVENT
DTSTART;TZID=America/Los_Angeles:20181026T090000
DTEND;TZID=America/Los_Angeles:20181028T170000
DTSTAMP:20260419T144545
CREATED:20180219T183240Z
LAST-MODIFIED:20180219T183240Z
UID:5618-1540544400-1540746000@soulofca.org
SUMMARY:Pirelli World Challenge
DESCRIPTION:Just as things start getting a little chilly around here the car enthusiasts like to bring back a piece of summer. Then the Pirelli Challenge brings their cohort of teams and cars to liven things up. The great curves and challenges of Laguna Seca bring out their best in this part of their international championship season.
URL:https://soulofca.org/event/pirelli-world-challenge/
LOCATION:Mazda Laguna Seca Raceway\, 1021 Monterey-Salinas Highway\, Salinas\, CA\, 93908\, United States
END:VEVENT
BEGIN:VEVENT
DTSTART;TZID=America/Los_Angeles:20181026T090000
DTEND;TZID=America/Los_Angeles:20181028T170000
DTSTAMP:20260419T144545
CREATED:20180219T183240Z
LAST-MODIFIED:20180219T183240Z
UID:12251-1540544400-1540746000@soulofca.org
SUMMARY:Pirelli World Challenge
DESCRIPTION:Just as things start getting a little chilly around here the car enthusiasts like to bring back a piece of summer. Then the Pirelli Challenge brings their cohort of teams and cars to liven things up. The great curves and challenges of Laguna Seca bring out their best in this part of their international championship season.
URL:https://soulofca.org/event/pirelli-world-challenge-2/
LOCATION:Mazda Laguna Seca Raceway\, 1021 Monterey-Salinas Highway\, Salinas\, CA\, 93908\, United States
END:VEVENT
BEGIN:VEVENT
DTSTART;TZID=America/Los_Angeles:20181026T170000
DTEND;TZID=America/Los_Angeles:20181026T210000
DTSTAMP:20260419T144545
CREATED:20181012T221358Z
LAST-MODIFIED:20181012T221358Z
UID:7659-1540573200-1540587600@soulofca.org
SUMMARY:Zombie Prom
DESCRIPTION:Seaside is the place for zombies to see and be seen. At least for this event. Otherwise\, find a different place to find edible brains. The 600 block of Broadway is the place to be for this event. If you are the checking in sort of person you will want to go to 656 Broadway to do that. Call 831-899-6734 or 831-899-6800 for details.
URL:https://soulofca.org/event/zombie-prom/
LOCATION:Seaside\, 656 Broadway\, Seaside\, CA\, 93955\, United States
END:VEVENT
BEGIN:VEVENT
DTSTART;TZID=America/Los_Angeles:20181026T170000
DTEND;TZID=America/Los_Angeles:20181026T210000
DTSTAMP:20260419T144545
CREATED:20181012T221358Z
LAST-MODIFIED:20181012T221358Z
UID:12956-1540573200-1540587600@soulofca.org
SUMMARY:Zombie Prom
DESCRIPTION:Seaside is the place for zombies to see and be seen. At least for this event. Otherwise\, find a different place to find edible brains. The 600 block of Broadway is the place to be for this event. If you are the checking in sort of person you will want to go to 656 Broadway to do that. Call 831-899-6734 or 831-899-6800 for details.
URL:https://soulofca.org/event/zombie-prom-2/
LOCATION:Seaside\, 656 Broadway\, Seaside\, CA\, 93955\, United States
END:VEVENT
BEGIN:VEVENT
DTSTART;TZID=America/Los_Angeles:20181026T200000
DTEND;TZID=America/Los_Angeles:20181026T220000
DTSTAMP:20260419T144545
CREATED:20180827T181914Z
LAST-MODIFIED:20180827T181914Z
UID:7401-1540584000-1540591200@soulofca.org
SUMMARY:Jesse Colin Young
DESCRIPTION:You may remember the Youngbloods. This is the person who named that band. Now\, still singing and writing\, Jesse has come to present his work to us here on the Central Coast. http://riotheatre.com
URL:https://soulofca.org/event/jesse-colin-young/
LOCATION:Rio Theater\, 1205 Soquel Ave.\, Santa Cruz\, CA\, 95062\, United States
END:VEVENT
BEGIN:VEVENT
DTSTART;TZID=America/Los_Angeles:20181026T200000
DTEND;TZID=America/Los_Angeles:20181026T220000
DTSTAMP:20260419T144545
CREATED:20180827T181914Z
LAST-MODIFIED:20180827T181914Z
UID:12846-1540584000-1540591200@soulofca.org
SUMMARY:Jesse Colin Young
DESCRIPTION:You may remember the Youngbloods. This is the person who named that band. Now\, still singing and writing\, Jesse has come to present his work to us here on the Central Coast. http://riotheatre.com
URL:https://soulofca.org/event/jesse-colin-young-2/
LOCATION:Rio Theater\, 1205 Soquel Ave.\, Santa Cruz\, CA\, 95062\, United States
END:VEVENT
BEGIN:VEVENT
DTSTART;TZID=America/Los_Angeles:20181027T110000
DTEND;TZID=America/Los_Angeles:20181027T140000
DTSTAMP:20260419T144545
CREATED:20181012T221922Z
LAST-MODIFIED:20181012T221957Z
UID:7662-1540638000-1540648800@soulofca.org
SUMMARY:Carmel 102nd Parade\,Birthday Party\, and Street Dance
DESCRIPTION:That’s a lot of title for a street Party that coincides with Halloween. But for good reason\, Carmel has a lot to celebrate this day. It’s their Birthday! After its incorporation on Halloween\, 1916\, Carmel started partying. Some say they haven’t actually stopped. (Except for Zoning Commission meetings.) It all happens on Ocean Ave.; near Mission is a good place to begin.
URL:https://soulofca.org/event/carmel-102nd-paradebirthday-party-and-street-dance/
LOCATION:Carmel by The Sea\, Carmel BTS\, CA\, 93921\, United States
END:VEVENT
BEGIN:VEVENT
DTSTART;TZID=America/Los_Angeles:20181027T110000
DTEND;TZID=America/Los_Angeles:20181027T140000
DTSTAMP:20260419T144545
CREATED:20181012T221922Z
LAST-MODIFIED:20181012T221922Z
UID:12957-1540638000-1540648800@soulofca.org
SUMMARY:Carmel 102nd Parade\,Birthday Party\, and Street Dance
DESCRIPTION:That’s a lot of title for a street Party that coincides with Halloween. But for good reason\, Carmel has a lot to celebrate this day. It’s their Birthday! After its incorporation on Halloween\, 1916\, Carmel started partying. Some say they haven’t actually stopped. (Except for Zoning Commission meetings.) It all happens on Ocean Ave.; near Mission is a good place to begin.
URL:https://soulofca.org/event/carmel-102nd-paradebirthday-party-and-street-dance-2/
LOCATION:Carmel by The Sea\, Carmel BTS\, CA\, 93921\, United States
END:VEVENT
BEGIN:VEVENT
DTSTART;TZID=America/Los_Angeles:20181027T160000
DTEND;TZID=America/Los_Angeles:20181027T190000
DTSTAMP:20260419T144545
CREATED:20181012T222726Z
LAST-MODIFIED:20181012T222726Z
UID:7665-1540656000-1540666800@soulofca.org
SUMMARY:Evening of Mystery
DESCRIPTION:If you like to solve interesting problems but lack the need to do it in an “escape room” here’s a possibility. Get dressed up\, go to Joullian Winery. They are having a mystery night and you can walk out. But who would want to? All those glamorous people and wine will make it too tempting to stay. http://joullian.com
URL:https://soulofca.org/event/evening-of-mystery/
LOCATION:joullian winery\, 2 Village Dr.\, Carmel Village\, CA\, 93924\, United States
END:VEVENT
BEGIN:VEVENT
DTSTART;TZID=America/Los_Angeles:20181027T160000
DTEND;TZID=America/Los_Angeles:20181027T190000
DTSTAMP:20260419T144545
CREATED:20181012T222726Z
LAST-MODIFIED:20181012T222726Z
UID:12958-1540656000-1540666800@soulofca.org
SUMMARY:Evening of Mystery
DESCRIPTION:If you like to solve interesting problems but lack the need to do it in an “escape room” here’s a possibility. Get dressed up\, go to Joullian Winery. They are having a mystery night and you can walk out. But who would want to? All those glamorous people and wine will make it too tempting to stay. http://joullian.com
URL:https://soulofca.org/event/evening-of-mystery-2/
LOCATION:joullian winery\, 2 Village Dr.\, Carmel Village\, CA\, 93924\, United States
END:VEVENT
END:VCALENDAR