BEGIN:VCALENDAR
VERSION:2.0
PRODID:-//Soul of CA - ECPv6.15.17//NONSGML v1.0//EN
CALSCALE:GREGORIAN
METHOD:PUBLISH
X-WR-CALNAME:Soul of CA
X-ORIGINAL-URL:https://soulofca.org
X-WR-CALDESC:Events for Soul of CA
REFRESH-INTERVAL;VALUE=DURATION:PT1H
X-Robots-Tag:noindex
X-PUBLISHED-TTL:PT1H
BEGIN:VTIMEZONE
TZID:America/Los_Angeles
BEGIN:DAYLIGHT
TZOFFSETFROM:-0800
TZOFFSETTO:-0700
TZNAME:PDT
DTSTART:20160313T100000
END:DAYLIGHT
BEGIN:STANDARD
TZOFFSETFROM:-0700
TZOFFSETTO:-0800
TZNAME:PST
DTSTART:20161106T090000
END:STANDARD
BEGIN:DAYLIGHT
TZOFFSETFROM:-0800
TZOFFSETTO:-0700
TZNAME:PDT
DTSTART:20170312T100000
END:DAYLIGHT
BEGIN:STANDARD
TZOFFSETFROM:-0700
TZOFFSETTO:-0800
TZNAME:PST
DTSTART:20171105T090000
END:STANDARD
BEGIN:DAYLIGHT
TZOFFSETFROM:-0800
TZOFFSETTO:-0700
TZNAME:PDT
DTSTART:20180311T100000
END:DAYLIGHT
BEGIN:STANDARD
TZOFFSETFROM:-0700
TZOFFSETTO:-0800
TZNAME:PST
DTSTART:20181104T090000
END:STANDARD
END:VTIMEZONE
BEGIN:VEVENT
DTSTART;TZID=America/Los_Angeles:20170813T073000
DTEND;TZID=America/Los_Angeles:20170813T120000
DTSTAMP:20260423T105327
CREATED:20170724T184933Z
LAST-MODIFIED:20170724T184951Z
UID:4393-1502609400-1502625600@soulofca.org
SUMMARY:VFW Pancake Breakfast
DESCRIPTION:Bet you can figure out what  this is. The morning of the BIG Antique Fair you can carb load for a long day of shopping. $8.00 for your breakfast of pancakes\, eggs\, sausage\, potatoes\, and the typical beverages. As a special incentive to shoppers everywhere there will also be mimosas at a no-host bar.    Proceeds benefit the VFW programs supporting our veterans.
URL:https://soulofca.org/event/vfw-pancake-breakfast/
LOCATION:VFW Hall\, 58 Monterey Rd. \, San Juan Bautista\, CA\, United States
END:VEVENT
BEGIN:VEVENT
DTSTART;TZID=America/Los_Angeles:20170813T073000
DTEND;TZID=America/Los_Angeles:20170813T120000
DTSTAMP:20260423T105327
CREATED:20170724T184933Z
LAST-MODIFIED:20170724T184933Z
UID:11916-1502609400-1502625600@soulofca.org
SUMMARY:VFW Pancake Breakfast
DESCRIPTION:Bet you can figure out what  this is. The morning of the BIG Antique Fair you can carb load for a long day of shopping. $8.00 for your breakfast of pancakes\, eggs\, sausage\, potatoes\, and the typical beverages. As a special incentive to shoppers everywhere there will also be mimosas at a no-host bar.    Proceeds benefit the VFW programs supporting our veterans.
URL:https://soulofca.org/event/vfw-pancake-breakfast-2/
LOCATION:VFW Hall\, 58 Monterey Rd. \, San Juan Bautista\, CA\, United States
END:VEVENT
BEGIN:VEVENT
DTSTART;TZID=America/Los_Angeles:20170812T200000
DTEND;TZID=America/Los_Angeles:20170813T030000
DTSTAMP:20260423T105327
CREATED:20170515T210426Z
LAST-MODIFIED:20170515T210426Z
UID:3691-1502568000-1502593200@soulofca.org
SUMMARY:Fremont Peak Observatory
DESCRIPTION:A variety of dates to observe the myriad wonders of the sky. A highlight is the Perseid meteor shower around the 11th of August. Sponsored by the Fremont Peak Observatory Association. Much more info and dates available at their website.
URL:https://soulofca.org/event/fremont-peak-observatory/
LOCATION:Fremont Peak State Park\, San Juan Bautista\, San Juan Bautista\, CA\, 95045\, United States
END:VEVENT
BEGIN:VEVENT
DTSTART;TZID=America/Los_Angeles:20170812T200000
DTEND;TZID=America/Los_Angeles:20170813T030000
DTSTAMP:20260423T105327
CREATED:20170515T210426Z
LAST-MODIFIED:20170515T210426Z
UID:11726-1502568000-1502593200@soulofca.org
SUMMARY:Fremont Peak Observatory
DESCRIPTION:A variety of dates to observe the myriad wonders of the sky. A highlight is the Perseid meteor shower around the 11th of August. Sponsored by the Fremont Peak Observatory Association. Much more info and dates available at their website.
URL:https://soulofca.org/event/fremont-peak-observatory-2/
LOCATION:Fremont Peak State Park\, San Juan Bautista\, San Juan Bautista\, CA\, 95045\, United States
END:VEVENT
BEGIN:VEVENT
DTSTART;TZID=America/Los_Angeles:20170812T200000
DTEND;TZID=America/Los_Angeles:20170812T230000
DTSTAMP:20260423T105327
CREATED:20170515T213805Z
LAST-MODIFIED:20170515T213805Z
UID:3720-1502568000-1502578800@soulofca.org
SUMMARY:Fremont Peak Observatory FPOA
DESCRIPTION:A variety of dates available to use the “Challenger” telescope and often the telescopes of the members to view the wonders of the night (even daytime) sky.
URL:https://soulofca.org/event/fremont-peak-observatory-fpoa-8/
LOCATION:Fremont Peak Park\, San Juan Bautisita\, CA\, 95045\, United States
END:VEVENT
BEGIN:VEVENT
DTSTART;TZID=America/Los_Angeles:20170812T200000
DTEND;TZID=America/Los_Angeles:20170812T230000
DTSTAMP:20260423T105327
CREATED:20170515T213805Z
LAST-MODIFIED:20170515T213805Z
UID:11734-1502568000-1502578800@soulofca.org
SUMMARY:Fremont Peak Observatory FPOA
DESCRIPTION:A variety of dates available to use the “Challenger” telescope and often the telescopes of the members to view the wonders of the night (even daytime) sky.
URL:https://soulofca.org/event/fremont-peak-observatory-fpoa-8-2/
LOCATION:Fremont Peak Park\, San Juan Bautisita\, CA\, 95045\, United States
END:VEVENT
BEGIN:VEVENT
DTSTART;TZID=America/Los_Angeles:20170812T200000
DTEND;TZID=America/Los_Angeles:20170812T220000
DTSTAMP:20260423T105327
CREATED:20170710T174608Z
LAST-MODIFIED:20170710T174608Z
UID:4195-1502568000-1502575200@soulofca.org
SUMMARY:Asleep at the Wheel
DESCRIPTION:If you like your music as big as Texas and with a wry sense of humor you need to be here seeing and enjoying this band. Not only do they have a great name but their music is lively and great to do a Texas two-step to.
URL:https://soulofca.org/event/asleep-at-the-wheel/
LOCATION:Carmel Sunset Center
END:VEVENT
BEGIN:VEVENT
DTSTART;TZID=America/Los_Angeles:20170812T200000
DTEND;TZID=America/Los_Angeles:20170812T220000
DTSTAMP:20260423T105327
CREATED:20170710T174608Z
LAST-MODIFIED:20170710T174608Z
UID:11853-1502568000-1502575200@soulofca.org
SUMMARY:Asleep at the Wheel
DESCRIPTION:If you like your music as big as Texas and with a wry sense of humor you need to be here seeing and enjoying this band. Not only do they have a great name but their music is lively and great to do a Texas two-step to.
URL:https://soulofca.org/event/asleep-at-the-wheel-2/
LOCATION:Carmel Sunset Center
END:VEVENT
BEGIN:VEVENT
DTSTART;TZID=America/Los_Angeles:20170812T200000
DTEND;TZID=America/Los_Angeles:20170812T220000
DTSTAMP:20260423T105327
CREATED:20170529T175415Z
LAST-MODIFIED:20170612T191602Z
UID:3868-1502568000-1502575200@soulofca.org
SUMMARY:Bobby Bones
DESCRIPTION:You know him from his popular radio program which is on more than 100 stations around the country. He has also written a popular humor book and has come to share his insights about life with us here at the lovely Golden State Theater.
URL:https://soulofca.org/event/bobby-bones/
LOCATION:Golden State Theater\, 417 Alvarado St.\, Monterey\, CA\, 93940\, United States
END:VEVENT
BEGIN:VEVENT
DTSTART;TZID=America/Los_Angeles:20170812T200000
DTEND;TZID=America/Los_Angeles:20170812T220000
DTSTAMP:20260423T105327
CREATED:20170529T175415Z
LAST-MODIFIED:20170529T175415Z
UID:11771-1502568000-1502575200@soulofca.org
SUMMARY:Bobby Bones
DESCRIPTION:You know him from his popular radio program which is on more than 100 stations around the country. He has also written a popular humor book and has come to share his insights about life with us here at the lovely Golden State Theater.
URL:https://soulofca.org/event/bobby-bones-2/
LOCATION:Golden State Theater\, 417 Alvarado St.\, Monterey\, CA\, 93940\, United States
END:VEVENT
BEGIN:VEVENT
DTSTART;TZID=America/Los_Angeles:20170812T140000
DTEND;TZID=America/Los_Angeles:20170812T160000
DTSTAMP:20260423T105327
CREATED:20170708T171149Z
LAST-MODIFIED:20170708T171149Z
UID:4162-1502546400-1502553600@soulofca.org
SUMMARY:Snake Park Saturdays
DESCRIPTION:I bet you can guess what the theme of these hikes and presentations is.  Come on down and learn fun stuff about this ancient animal group\, especially the ones that share this lovely area with us. Bring a curious mind and leave your fears at home.  The ranger station is a short hike from the parking lot at Waddell Beach.
URL:https://soulofca.org/event/snake-park-saturdays-2/
LOCATION:Ranger Station\, Big Basin Redwoods State Park\, CA\, United States
END:VEVENT
BEGIN:VEVENT
DTSTART;TZID=America/Los_Angeles:20170812T140000
DTEND;TZID=America/Los_Angeles:20170812T160000
DTSTAMP:20260423T105327
CREATED:20170708T171149Z
LAST-MODIFIED:20170708T171149Z
UID:11843-1502546400-1502553600@soulofca.org
SUMMARY:Snake Park Saturdays
DESCRIPTION:I bet you can guess what the theme of these hikes and presentations is.  Come on down and learn fun stuff about this ancient animal group\, especially the ones that share this lovely area with us. Bring a curious mind and leave your fears at home.  The ranger station is a short hike from the parking lot at Waddell Beach.
URL:https://soulofca.org/event/snake-park-saturdays-2-2/
LOCATION:Ranger Station\, Big Basin Redwoods State Park\, CA\, United States
END:VEVENT
BEGIN:VEVENT
DTSTART;TZID=America/Los_Angeles:20170812T100000
DTEND;TZID=America/Los_Angeles:20170812T140000
DTSTAMP:20260423T105327
CREATED:20170717T175035Z
LAST-MODIFIED:20170717T175035Z
UID:4281-1502532000-1502546400@soulofca.org
SUMMARY:Old Town Farmers' Market
DESCRIPTION:Every week local farmers and small business people gather to offer a tasty and nutritious spread of foods\, prepared or straight from the fields. Others offer a variety of goods for sale. Either way good bargains on great products are here for your perusal. Come down and get to know what’s happening\, seasons change and merchants are always offering something new.
URL:https://soulofca.org/event/old-town-farmers-market-4/
LOCATION:Old Town Farmers’ Market\, Main and Gabilan Sts. \, Salinas \, CA\, United States
END:VEVENT
BEGIN:VEVENT
DTSTART;TZID=America/Los_Angeles:20170812T100000
DTEND;TZID=America/Los_Angeles:20170812T140000
DTSTAMP:20260423T105327
CREATED:20170717T175035Z
LAST-MODIFIED:20170717T175035Z
UID:11875-1502532000-1502546400@soulofca.org
SUMMARY:Old Town Farmers' Market
DESCRIPTION:Every week local farmers and small business people gather to offer a tasty and nutritious spread of foods\, prepared or straight from the fields. Others offer a variety of goods for sale. Either way good bargains on great products are here for your perusal. Come down and get to know what’s happening\, seasons change and merchants are always offering something new.
URL:https://soulofca.org/event/old-town-farmers-market-4-2/
LOCATION:Old Town Farmers’ Market\, Main and Gabilan Sts. \, Salinas \, CA\, United States
END:VEVENT
BEGIN:VEVENT
DTSTART;TZID=America/Los_Angeles:20170811T190000
DTEND;TZID=America/Los_Angeles:20170811T220000
DTSTAMP:20260423T105327
CREATED:20170703T190853Z
LAST-MODIFIED:20170703T190853Z
UID:4138-1502478000-1502488800@soulofca.org
SUMMARY:Melanie
DESCRIPTION:A Summer of Love concert featuring the sixties icon Melanie (“I’ve got a Brand New Pair of Roller Skates”) She is playing with the Dan Beck Band. Downtown Salinas at the historic Fox Theater. Wear some tie dye clothing and a groovy headband. Be sure to put a flower in your hair.  Benefits Dorothy’s Place’s “Women Alive” program that offers shelter to homeless women. Doors open earlier.
URL:https://soulofca.org/event/melanie/
LOCATION:Fow Theater\, 241 Main St.\, Salinas \, CA\, United States
END:VEVENT
BEGIN:VEVENT
DTSTART;TZID=America/Los_Angeles:20170811T190000
DTEND;TZID=America/Los_Angeles:20170811T220000
DTSTAMP:20260423T105327
CREATED:20170703T190853Z
LAST-MODIFIED:20170703T190853Z
UID:11836-1502478000-1502488800@soulofca.org
SUMMARY:Melanie
DESCRIPTION:A Summer of Love concert featuring the sixties icon Melanie (“I’ve got a Brand New Pair of Roller Skates”) She is playing with the Dan Beck Band. Downtown Salinas at the historic Fox Theater. Wear some tie dye clothing and a groovy headband. Be sure to put a flower in your hair.  Benefits Dorothy’s Place’s “Women Alive” program that offers shelter to homeless women. Doors open earlier.
URL:https://soulofca.org/event/melanie-2/
LOCATION:Fow Theater\, 241 Main St.\, Salinas \, CA\, United States
END:VEVENT
BEGIN:VEVENT
DTSTART;TZID=America/Los_Angeles:20170811T183000
DTEND;TZID=America/Los_Angeles:20170811T220000
DTSTAMP:20260423T105327
CREATED:20170807T184432Z
LAST-MODIFIED:20170807T184432Z
UID:4504-1502476200-1502488800@soulofca.org
SUMMARY:Boardwalk Concert Series Pablo Cruise
DESCRIPTION:Tonight’s band \, Pablo Cruise\, will present their songs and certainly are going to play “Love Will Find a Way” Their chart topper from the 70’s.  Come down\, hear some great tunes and enjoy the sunset at the Boardwalk. Two shows\, first at 6:30 and second at 8:30.
URL:https://soulofca.org/event/boardwalk-concert-series-pablo-cruise/
LOCATION:Santa Cruz Beach Boardwalk\, 400 Beach St.\, Santa Cruz\, CA\, United States
END:VEVENT
BEGIN:VEVENT
DTSTART;TZID=America/Los_Angeles:20170811T183000
DTEND;TZID=America/Los_Angeles:20170811T220000
DTSTAMP:20260423T105327
CREATED:20170807T184432Z
LAST-MODIFIED:20170807T184432Z
UID:11946-1502476200-1502488800@soulofca.org
SUMMARY:Boardwalk Concert Series Pablo Cruise
DESCRIPTION:Tonight’s band \, Pablo Cruise\, will present their songs and certainly are going to play “Love Will Find a Way” Their chart topper from the 70’s.  Come down\, hear some great tunes and enjoy the sunset at the Boardwalk. Two shows\, first at 6:30 and second at 8:30.
URL:https://soulofca.org/event/boardwalk-concert-series-pablo-cruise-2/
LOCATION:Santa Cruz Beach Boardwalk\, 400 Beach St.\, Santa Cruz\, CA\, United States
END:VEVENT
BEGIN:VEVENT
DTSTART;TZID=America/Los_Angeles:20170811T180000
DTEND;TZID=America/Los_Angeles:20170811T200000
DTSTAMP:20260423T105327
CREATED:20170619T172614Z
LAST-MODIFIED:20170619T172614Z
UID:3999-1502474400-1502481600@soulofca.org
SUMMARY:Freedom Live
DESCRIPTION:An occasional celebration of Christian music and belief\, and a free dinner. Dinner at 6:00 and music to follow at 7:00.
URL:https://soulofca.org/event/freedom-live-2/
LOCATION:Monterey County Fairgrounds\, 2004 Fairground Rd.\, Monterey\, CA\, 93940\, United States
END:VEVENT
BEGIN:VEVENT
DTSTART;TZID=America/Los_Angeles:20170811T180000
DTEND;TZID=America/Los_Angeles:20170811T200000
DTSTAMP:20260423T105327
CREATED:20170619T172614Z
LAST-MODIFIED:20170619T172614Z
UID:11801-1502474400-1502481600@soulofca.org
SUMMARY:Freedom Live
DESCRIPTION:An occasional celebration of Christian music and belief\, and a free dinner. Dinner at 6:00 and music to follow at 7:00.
URL:https://soulofca.org/event/freedom-live-2-2/
LOCATION:Monterey County Fairgrounds\, 2004 Fairground Rd.\, Monterey\, CA\, 93940\, United States
END:VEVENT
BEGIN:VEVENT
DTSTART;TZID=America/Los_Angeles:20170811T173000
DTEND;TZID=America/Los_Angeles:20170813T220000
DTSTAMP:20260423T105327
CREATED:20170604T203740Z
LAST-MODIFIED:20170604T203740Z
UID:3910-1502472600-1502661600@soulofca.org
SUMMARY:California Beer Festival Santa Cruz County
DESCRIPTION:Guess what? Lots of beer and edible stuff that combines well with beer. Many makers\, brewers\, and distributors of the oldest brewed alcohol humans have indulged in. Come and see why.
URL:https://soulofca.org/event/california-beer-festival-santa-cruz-county/
LOCATION:Aptos Village Park\, 100 Aptos Creek Rd.\, Aptos\, CA\, 95003\, United States
END:VEVENT
BEGIN:VEVENT
DTSTART;TZID=America/Los_Angeles:20170811T173000
DTEND;TZID=America/Los_Angeles:20170813T220000
DTSTAMP:20260423T105327
CREATED:20170604T203740Z
LAST-MODIFIED:20170604T203740Z
UID:11782-1502472600-1502661600@soulofca.org
SUMMARY:California Beer Festival Santa Cruz County
DESCRIPTION:Guess what? Lots of beer and edible stuff that combines well with beer. Many makers\, brewers\, and distributors of the oldest brewed alcohol humans have indulged in. Come and see why.
URL:https://soulofca.org/event/california-beer-festival-santa-cruz-county-2/
LOCATION:Aptos Village Park\, 100 Aptos Creek Rd.\, Aptos\, CA\, 95003\, United States
END:VEVENT
BEGIN:VEVENT
DTSTART;TZID=America/Los_Angeles:20170811T133000
DTEND;TZID=America/Los_Angeles:20170811T173000
DTSTAMP:20260423T105327
CREATED:20170717T174707Z
LAST-MODIFIED:20170717T174707Z
UID:4279-1502458200-1502472600@soulofca.org
SUMMARY:Salinas Memorial Hospital Farmers' Market
DESCRIPTION:Every week local farmers and small business people gather to offer a tasty and nutritious spread of foods\, prepared or straight from the fields. Others offer a variety of goods for sale. Either way good bargains on great products are here for your perusal. Come down and get to know what’s happening\, seasons change and merchants are always offering something new.
URL:https://soulofca.org/event/salinas-memorial-hospital-farmers-market/
LOCATION:Salinas Valley Memorial Hospital\, Romie Lane \, Salinas \, CA\, United States
END:VEVENT
BEGIN:VEVENT
DTSTART;TZID=America/Los_Angeles:20170811T133000
DTEND;TZID=America/Los_Angeles:20170811T173000
DTSTAMP:20260423T105327
CREATED:20170717T174707Z
LAST-MODIFIED:20170717T174707Z
UID:11874-1502458200-1502472600@soulofca.org
SUMMARY:Salinas Memorial Hospital Farmers' Market
DESCRIPTION:Every week local farmers and small business people gather to offer a tasty and nutritious spread of foods\, prepared or straight from the fields. Others offer a variety of goods for sale. Either way good bargains on great products are here for your perusal. Come down and get to know what’s happening\, seasons change and merchants are always offering something new.
URL:https://soulofca.org/event/salinas-memorial-hospital-farmers-market-2/
LOCATION:Salinas Valley Memorial Hospital\, Romie Lane \, Salinas \, CA\, United States
END:VEVENT
BEGIN:VEVENT
DTSTART;TZID=America/Los_Angeles:20170809T210000
DTEND;TZID=America/Los_Angeles:20170809T230000
DTSTAMP:20260423T105327
CREATED:20170807T175310Z
LAST-MODIFIED:20170807T175310Z
UID:4496-1502312400-1502319600@soulofca.org
SUMMARY:Boardwalk Movie Night
DESCRIPTION:Enjoy a day at the Boardwalk topped off with a viewing of a fun movie. his week’s attraction is “The Little Rascals”. The delightful update of the classic shorts from decades ago will show at 9:00.
URL:https://soulofca.org/event/boardwalk-movie-night/
LOCATION:Santa Cruz Beach Boardwalk\, 400 Beach St.\, Santa Cruz\, CA\, United States
END:VEVENT
BEGIN:VEVENT
DTSTART;TZID=America/Los_Angeles:20170809T210000
DTEND;TZID=America/Los_Angeles:20170809T230000
DTSTAMP:20260423T105327
CREATED:20170807T175310Z
LAST-MODIFIED:20170807T175310Z
UID:11942-1502312400-1502319600@soulofca.org
SUMMARY:Boardwalk Movie Night
DESCRIPTION:Enjoy a day at the Boardwalk topped off with a viewing of a fun movie. his week’s attraction is “The Little Rascals”. The delightful update of the classic shorts from decades ago will show at 9:00.
URL:https://soulofca.org/event/boardwalk-movie-night-3/
LOCATION:Santa Cruz Beach Boardwalk\, 400 Beach St.\, Santa Cruz\, CA\, United States
END:VEVENT
BEGIN:VEVENT
DTSTART;TZID=America/Los_Angeles:20170809T180000
DTEND;TZID=America/Los_Angeles:20170809T210000
DTSTAMP:20260423T105327
CREATED:20170522T180712Z
LAST-MODIFIED:20170522T180712Z
UID:3776-1502301600-1502312400@soulofca.org
SUMMARY:Fort Ord Bicycle Ride and BBQ
DESCRIPTION:An opportunity to meet other bicyclists and enjoy the lovely trails of the former Fort Ord military base. Check their website for more details and directions to the meet-up site.   There are other activities available as well.
URL:https://soulofca.org/event/fort-ord-bicycle-ride-and-bbq-7/
LOCATION:Fort Ord\, Seaside \, CA\, United States
END:VEVENT
BEGIN:VEVENT
DTSTART;TZID=America/Los_Angeles:20170809T180000
DTEND;TZID=America/Los_Angeles:20170809T210000
DTSTAMP:20260423T105327
CREATED:20170522T180712Z
LAST-MODIFIED:20170522T180712Z
UID:11748-1502301600-1502312400@soulofca.org
SUMMARY:Fort Ord Bicycle Ride and BBQ
DESCRIPTION:An opportunity to meet other bicyclists and enjoy the lovely trails of the former Fort Ord military base. Check their website for more details and directions to the meet-up site.   There are other activities available as well.
URL:https://soulofca.org/event/fort-ord-bicycle-ride-and-bbq-7-2/
LOCATION:Fort Ord\, Seaside \, CA\, United States
END:VEVENT
BEGIN:VEVENT
DTSTART;TZID=America/Los_Angeles:20170808T160000
DTEND;TZID=America/Los_Angeles:20170808T200000
DTSTAMP:20260423T105327
CREATED:20170109T190204Z
LAST-MODIFIED:20170109T190204Z
UID:3080-1502208000-1502222400@soulofca.org
SUMMARY:Monterey Farmers Market
DESCRIPTION:Thks and runs year-round rain or shine.  You can travel the world in just three blocks\, finding arts and crafts\, handmade jewelry\, furniture\, clothing\, international food\, organic produce\, flowers\, and pastries. \nOur produce vendors come from all over California\, from Salinas and Watsonville\, to Fresno and Sacramento\, selling Certified and Organic Certified produce. \nArts and crafts vendors come from around the world\, selling treasures from Africa\, Colombia\, Mexico\, Russia\, Japan\, China\, and Yugoslavia\, just to name a few. \nOur food vendors also serve up delicacies that are as international as our products serving up Indian\, Japanese\, Korean\, Mexican\, Mediterranean\, and BBQ delicacies. In our Baker’s Alley you can find fresh pastries like baklava\, European breads\, cookies\, muffins\, pies\, and cakes. \nIn addition to the products and food we offer\, the Old Monterey Farmers Market also includes a variety of community events. You can donate blood through C.H.O.M.P.\, adopt a dog from the SPCA\,register to vote\, and enjoy live music from local musicians. \nWhile the Marketplace provides a plethora of food\, produce\, arts & crafts\, and community services\, it is most importantly a cultural focal point of Monterey. As the largest congregation of locals year round\, the Farmer’s Market offers a place for people to visit friends\, make new ones\, catch up with acquaintances\, and discuss current affairs; the Old Monterey Farmers Market\, established in 1991\, comprises of 3 ½ city blocks.
URL:https://soulofca.org/event/monterey-farmers-market-15/
LOCATION:Downtown Monterey\, Monterey\, CA\, United States
END:VEVENT
BEGIN:VEVENT
DTSTART;TZID=America/Los_Angeles:20170808T160000
DTEND;TZID=America/Los_Angeles:20170808T200000
DTSTAMP:20260423T105327
CREATED:20170109T190204Z
LAST-MODIFIED:20170109T190204Z
UID:11622-1502208000-1502222400@soulofca.org
SUMMARY:Monterey Farmers Market
DESCRIPTION:Thks and runs year-round rain or shine.  You can travel the world in just three blocks\, finding arts and crafts\, handmade jewelry\, furniture\, clothing\, international food\, organic produce\, flowers\, and pastries. \nOur produce vendors come from all over California\, from Salinas and Watsonville\, to Fresno and Sacramento\, selling Certified and Organic Certified produce. \nArts and crafts vendors come from around the world\, selling treasures from Africa\, Colombia\, Mexico\, Russia\, Japan\, China\, and Yugoslavia\, just to name a few. \nOur food vendors also serve up delicacies that are as international as our products serving up Indian\, Japanese\, Korean\, Mexican\, Mediterranean\, and BBQ delicacies. In our Baker’s Alley you can find fresh pastries like baklava\, European breads\, cookies\, muffins\, pies\, and cakes. \nIn addition to the products and food we offer\, the Old Monterey Farmers Market also includes a variety of community events. You can donate blood through C.H.O.M.P.\, adopt a dog from the SPCA\,register to vote\, and enjoy live music from local musicians. \nWhile the Marketplace provides a plethora of food\, produce\, arts & crafts\, and community services\, it is most importantly a cultural focal point of Monterey. As the largest congregation of locals year round\, the Farmer’s Market offers a place for people to visit friends\, make new ones\, catch up with acquaintances\, and discuss current affairs; the Old Monterey Farmers Market\, established in 1991\, comprises of 3 ½ city blocks.
URL:https://soulofca.org/event/monterey-farmers-market-15-2/
LOCATION:Downtown Monterey\, Monterey\, CA\, United States
END:VEVENT
END:VCALENDAR