BEGIN:VCALENDAR
VERSION:2.0
PRODID:-//Soul of CA - ECPv6.15.17//NONSGML v1.0//EN
CALSCALE:GREGORIAN
METHOD:PUBLISH
X-ORIGINAL-URL:https://soulofca.org
X-WR-CALDESC:Events for Soul of CA
REFRESH-INTERVAL;VALUE=DURATION:PT1H
X-Robots-Tag:noindex
X-PUBLISHED-TTL:PT1H
BEGIN:VTIMEZONE
TZID:America/Los_Angeles
BEGIN:DAYLIGHT
TZOFFSETFROM:-0800
TZOFFSETTO:-0700
TZNAME:PDT
DTSTART:20170312T100000
END:DAYLIGHT
BEGIN:STANDARD
TZOFFSETFROM:-0700
TZOFFSETTO:-0800
TZNAME:PST
DTSTART:20171105T090000
END:STANDARD
BEGIN:DAYLIGHT
TZOFFSETFROM:-0800
TZOFFSETTO:-0700
TZNAME:PDT
DTSTART:20180311T100000
END:DAYLIGHT
BEGIN:STANDARD
TZOFFSETFROM:-0700
TZOFFSETTO:-0800
TZNAME:PST
DTSTART:20181104T090000
END:STANDARD
BEGIN:DAYLIGHT
TZOFFSETFROM:-0800
TZOFFSETTO:-0700
TZNAME:PDT
DTSTART:20190310T100000
END:DAYLIGHT
BEGIN:STANDARD
TZOFFSETFROM:-0700
TZOFFSETTO:-0800
TZNAME:PST
DTSTART:20191103T090000
END:STANDARD
END:VTIMEZONE
BEGIN:VEVENT
DTSTART;TZID=America/Los_Angeles:20181018T113000
DTEND;TZID=America/Los_Angeles:20181018T133000
DTSTAMP:20260419T101518
CREATED:20181008T200215Z
LAST-MODIFIED:20181008T200215Z
UID:7637-1539862200-1539869400@soulofca.org
SUMMARY:Key Issues in Washington D.C.
DESCRIPTION:The local Democratic Women’s Club is hosting a talk by our Representative\, Jimmy Panetta. He will be talking about the current situation in the Capitol and what he and others are doing to work on the high-profile issues. http://www.dc-mc.org
URL:https://soulofca.org/event/key-issues-in-washington-d-c/
LOCATION:HIlton Hotel Big Sur Room\, 1000 Aguajito Rd. \, Monterey \, CA\, 93940\, United States
END:VEVENT
BEGIN:VEVENT
DTSTART;TZID=America/Los_Angeles:20181018T113000
DTEND;TZID=America/Los_Angeles:20181018T133000
DTSTAMP:20260419T101518
CREATED:20181008T200215Z
LAST-MODIFIED:20181008T200215Z
UID:12946-1539862200-1539869400@soulofca.org
SUMMARY:Key Issues in Washington D.C.
DESCRIPTION:The local Democratic Women’s Club is hosting a talk by our Representative\, Jimmy Panetta. He will be talking about the current situation in the Capitol and what he and others are doing to work on the high-profile issues. http://www.dc-mc.org
URL:https://soulofca.org/event/key-issues-in-washington-d-c-2/
LOCATION:HIlton Hotel Big Sur Room\, 1000 Aguajito Rd. \, Monterey \, CA\, 93940\, United States
END:VEVENT
BEGIN:VEVENT
DTSTART;TZID=America/Los_Angeles:20181018T180000
DTEND;TZID=America/Los_Angeles:20181018T210000
DTSTAMP:20260419T101518
CREATED:20181012T213402Z
LAST-MODIFIED:20181012T213402Z
UID:7645-1539885600-1539896400@soulofca.org
SUMMARY:Wine Dinner
DESCRIPTION:Think about it\, a lovely five course dinner featuring the best of Le P’tit Paysan’s wines. In downtown Monterey at the Portola Hotel and Spa.  Then a stroll along the the stunning Recreational Trail. That’s about as good as it gets.
URL:https://soulofca.org/event/wine-dinner/
LOCATION:Portola Hotel and Spa\, 2 Portola Plaza\, Monterey\, CA\, 93940\, United States
END:VEVENT
BEGIN:VEVENT
DTSTART;TZID=America/Los_Angeles:20181018T180000
DTEND;TZID=America/Los_Angeles:20181018T210000
DTSTAMP:20260419T101518
CREATED:20181012T213402Z
LAST-MODIFIED:20181012T213402Z
UID:12950-1539885600-1539896400@soulofca.org
SUMMARY:Wine Dinner
DESCRIPTION:Think about it\, a lovely five course dinner featuring the best of Le P’tit Paysan’s wines. In downtown Monterey at the Portola Hotel and Spa.  Then a stroll along the the stunning Recreational Trail. That’s about as good as it gets.
URL:https://soulofca.org/event/wine-dinner-3/
LOCATION:Portola Hotel and Spa\, 2 Portola Plaza\, Monterey\, CA\, 93940\, United States
END:VEVENT
BEGIN:VEVENT
DTSTART;TZID=America/Los_Angeles:20181018T200000
DTEND;TZID=America/Los_Angeles:20181018T220000
DTSTAMP:20260419T101518
CREATED:20181008T183016Z
LAST-MODIFIED:20181008T183016Z
UID:7628-1539892800-1539900000@soulofca.org
SUMMARY:Rocky Horror Picture Show
DESCRIPTION:PaperWing Theater has done a great job with this play in the past and there’s no reason to believe this isn’t up to the same standard. Two casts alternate through the run\, Glitter and Sparkle. Perfect titles don’t you think? Through October on the weekends\, including Thursdays. Special showings on Halloween\, of course. (Bring your favorite RHPS items \, for instance some toast or playing cards.) http://paperwing.com
URL:https://soulofca.org/event/rocky-horror-picture-show-4/
LOCATION:Paper Wing Theater\, 71 Cannery Row\, Monterey\, CA\, 93940\, United States
END:VEVENT
BEGIN:VEVENT
DTSTART;TZID=America/Los_Angeles:20181018T200000
DTEND;TZID=America/Los_Angeles:20181018T220000
DTSTAMP:20260419T101518
CREATED:20181008T183016Z
LAST-MODIFIED:20181008T183016Z
UID:12942-1539892800-1539900000@soulofca.org
SUMMARY:Rocky Horror Picture Show
DESCRIPTION:PaperWing Theater has done a great job with this play in the past and there’s no reason to believe this isn’t up to the same standard. Two casts alternate through the run\, Glitter and Sparkle. Perfect titles don’t you think? Through October on the weekends\, including Thursdays. Special showings on Halloween\, of course. (Bring your favorite RHPS items \, for instance some toast or playing cards.) http://paperwing.com
URL:https://soulofca.org/event/rocky-horror-picture-show-4-2/
LOCATION:Paper Wing Theater\, 71 Cannery Row\, Monterey\, CA\, 93940\, United States
END:VEVENT
BEGIN:VEVENT
DTSTART;TZID=America/Los_Angeles:20181019T123000
DTEND;TZID=America/Los_Angeles:20181019T133000
DTSTAMP:20260419T101518
CREATED:20180910T181750Z
LAST-MODIFIED:20180910T181750Z
UID:7444-1539952200-1539955800@soulofca.org
SUMMARY:Locals Lunch Concert
DESCRIPTION:Yes\, the title says “Locals”. Yet visitors are often asking\, “Where do the locals go?” Here’s one possibility. The Sunset Center\, a local gem\, is sponsoring concerts at midday. These are timed to allow one on a lunch break to have a lovely interlude to change the “tenor” of the day. Why not visitors also? Bring a lunch and sit in the lap of culture and mellow out with some very talented local musicians. \nThis is the final concert of the season\, the weather becomes less predictable from this point.
URL:https://soulofca.org/event/locals-lunch-concert-6/
LOCATION:Sunset Center\, San Carlos & 9th\, carmel\, CA\, 93921\, United States
END:VEVENT
BEGIN:VEVENT
DTSTART;TZID=America/Los_Angeles:20181019T123000
DTEND;TZID=America/Los_Angeles:20181019T133000
DTSTAMP:20260419T101518
CREATED:20180910T181750Z
LAST-MODIFIED:20180910T181750Z
UID:12864-1539952200-1539955800@soulofca.org
SUMMARY:Locals Lunch Concert
DESCRIPTION:Yes\, the title says “Locals”. Yet visitors are often asking\, “Where do the locals go?” Here’s one possibility. The Sunset Center\, a local gem\, is sponsoring concerts at midday. These are timed to allow one on a lunch break to have a lovely interlude to change the “tenor” of the day. Why not visitors also? Bring a lunch and sit in the lap of culture and mellow out with some very talented local musicians. \nThis is the final concert of the season\, the weather becomes less predictable from this point.
URL:https://soulofca.org/event/locals-lunch-concert-6-2/
LOCATION:Sunset Center\, San Carlos & 9th\, carmel\, CA\, 93921\, United States
END:VEVENT
BEGIN:VEVENT
DTSTART;TZID=America/Los_Angeles:20181019T193000
DTEND;TZID=America/Los_Angeles:20181020T170000
DTSTAMP:20260419T101518
CREATED:20180611T213445Z
LAST-MODIFIED:20180618T195839Z
UID:6719-1539977400-1540054800@soulofca.org
SUMMARY:Schoolhouse Rock (Live)
DESCRIPTION:Yes\, the popular\, informative series is back. You can enjoy Ariel’s production presented by the age group at which it is aimed. Curious turn of events\, no? Check the Ariel Theater website for specific times and dates.
URL:https://soulofca.org/event/schoolhouse-rock-live-3/
LOCATION:Ariel Theater\, 320 Main Street\, Salinas\, CA\, 93901\, United States
END:VEVENT
BEGIN:VEVENT
DTSTART;TZID=America/Los_Angeles:20181019T193000
DTEND;TZID=America/Los_Angeles:20181020T170000
DTSTAMP:20260419T101518
CREATED:20180611T213445Z
LAST-MODIFIED:20180611T213445Z
UID:12571-1539977400-1540054800@soulofca.org
SUMMARY:Schoolhouse Rock (Live)
DESCRIPTION:Yes\, the popular\, informative series is back. You can enjoy Ariel’s production presented by the age group at which it is aimed. Curious turn of events\, no? Check the Ariel Theater website for specific times and dates.
URL:https://soulofca.org/event/schoolhouse-rock-live-3-2/
LOCATION:Ariel Theater\, 320 Main Street\, Salinas\, CA\, 93901\, United States
END:VEVENT
BEGIN:VEVENT
DTSTART;TZID=America/Los_Angeles:20181019T193000
DTEND;TZID=America/Los_Angeles:20181020T220000
DTSTAMP:20260419T101518
CREATED:20181012T213947Z
LAST-MODIFIED:20181012T213947Z
UID:7647-1539977400-1540072800@soulofca.org
SUMMARY:Coriolanus
DESCRIPTION:One of Shakespeare’s Roman plays. It deals with the role of leaders and who is indeed a worthy one. Touching on a distressing and growing gap between the wealthy class and the poor\, Coriolanus may well have a message for the current era. http://pacrep.org
URL:https://soulofca.org/event/coriolanus/
LOCATION:Circle Theater\, San Carlos and 9th\, Carmel BTS\, CA\, United States
END:VEVENT
BEGIN:VEVENT
DTSTART;TZID=America/Los_Angeles:20181019T193000
DTEND;TZID=America/Los_Angeles:20181020T220000
DTSTAMP:20260419T101518
CREATED:20181012T213947Z
LAST-MODIFIED:20181012T213947Z
UID:12951-1539977400-1540072800@soulofca.org
SUMMARY:Coriolanus
DESCRIPTION:One of Shakespeare’s Roman plays. It deals with the role of leaders and who is indeed a worthy one. Touching on a distressing and growing gap between the wealthy class and the poor\, Coriolanus may well have a message for the current era. http://pacrep.org
URL:https://soulofca.org/event/coriolanus-3/
LOCATION:Circle Theater\, San Carlos and 9th\, Carmel BTS\, CA\, United States
END:VEVENT
BEGIN:VEVENT
DTSTART;TZID=America/Los_Angeles:20181019T200000
DTEND;TZID=America/Los_Angeles:20181019T220000
DTSTAMP:20260419T101518
CREATED:20180528T174828Z
LAST-MODIFIED:20180528T174828Z
UID:6567-1539979200-1539986400@soulofca.org
SUMMARY:Steven Wright
DESCRIPTION:If you like your comedy droll and understated\, here is your guy. Mr Wright’s delivery is an art in itself. Harkening back to earlier comics like Jackie Vernon he provides strange and insightful thoughts about our modern world.
URL:https://soulofca.org/event/steven-wright/
LOCATION:Golden State Theater\, 417 Alvarado St.\, Monterey\, CA\, 93940\, United States
END:VEVENT
BEGIN:VEVENT
DTSTART;TZID=America/Los_Angeles:20181019T200000
DTEND;TZID=America/Los_Angeles:20181019T220000
DTSTAMP:20260419T101518
CREATED:20180528T174828Z
LAST-MODIFIED:20180528T174828Z
UID:12506-1539979200-1539986400@soulofca.org
SUMMARY:Steven Wright
DESCRIPTION:If you like your comedy droll and understated\, here is your guy. Mr Wright’s delivery is an art in itself. Harkening back to earlier comics like Jackie Vernon he provides strange and insightful thoughts about our modern world.
URL:https://soulofca.org/event/steven-wright-2/
LOCATION:Golden State Theater\, 417 Alvarado St.\, Monterey\, CA\, 93940\, United States
END:VEVENT
BEGIN:VEVENT
DTSTART;TZID=America/Los_Angeles:20181019T200000
DTEND;TZID=America/Los_Angeles:20181019T220000
DTSTAMP:20260419T101518
CREATED:20181008T183156Z
LAST-MODIFIED:20181008T183156Z
UID:7630-1539979200-1539986400@soulofca.org
SUMMARY:Rocky Horror Picture Show
DESCRIPTION:PaperWing Theater has done a great job with this play in the past and there’s no reason to believe this isn’t up to the same standard. Two casts alternate through the run\, Glitter and Sparkle. Perfect titles don’t you think? Through October on the weekends\, including Thursdays. Special showings on Halloween\, of course. (Bring your favorite RHPS items \, for instance some toast or playing cards.) http://paperwing.com
URL:https://soulofca.org/event/rocky-horror-picture-show-5/
LOCATION:Paper Wing Theater\, 71 Cannery Row\, Monterey\, CA\, 93940\, United States
END:VEVENT
BEGIN:VEVENT
DTSTART;TZID=America/Los_Angeles:20181019T200000
DTEND;TZID=America/Los_Angeles:20181019T220000
DTSTAMP:20260419T101518
CREATED:20181008T183156Z
LAST-MODIFIED:20181008T183156Z
UID:12943-1539979200-1539986400@soulofca.org
SUMMARY:Rocky Horror Picture Show
DESCRIPTION:PaperWing Theater has done a great job with this play in the past and there’s no reason to believe this isn’t up to the same standard. Two casts alternate through the run\, Glitter and Sparkle. Perfect titles don’t you think? Through October on the weekends\, including Thursdays. Special showings on Halloween\, of course. (Bring your favorite RHPS items \, for instance some toast or playing cards.) http://paperwing.com
URL:https://soulofca.org/event/rocky-horror-picture-show-5-2/
LOCATION:Paper Wing Theater\, 71 Cannery Row\, Monterey\, CA\, 93940\, United States
END:VEVENT
BEGIN:VEVENT
DTSTART;TZID=America/Los_Angeles:20181019T200000
DTEND;TZID=America/Los_Angeles:20181021T150000
DTSTAMP:20260419T101518
CREATED:20180924T204751Z
LAST-MODIFIED:20180924T204751Z
UID:7539-1539979200-1540134000@soulofca.org
SUMMARY:RED
DESCRIPTION:The Tony Award winning Broadway play based on the events of Mark Rothko’s life. In particular his creation of a mural and the changing relations between him and his apprentice. http://sccat.org
URL:https://soulofca.org/event/red-3/
LOCATION:Center Stage Theater\, 1001 Center St.\, Santa Cruz\, CA\, 95060\, United States
END:VEVENT
BEGIN:VEVENT
DTSTART;TZID=America/Los_Angeles:20181019T200000
DTEND;TZID=America/Los_Angeles:20181021T150000
DTSTAMP:20260419T101518
CREATED:20180924T204751Z
LAST-MODIFIED:20180924T204751Z
UID:12905-1539979200-1540134000@soulofca.org
SUMMARY:RED
DESCRIPTION:The Tony Award winning Broadway play based on the events of Mark Rothko’s life. In particular his creation of a mural and the changing relations between him and his apprentice. http://sccat.org
URL:https://soulofca.org/event/red-3-2/
LOCATION:Center Stage Theater\, 1001 Center St.\, Santa Cruz\, CA\, 95060\, United States
END:VEVENT
BEGIN:VEVENT
DTSTART;TZID=America/Los_Angeles:20181019T210000
DTEND;TZID=America/Los_Angeles:20181019T230000
DTSTAMP:20260419T101518
CREATED:20180827T180829Z
LAST-MODIFIED:20180827T180829Z
UID:7395-1539982800-1539990000@soulofca.org
SUMMARY:Lee "Scratch" Perry
DESCRIPTION:This is a concert by an original in the genre. If you know what “Blackboard Jungle Dub” is then you know that “Scratch” is the real deal. If you don’t then come out and find out. http://riotheatre.com
URL:https://soulofca.org/event/lee-scratch-perry/
LOCATION:Rio Theater\, 1205 Soquel Ave.\, Santa Cruz\, CA\, 95062\, United States
END:VEVENT
BEGIN:VEVENT
DTSTART;TZID=America/Los_Angeles:20181019T210000
DTEND;TZID=America/Los_Angeles:20181019T230000
DTSTAMP:20260419T101518
CREATED:20180827T180829Z
LAST-MODIFIED:20180827T180829Z
UID:12843-1539982800-1539990000@soulofca.org
SUMMARY:Lee "Scratch" Perry
DESCRIPTION:This is a concert by an original in the genre. If you know what “Blackboard Jungle Dub” is then you know that “Scratch” is the real deal. If you don’t then come out and find out. http://riotheatre.com
URL:https://soulofca.org/event/lee-scratch-perry-2/
LOCATION:Rio Theater\, 1205 Soquel Ave.\, Santa Cruz\, CA\, 95062\, United States
END:VEVENT
BEGIN:VEVENT
DTSTART;TZID=America/Los_Angeles:20181020T080000
DTEND;TZID=America/Los_Angeles:20181020T220000
DTSTAMP:20260419T101518
CREATED:20181008T183403Z
LAST-MODIFIED:20181008T183403Z
UID:7632-1540022400-1540072800@soulofca.org
SUMMARY:Rocky Horror Picture Show
DESCRIPTION:PaperWing Theater has done a great job with this play in the past and there’s no reason to believe this isn’t up to the same standard. Two casts alternate through the run\, Glitter and Sparkle. Perfect titles don’t you think? Through October on the weekends\, including Thursdays. Special showings on Halloween\, of course. (Bring your favorite RHPS items \, for instance some toast or playing cards.) http://paperwing.com  Special Midnight Showing on Saturdays.
URL:https://soulofca.org/event/rocky-horror-picture-show-6/
LOCATION:Paper Wing Theater\, 71 Cannery Row\, Monterey\, CA\, 93940\, United States
END:VEVENT
BEGIN:VEVENT
DTSTART;TZID=America/Los_Angeles:20181020T080000
DTEND;TZID=America/Los_Angeles:20181020T220000
DTSTAMP:20260419T101518
CREATED:20181008T183403Z
LAST-MODIFIED:20181008T183403Z
UID:12944-1540022400-1540072800@soulofca.org
SUMMARY:Rocky Horror Picture Show
DESCRIPTION:PaperWing Theater has done a great job with this play in the past and there’s no reason to believe this isn’t up to the same standard. Two casts alternate through the run\, Glitter and Sparkle. Perfect titles don’t you think? Through October on the weekends\, including Thursdays. Special showings on Halloween\, of course. (Bring your favorite RHPS items \, for instance some toast or playing cards.) http://paperwing.com  Special Midnight Showing on Saturdays.
URL:https://soulofca.org/event/rocky-horror-picture-show-6-2/
LOCATION:Paper Wing Theater\, 71 Cannery Row\, Monterey\, CA\, 93940\, United States
END:VEVENT
BEGIN:VEVENT
DTSTART;TZID=America/Los_Angeles:20181020T170000
DTEND;TZID=America/Los_Angeles:20181020T210000
DTSTAMP:20260419T101518
CREATED:20181012T214747Z
LAST-MODIFIED:20181012T214747Z
UID:7652-1540054800-1540069200@soulofca.org
SUMMARY:Point Sur Lighthouse Haunted Tours
DESCRIPTION:Where else can you get a guided tour that includes; a historical landmark\, haunted buildings\, dinner\, and a spectacular sunset? Not many other places. Make the beautiful drive down to the Point Sur Lighthouse and have all of these ready for your enjoyment. Actor and storyteller Kevin Hanstick will be your guide (and medium?).  http://pointsur.org
URL:https://soulofca.org/event/point-sur-lighthouse-haunted-tours/
LOCATION:Point Sur Lighthouse\, Highway One \, CA\, United States
END:VEVENT
BEGIN:VEVENT
DTSTART;TZID=America/Los_Angeles:20181020T170000
DTEND;TZID=America/Los_Angeles:20181020T210000
DTSTAMP:20260419T101518
CREATED:20181012T214747Z
LAST-MODIFIED:20181012T214747Z
UID:12953-1540054800-1540069200@soulofca.org
SUMMARY:Point Sur Lighthouse Haunted Tours
DESCRIPTION:Where else can you get a guided tour that includes; a historical landmark\, haunted buildings\, dinner\, and a spectacular sunset? Not many other places. Make the beautiful drive down to the Point Sur Lighthouse and have all of these ready for your enjoyment. Actor and storyteller Kevin Hanstick will be your guide (and medium?).  http://pointsur.org
URL:https://soulofca.org/event/point-sur-lighthouse-haunted-tours-3/
LOCATION:Point Sur Lighthouse\, Highway One \, CA\, United States
END:VEVENT
BEGIN:VEVENT
DTSTART;TZID=America/Los_Angeles:20181020T183000
DTEND;TZID=America/Los_Angeles:20181020T203000
DTSTAMP:20260419T101518
CREATED:20181008T200512Z
LAST-MODIFIED:20181008T200512Z
UID:7639-1540060200-1540067400@soulofca.org
SUMMARY:Orionids Meteor Shower
DESCRIPTION:In case you missed the other meteor showers\, or just really like to get out and see fun sky stuff\, the folks at MIRA are hosting a sky party in the darkened friendly spaces of Garland Park. http://mira.org
URL:https://soulofca.org/event/orionids-meteor-shower/
LOCATION:Garland Park\, Garland Park Visitors Center\, 700 W. Carmel Valley Rd.\, CA\, 93924\, United States
END:VEVENT
BEGIN:VEVENT
DTSTART;TZID=America/Los_Angeles:20181020T183000
DTEND;TZID=America/Los_Angeles:20181020T203000
DTSTAMP:20260419T101518
CREATED:20181008T200512Z
LAST-MODIFIED:20181008T200512Z
UID:12947-1540060200-1540067400@soulofca.org
SUMMARY:Orionids Meteor Shower
DESCRIPTION:In case you missed the other meteor showers\, or just really like to get out and see fun sky stuff\, the folks at MIRA are hosting a sky party in the darkened friendly spaces of Garland Park. http://mira.org
URL:https://soulofca.org/event/orionids-meteor-shower-2/
LOCATION:Garland Park\, Garland Park Visitors Center\, 700 W. Carmel Valley Rd.\, CA\, 93924\, United States
END:VEVENT
BEGIN:VEVENT
DTSTART;TZID=America/Los_Angeles:20181020T193000
DTEND;TZID=America/Los_Angeles:20181020T220000
DTSTAMP:20260419T101518
CREATED:20180827T181121Z
LAST-MODIFIED:20180827T181121Z
UID:7397-1540063800-1540072800@soulofca.org
SUMMARY:Simrit In Concert
DESCRIPTION:Simrit is an innovative and creative singer incorporating the influences of many genres in her performances. Many well-known singers look to her as an influence in their style and presentation. http://riotheatre.com
URL:https://soulofca.org/event/simrit-in-concert/
LOCATION:Rio Theater\, 1205 Soquel Ave.\, Santa Cruz\, CA\, 95062\, United States
END:VEVENT
BEGIN:VEVENT
DTSTART;TZID=America/Los_Angeles:20181020T193000
DTEND;TZID=America/Los_Angeles:20181020T220000
DTSTAMP:20260419T101518
CREATED:20180827T181121Z
LAST-MODIFIED:20180827T181121Z
UID:12844-1540063800-1540072800@soulofca.org
SUMMARY:Simrit In Concert
DESCRIPTION:Simrit is an innovative and creative singer incorporating the influences of many genres in her performances. Many well-known singers look to her as an influence in their style and presentation. http://riotheatre.com
URL:https://soulofca.org/event/simrit-in-concert-2/
LOCATION:Rio Theater\, 1205 Soquel Ave.\, Santa Cruz\, CA\, 95062\, United States
END:VEVENT
BEGIN:VEVENT
DTSTART;TZID=America/Los_Angeles:20181020T193000
DTEND;TZID=America/Los_Angeles:20181020T220000
DTSTAMP:20260419T101518
CREATED:20181015T165844Z
LAST-MODIFIED:20181015T165844Z
UID:7706-1540063800-1540072800@soulofca.org
SUMMARY:Carmel Pops!
DESCRIPTION:The Forest Theater is hosting the performances by CHS’s many talented students. There will be the orchestra\, dancers\, and\, smaller groups performing. Bring warm clothes\, some hot chocolate\, and have a fun evening under the stars. Don’t forget to sit near the open fires.
URL:https://soulofca.org/event/carmel-pops-2/
LOCATION:Forest Theater\, Santa Rita & Mountain View\, Carmel by the Sea\, CA\, 93923\, United States
END:VEVENT
BEGIN:VEVENT
DTSTART;TZID=America/Los_Angeles:20181020T193000
DTEND;TZID=America/Los_Angeles:20181020T220000
DTSTAMP:20260419T101518
CREATED:20181015T165844Z
LAST-MODIFIED:20181015T165844Z
UID:12975-1540063800-1540072800@soulofca.org
SUMMARY:Carmel Pops!
DESCRIPTION:The Forest Theater is hosting the performances by CHS’s many talented students. There will be the orchestra\, dancers\, and\, smaller groups performing. Bring warm clothes\, some hot chocolate\, and have a fun evening under the stars. Don’t forget to sit near the open fires.
URL:https://soulofca.org/event/carmel-pops-2-2/
LOCATION:Forest Theater\, Santa Rita & Mountain View\, Carmel by the Sea\, CA\, 93923\, United States
END:VEVENT
END:VCALENDAR