BEGIN:VCALENDAR
VERSION:2.0
PRODID:-//Soul of CA - ECPv6.15.17//NONSGML v1.0//EN
CALSCALE:GREGORIAN
METHOD:PUBLISH
X-WR-CALNAME:Soul of CA
X-ORIGINAL-URL:https://soulofca.org
X-WR-CALDESC:Events for Soul of CA
REFRESH-INTERVAL;VALUE=DURATION:PT1H
X-Robots-Tag:noindex
X-PUBLISHED-TTL:PT1H
BEGIN:VTIMEZONE
TZID:America/Los_Angeles
BEGIN:DAYLIGHT
TZOFFSETFROM:-0800
TZOFFSETTO:-0700
TZNAME:PDT
DTSTART:20160313T100000
END:DAYLIGHT
BEGIN:STANDARD
TZOFFSETFROM:-0700
TZOFFSETTO:-0800
TZNAME:PST
DTSTART:20161106T090000
END:STANDARD
BEGIN:DAYLIGHT
TZOFFSETFROM:-0800
TZOFFSETTO:-0700
TZNAME:PDT
DTSTART:20170312T100000
END:DAYLIGHT
BEGIN:STANDARD
TZOFFSETFROM:-0700
TZOFFSETTO:-0800
TZNAME:PST
DTSTART:20171105T090000
END:STANDARD
BEGIN:DAYLIGHT
TZOFFSETFROM:-0800
TZOFFSETTO:-0700
TZNAME:PDT
DTSTART:20180311T100000
END:DAYLIGHT
BEGIN:STANDARD
TZOFFSETFROM:-0700
TZOFFSETTO:-0800
TZNAME:PST
DTSTART:20181104T090000
END:STANDARD
END:VTIMEZONE
BEGIN:VEVENT
DTSTART;TZID=America/Los_Angeles:20170818T090000
DTEND;TZID=America/Los_Angeles:20170818T150000
DTSTAMP:20260419T195946
CREATED:20170529T183716Z
LAST-MODIFIED:20170529T183716Z
UID:3881-1503046800-1503068400@soulofca.org
SUMMARY:Legends of the Autobahn
DESCRIPTION:Along with the many fun activities of Car Week in Monterey you can come to the Nicklaus Golf Club and enjoy awesome German autos in the lovely setting of the hills outside Monterey.
URL:https://soulofca.org/event/legends-of-the-autobahn/
LOCATION:Nicklaus Golf Club\, 100 Pasaders Drive \, Monterey \, CA\, United States
END:VEVENT
BEGIN:VEVENT
DTSTART;TZID=America/Los_Angeles:20170818T090000
DTEND;TZID=America/Los_Angeles:20170818T150000
DTSTAMP:20260419T195946
CREATED:20170529T183716Z
LAST-MODIFIED:20170529T183716Z
UID:11775-1503046800-1503068400@soulofca.org
SUMMARY:Legends of the Autobahn
DESCRIPTION:Along with the many fun activities of Car Week in Monterey you can come to the Nicklaus Golf Club and enjoy awesome German autos in the lovely setting of the hills outside Monterey.
URL:https://soulofca.org/event/legends-of-the-autobahn-2/
LOCATION:Nicklaus Golf Club\, 100 Pasaders Drive \, Monterey \, CA\, United States
END:VEVENT
BEGIN:VEVENT
DTSTART;TZID=America/Los_Angeles:20170817T193000
DTEND;TZID=America/Los_Angeles:20170924T220000
DTSTAMP:20260419T195946
CREATED:20170731T183315Z
LAST-MODIFIED:20170731T183315Z
UID:4447-1502998200-1506290400@soulofca.org
SUMMARY:Peter Pan
DESCRIPTION:It’s the well known play by Wm. Barrie and made into the Broadway musical and popular TV presentation and it’s brought to life at the Forest Theater by the PacRep Theater Company. Tiger Lily\, mermaids\, Smee\, and\, of course\, Captain Hook will be there to make Peter’s life difficult. Come and clap fiercely for Tinkerbelle’s life. Many showings and times check their website for details.
URL:https://soulofca.org/event/peter-pan/
LOCATION:Forest Theater\, Santa Rita & Mountain View\, Carmel by the Sea\, CA\, 93923\, United States
END:VEVENT
BEGIN:VEVENT
DTSTART;TZID=America/Los_Angeles:20170817T193000
DTEND;TZID=America/Los_Angeles:20170924T220000
DTSTAMP:20260419T195946
CREATED:20170731T183315Z
LAST-MODIFIED:20170731T183315Z
UID:11929-1502998200-1506290400@soulofca.org
SUMMARY:Peter Pan
DESCRIPTION:It’s the well known play by Wm. Barrie and made into the Broadway musical and popular TV presentation and it’s brought to life at the Forest Theater by the PacRep Theater Company. Tiger Lily\, mermaids\, Smee\, and\, of course\, Captain Hook will be there to make Peter’s life difficult. Come and clap fiercely for Tinkerbelle’s life. Many showings and times check their website for details.
URL:https://soulofca.org/event/peter-pan-2/
LOCATION:Forest Theater\, Santa Rita & Mountain View\, Carmel by the Sea\, CA\, 93923\, United States
END:VEVENT
BEGIN:VEVENT
DTSTART;TZID=America/Los_Angeles:20170817T190000
DTEND;TZID=America/Los_Angeles:20170817T203000
DTSTAMP:20260419T195946
CREATED:20170815T164618Z
LAST-MODIFIED:20170815T164618Z
UID:4609-1502996400-1503001800@soulofca.org
SUMMARY:White Shark Research
DESCRIPTION:A local scientist will share the latest research regarding the population and habits of the White Sharks living in and around the Monterey Bay. A great antidote to the hyperbole of “Shark Week”. No races with famous swimmers or gratuitous footage of fierce activities by ocean predators. Just clear information.
URL:https://soulofca.org/event/white-shark-research/
LOCATION:Santa Cruz Natural History Museum\, 1305 East Cliff Dr.\, Santa Cruz\, CA\, 95062\, United States
END:VEVENT
BEGIN:VEVENT
DTSTART;TZID=America/Los_Angeles:20170817T190000
DTEND;TZID=America/Los_Angeles:20170817T203000
DTSTAMP:20260419T195946
CREATED:20170815T164618Z
LAST-MODIFIED:20170815T164618Z
UID:11971-1502996400-1503001800@soulofca.org
SUMMARY:White Shark Research
DESCRIPTION:A local scientist will share the latest research regarding the population and habits of the White Sharks living in and around the Monterey Bay. A great antidote to the hyperbole of “Shark Week”. No races with famous swimmers or gratuitous footage of fierce activities by ocean predators. Just clear information.
URL:https://soulofca.org/event/white-shark-research-2/
LOCATION:Santa Cruz Natural History Museum\, 1305 East Cliff Dr.\, Santa Cruz\, CA\, 95062\, United States
END:VEVENT
BEGIN:VEVENT
DTSTART;TZID=America/Los_Angeles:20170817T090000
DTEND;TZID=America/Los_Angeles:20170817T140000
DTSTAMP:20260419T195946
CREATED:20170522T204622Z
LAST-MODIFIED:20170522T204622Z
UID:3816-1502960400-1502978400@soulofca.org
SUMMARY:Tour D'Elegance
DESCRIPTION:An  opportunity for the owners of some of the beautiful autos on display throughout the peninsula to demonstrate the drivability and mobile beauty of their obsessions. This and many others are part of Car Week festivities happening at numerous venues around the peninsula.
URL:https://soulofca.org/event/tour-delegance/
LOCATION:Carmel/Pebble Beach\, Carmel \, CA\, United States
END:VEVENT
BEGIN:VEVENT
DTSTART;TZID=America/Los_Angeles:20170817T090000
DTEND;TZID=America/Los_Angeles:20170817T140000
DTSTAMP:20260419T195946
CREATED:20170522T204622Z
LAST-MODIFIED:20170522T204622Z
UID:11760-1502960400-1502978400@soulofca.org
SUMMARY:Tour D'Elegance
DESCRIPTION:An  opportunity for the owners of some of the beautiful autos on display throughout the peninsula to demonstrate the drivability and mobile beauty of their obsessions. This and many others are part of Car Week festivities happening at numerous venues around the peninsula.
URL:https://soulofca.org/event/tour-delegance-2/
LOCATION:Carmel/Pebble Beach\, Carmel \, CA\, United States
END:VEVENT
BEGIN:VEVENT
DTSTART;TZID=America/Los_Angeles:20170817T070000
DTEND;TZID=America/Los_Angeles:20170820T170000
DTSTAMP:20260419T195946
CREATED:20170612T171027Z
LAST-MODIFIED:20170612T171027Z
UID:3939-1502953200-1503248400@soulofca.org
SUMMARY:Rolex Motorsports Reunion
DESCRIPTION:The fastest part of Car Week on the Monterey Peninsula. Cars from long past decades come here to race against one another. The pit is a fabulous show in itself. Enjoy the chance to get up close and see the people who dedicate so much time and passion to this sport. To say nothing of the amazing machines. Look\, but don’t touch!
URL:https://soulofca.org/event/rolex-motorsports-reunion/
LOCATION:Mazda Laguna Seca Raceway\, 1021 Monterey-Salinas Highway\, Salinas\, CA\, 93908\, United States
END:VEVENT
BEGIN:VEVENT
DTSTART;TZID=America/Los_Angeles:20170817T070000
DTEND;TZID=America/Los_Angeles:20170820T170000
DTSTAMP:20260419T195946
CREATED:20170612T171027Z
LAST-MODIFIED:20170612T171027Z
UID:11789-1502953200-1503248400@soulofca.org
SUMMARY:Rolex Motorsports Reunion
DESCRIPTION:The fastest part of Car Week on the Monterey Peninsula. Cars from long past decades come here to race against one another. The pit is a fabulous show in itself. Enjoy the chance to get up close and see the people who dedicate so much time and passion to this sport. To say nothing of the amazing machines. Look\, but don’t touch!
URL:https://soulofca.org/event/rolex-motorsports-reunion-3/
LOCATION:Mazda Laguna Seca Raceway\, 1021 Monterey-Salinas Highway\, Salinas\, CA\, 93908\, United States
END:VEVENT
BEGIN:VEVENT
DTSTART;TZID=America/Los_Angeles:20170816T180000
DTEND;TZID=America/Los_Angeles:20170816T210000
DTSTAMP:20260419T195946
CREATED:20170522T180858Z
LAST-MODIFIED:20170522T180858Z
UID:3779-1502906400-1502917200@soulofca.org
SUMMARY:Fort Ord Bicycle Ride and BBQ
DESCRIPTION:An opportunity to meet other bicyclists and enjoy the lovely trails of the former Fort Ord military base. Check their website for more details and directions to the meet-up site.   There are other activities available as well.
URL:https://soulofca.org/event/fort-ord-bicycle-ride-and-bbq-8/
LOCATION:Fort Ord\, Seaside \, CA\, United States
END:VEVENT
BEGIN:VEVENT
DTSTART;TZID=America/Los_Angeles:20170816T180000
DTEND;TZID=America/Los_Angeles:20170816T210000
DTSTAMP:20260419T195946
CREATED:20170522T180858Z
LAST-MODIFIED:20170522T180858Z
UID:11749-1502906400-1502917200@soulofca.org
SUMMARY:Fort Ord Bicycle Ride and BBQ
DESCRIPTION:An opportunity to meet other bicyclists and enjoy the lovely trails of the former Fort Ord military base. Check their website for more details and directions to the meet-up site.   There are other activities available as well.
URL:https://soulofca.org/event/fort-ord-bicycle-ride-and-bbq-8-2/
LOCATION:Fort Ord\, Seaside \, CA\, United States
END:VEVENT
BEGIN:VEVENT
DTSTART;TZID=America/Los_Angeles:20170816T180000
DTEND;TZID=America/Los_Angeles:20170816T200000
DTSTAMP:20260419T195946
CREATED:20170814T204832Z
LAST-MODIFIED:20170814T204832Z
UID:4577-1502906400-1502913600@soulofca.org
SUMMARY:Twilight Concert
DESCRIPTION:In the City of Capitola’s Esplanade Park there will be a series of concerts featuring a variety of musical genres. From Big Band to Rock and Roll they are getting their collective groove on. Come down and enjoy this week’s entertainment.
URL:https://soulofca.org/event/twilight-concert/
LOCATION:Esplanade Park\, 100 Monterey Ave. \, Capitola\, CA\, 95010\, United States
END:VEVENT
BEGIN:VEVENT
DTSTART;TZID=America/Los_Angeles:20170816T180000
DTEND;TZID=America/Los_Angeles:20170816T200000
DTSTAMP:20260419T195946
CREATED:20170814T204832Z
LAST-MODIFIED:20170814T204832Z
UID:11963-1502906400-1502913600@soulofca.org
SUMMARY:Twilight Concert
DESCRIPTION:In the City of Capitola’s Esplanade Park there will be a series of concerts featuring a variety of musical genres. From Big Band to Rock and Roll they are getting their collective groove on. Come down and enjoy this week’s entertainment.
URL:https://soulofca.org/event/twilight-concert-4/
LOCATION:Esplanade Park\, 100 Monterey Ave. \, Capitola\, CA\, 95010\, United States
END:VEVENT
BEGIN:VEVENT
DTSTART;TZID=America/Los_Angeles:20170816T170000
DTEND;TZID=America/Los_Angeles:20170816T220000
DTSTAMP:20260419T195946
CREATED:20170522T203422Z
LAST-MODIFIED:20170522T203422Z
UID:3813-1502902800-1502920800@soulofca.org
SUMMARY:Motorworks Revival
DESCRIPTION:Another display of many gorgeously restored vehicles in an interesting setting. This and many others are part of Car Week festivities happening at numerous venues around the peninsula.
URL:https://soulofca.org/event/motorworks-revival/
LOCATION:Monterey Airport Jet Center\, Monterey \, CA\, United States
END:VEVENT
BEGIN:VEVENT
DTSTART;TZID=America/Los_Angeles:20170816T170000
DTEND;TZID=America/Los_Angeles:20170816T220000
DTSTAMP:20260419T195946
CREATED:20170522T203422Z
LAST-MODIFIED:20170522T203422Z
UID:11759-1502902800-1502920800@soulofca.org
SUMMARY:Motorworks Revival
DESCRIPTION:Another display of many gorgeously restored vehicles in an interesting setting. This and many others are part of Car Week festivities happening at numerous venues around the peninsula.
URL:https://soulofca.org/event/motorworks-revival-2/
LOCATION:Monterey Airport Jet Center\, Monterey \, CA\, United States
END:VEVENT
BEGIN:VEVENT
DTSTART;TZID=America/Los_Angeles:20170816T120000
DTEND;TZID=America/Los_Angeles:20170816T170000
DTSTAMP:20260419T195946
CREATED:20170522T202656Z
LAST-MODIFIED:20170522T202656Z
UID:3810-1502884800-1502902800@soulofca.org
SUMMARY:Little Car Show
DESCRIPTION:In downtown Pacific Grove over one hundred little cars (based on engine size) will be on display along Lighthouse Avenue. This and many others are part of Car Week festivities happening at numerous venues around the peninsula.
URL:https://soulofca.org/event/little-car-show/
LOCATION:Pacific Grove\, Central and Grand Streets\, Pacific Grove\, CA\, United States
END:VEVENT
BEGIN:VEVENT
DTSTART;TZID=America/Los_Angeles:20170816T120000
DTEND;TZID=America/Los_Angeles:20170816T170000
DTSTAMP:20260419T195946
CREATED:20170522T202656Z
LAST-MODIFIED:20170522T202656Z
UID:11758-1502884800-1502902800@soulofca.org
SUMMARY:Little Car Show
DESCRIPTION:In downtown Pacific Grove over one hundred little cars (based on engine size) will be on display along Lighthouse Avenue. This and many others are part of Car Week festivities happening at numerous venues around the peninsula.
URL:https://soulofca.org/event/little-car-show-3/
LOCATION:Pacific Grove\, Central and Grand Streets\, Pacific Grove\, CA\, United States
END:VEVENT
BEGIN:VEVENT
DTSTART;TZID=America/Los_Angeles:20170816T110000
DTEND;TZID=America/Los_Angeles:20170816T230000
DTSTAMP:20260419T195946
CREATED:20170807T171118Z
LAST-MODIFIED:20170807T171118Z
UID:4483-1502881200-1502924400@soulofca.org
SUMMARY:Roller Coaster Day
DESCRIPTION:It is a national day to celebrate the roller coaster and what better place to do it than the Santa Cruz Beach Boardwalk? Ride the Big Dipper as many times as you can and enjoy the myriad activities and rides as well. Hang around later and watch “The Princess Bride” at 9:00
URL:https://soulofca.org/event/roller-coaster-day/
LOCATION:Santa Cruz Beach Boardwalk\, 400 Beach St.\, Santa Cruz\, CA\, United States
END:VEVENT
BEGIN:VEVENT
DTSTART;TZID=America/Los_Angeles:20170816T110000
DTEND;TZID=America/Los_Angeles:20170816T230000
DTSTAMP:20260419T195946
CREATED:20170807T171118Z
LAST-MODIFIED:20170807T171118Z
UID:11938-1502881200-1502924400@soulofca.org
SUMMARY:Roller Coaster Day
DESCRIPTION:It is a national day to celebrate the roller coaster and what better place to do it than the Santa Cruz Beach Boardwalk? Ride the Big Dipper as many times as you can and enjoy the myriad activities and rides as well. Hang around later and watch “The Princess Bride” at 9:00
URL:https://soulofca.org/event/roller-coaster-day-2/
LOCATION:Santa Cruz Beach Boardwalk\, 400 Beach St.\, Santa Cruz\, CA\, United States
END:VEVENT
BEGIN:VEVENT
DTSTART;TZID=America/Los_Angeles:20170816T100000
DTEND;TZID=America/Los_Angeles:20170816T170000
DTSTAMP:20260419T195946
CREATED:20170522T193322Z
LAST-MODIFIED:20170522T193322Z
UID:3804-1502877600-1502902800@soulofca.org
SUMMARY:Concours on the Avenue
DESCRIPTION:On Ocean Avenue in Carmel there will be dozens of beautiful examples of automotive design. This and many others are part of Car Week festivities happening at numerous venues around the peninsula.
URL:https://soulofca.org/event/concours-on-the-avenue/
LOCATION:Carmel\, Carmel\, CA\, United States
END:VEVENT
BEGIN:VEVENT
DTSTART;TZID=America/Los_Angeles:20170816T100000
DTEND;TZID=America/Los_Angeles:20170816T170000
DTSTAMP:20260419T195946
CREATED:20170522T193322Z
LAST-MODIFIED:20170522T193322Z
UID:11756-1502877600-1502902800@soulofca.org
SUMMARY:Concours on the Avenue
DESCRIPTION:On Ocean Avenue in Carmel there will be dozens of beautiful examples of automotive design. This and many others are part of Car Week festivities happening at numerous venues around the peninsula.
URL:https://soulofca.org/event/concours-on-the-avenue-3/
LOCATION:Carmel\, Carmel\, CA\, United States
END:VEVENT
BEGIN:VEVENT
DTSTART;TZID=America/Los_Angeles:20170816T090000
DTEND;TZID=America/Los_Angeles:20170816T230000
DTSTAMP:20260419T195946
CREATED:20170807T175753Z
LAST-MODIFIED:20170807T175753Z
UID:4498-1502874000-1502924400@soulofca.org
SUMMARY:Boardwalk Movie Night
DESCRIPTION:`Tonight’s offering is the offbeat and interesting “The Princess Bride” based on the novel of the same name. Come see the adventures of Buttercup and her servant\, Boy. See sword fights\, giants\, and daring rescues. All for free.
URL:https://soulofca.org/event/boardwalk-movie-night-2/
LOCATION:Santa Cruz Beach Boardwalk\, 400 Beach St.\, Santa Cruz\, CA\, United States
END:VEVENT
BEGIN:VEVENT
DTSTART;TZID=America/Los_Angeles:20170816T090000
DTEND;TZID=America/Los_Angeles:20170816T230000
DTSTAMP:20260419T195946
CREATED:20170807T175753Z
LAST-MODIFIED:20170807T175753Z
UID:11943-1502874000-1502924400@soulofca.org
SUMMARY:Boardwalk Movie Night
DESCRIPTION:`Tonight’s offering is the offbeat and interesting “The Princess Bride” based on the novel of the same name. Come see the adventures of Buttercup and her servant\, Boy. See sword fights\, giants\, and daring rescues. All for free.
URL:https://soulofca.org/event/boardwalk-movie-night-2-2/
LOCATION:Santa Cruz Beach Boardwalk\, 400 Beach St.\, Santa Cruz\, CA\, United States
END:VEVENT
BEGIN:VEVENT
DTSTART;TZID=America/Los_Angeles:20170814T160000
DTEND;TZID=America/Los_Angeles:20170814T200000
DTSTAMP:20260419T195946
CREATED:20170313T172448Z
LAST-MODIFIED:20170313T172448Z
UID:3087-1502726400-1502740800@soulofca.org
SUMMARY:Monterey Farmers Market
DESCRIPTION:The Old Monterey Farmers Market\, established in 1991\, comprises of 3 ½ city blocks and runs year-round rain or shine. During the summer it’s the largest gathering of people in Monterey County\, attracting more that 10\,000 locals and tourists in one location. You can travel the world in just three blocks\, finding arts and crafts\, handmade jewelry\, furniture\, clothing\, international food\, organic produce\, flowers\, and pastries. \nOur produce vendors come from all over California\, from Salinas and Watsonville\, to Fresno and Sacramento\, selling Certified and Organic Certified produce. \nArts and crafts vendors come from around the world\, selling treasures from Africa\, Colombia\, Mexico\, Russia\, Japan\, China\, and Yugoslavia\, just to name a few. \nOur food vendors also serve up delicacies that are as international as our products serving up Indian\, Japanese\, Korean\, Mexican\, Mediterranean\, and BBQ delicacies. In our Baker’s Alley you can find fresh pastries like baklava\, European breads\, cookies\, muffins\, pies\, and cakes. \nIn addition to the products and food we offer\, the Old Monterey Farmers Market also includes a variety of community events. You can donate blood through C.H.O.M.P.\, adopt a dog from the SPCA\,register to vote\, and enjoy live music from local musicians.
URL:https://soulofca.org/event/monterey-farmers-market-35/
LOCATION:Downtown Monterey\, Monterey\, CA\, United States
END:VEVENT
BEGIN:VEVENT
DTSTART;TZID=America/Los_Angeles:20170814T160000
DTEND;TZID=America/Los_Angeles:20170814T200000
DTSTAMP:20260419T195946
CREATED:20170313T172448Z
LAST-MODIFIED:20170313T172448Z
UID:11657-1502726400-1502740800@soulofca.org
SUMMARY:Monterey Farmers Market
DESCRIPTION:The Old Monterey Farmers Market\, established in 1991\, comprises of 3 ½ city blocks and runs year-round rain or shine. During the summer it’s the largest gathering of people in Monterey County\, attracting more that 10\,000 locals and tourists in one location. You can travel the world in just three blocks\, finding arts and crafts\, handmade jewelry\, furniture\, clothing\, international food\, organic produce\, flowers\, and pastries. \nOur produce vendors come from all over California\, from Salinas and Watsonville\, to Fresno and Sacramento\, selling Certified and Organic Certified produce. \nArts and crafts vendors come from around the world\, selling treasures from Africa\, Colombia\, Mexico\, Russia\, Japan\, China\, and Yugoslavia\, just to name a few. \nOur food vendors also serve up delicacies that are as international as our products serving up Indian\, Japanese\, Korean\, Mexican\, Mediterranean\, and BBQ delicacies. In our Baker’s Alley you can find fresh pastries like baklava\, European breads\, cookies\, muffins\, pies\, and cakes. \nIn addition to the products and food we offer\, the Old Monterey Farmers Market also includes a variety of community events. You can donate blood through C.H.O.M.P.\, adopt a dog from the SPCA\,register to vote\, and enjoy live music from local musicians.
URL:https://soulofca.org/event/monterey-farmers-market-35-2/
LOCATION:Downtown Monterey\, Monterey\, CA\, United States
END:VEVENT
BEGIN:VEVENT
DTSTART;TZID=America/Los_Angeles:20170813T120000
DTEND;TZID=America/Los_Angeles:20170813T160000
DTSTAMP:20260419T195946
CREATED:20170710T171423Z
LAST-MODIFIED:20170710T171423Z
UID:4186-1502625600-1502640000@soulofca.org
SUMMARY:Monterey County Historical Society Tri-tip BBQ
DESCRIPTION:Fundraiser for the Historical Society and its many efforts at preserving the history of our area.  You can tour their facility\, enjoy great music from The Trail Ride Band\, and good food from Dave’s Famous BBQ (tri-tip what else?).  Food available from 12:30 til 2:00 music and festivities until 4:00.
URL:https://soulofca.org/event/monterey-county-historical-society-tri-tip-bbq/
LOCATION:Boronda Adobe History Center\, 333 Boronda Rd. \, Salinas \, CA\, United States
END:VEVENT
BEGIN:VEVENT
DTSTART;TZID=America/Los_Angeles:20170813T120000
DTEND;TZID=America/Los_Angeles:20170813T160000
DTSTAMP:20260419T195946
CREATED:20170710T171423Z
LAST-MODIFIED:20170710T171423Z
UID:11851-1502625600-1502640000@soulofca.org
SUMMARY:Monterey County Historical Society Tri-tip BBQ
DESCRIPTION:Fundraiser for the Historical Society and its many efforts at preserving the history of our area.  You can tour their facility\, enjoy great music from The Trail Ride Band\, and good food from Dave’s Famous BBQ (tri-tip what else?).  Food available from 12:30 til 2:00 music and festivities until 4:00.
URL:https://soulofca.org/event/monterey-county-historical-society-tri-tip-bbq-2/
LOCATION:Boronda Adobe History Center\, 333 Boronda Rd. \, Salinas \, CA\, United States
END:VEVENT
BEGIN:VEVENT
DTSTART;TZID=America/Los_Angeles:20170813T080000
DTEND;TZID=America/Los_Angeles:20170813T160000
DTSTAMP:20260419T195946
CREATED:20170724T182140Z
LAST-MODIFIED:20170724T182140Z
UID:4387-1502611200-1502640000@soulofca.org
SUMMARY:San Juan Bautista Antique Fair
DESCRIPTION:This is the 53rd annual antique fair presented by the folks in San Juan Bautista. They have bona fide antiques and collectibles as well as appraisers\, food\, and entertainment.  All proceeds go to community projects like Families-In-Need. Come over\, see beautiful and quaint San Juan Bautista peruse the collections\, and enjoy a lovely day in the sun. Bring sun block.
URL:https://soulofca.org/event/san-juan-bautista-antique-fair/
LOCATION:Downtown San Juan Bautista\, San Juan Bautista\, CA\, United States
END:VEVENT
BEGIN:VEVENT
DTSTART;TZID=America/Los_Angeles:20170813T080000
DTEND;TZID=America/Los_Angeles:20170813T160000
DTSTAMP:20260419T195946
CREATED:20170724T182140Z
LAST-MODIFIED:20170724T182140Z
UID:11914-1502611200-1502640000@soulofca.org
SUMMARY:San Juan Bautista Antique Fair
DESCRIPTION:This is the 53rd annual antique fair presented by the folks in San Juan Bautista. They have bona fide antiques and collectibles as well as appraisers\, food\, and entertainment.  All proceeds go to community projects like Families-In-Need. Come over\, see beautiful and quaint San Juan Bautista peruse the collections\, and enjoy a lovely day in the sun. Bring sun block.
URL:https://soulofca.org/event/san-juan-bautista-antique-fair-2/
LOCATION:Downtown San Juan Bautista\, San Juan Bautista\, CA\, United States
END:VEVENT
END:VCALENDAR