BEGIN:VCALENDAR
VERSION:2.0
PRODID:-//Soul of CA - ECPv6.15.17//NONSGML v1.0//EN
CALSCALE:GREGORIAN
METHOD:PUBLISH
X-WR-CALNAME:Soul of CA
X-ORIGINAL-URL:https://soulofca.org
X-WR-CALDESC:Events for Soul of CA
REFRESH-INTERVAL;VALUE=DURATION:PT1H
X-Robots-Tag:noindex
X-PUBLISHED-TTL:PT1H
BEGIN:VTIMEZONE
TZID:America/Los_Angeles
BEGIN:DAYLIGHT
TZOFFSETFROM:-0800
TZOFFSETTO:-0700
TZNAME:PDT
DTSTART:20160313T100000
END:DAYLIGHT
BEGIN:STANDARD
TZOFFSETFROM:-0700
TZOFFSETTO:-0800
TZNAME:PST
DTSTART:20161106T090000
END:STANDARD
BEGIN:DAYLIGHT
TZOFFSETFROM:-0800
TZOFFSETTO:-0700
TZNAME:PDT
DTSTART:20170312T100000
END:DAYLIGHT
BEGIN:STANDARD
TZOFFSETFROM:-0700
TZOFFSETTO:-0800
TZNAME:PST
DTSTART:20171105T090000
END:STANDARD
BEGIN:DAYLIGHT
TZOFFSETFROM:-0800
TZOFFSETTO:-0700
TZNAME:PDT
DTSTART:20180311T100000
END:DAYLIGHT
BEGIN:STANDARD
TZOFFSETFROM:-0700
TZOFFSETTO:-0800
TZNAME:PST
DTSTART:20181104T090000
END:STANDARD
END:VTIMEZONE
BEGIN:VEVENT
DTSTART;TZID=America/Los_Angeles:20170823T180000
DTEND;TZID=America/Los_Angeles:20170823T210000
DTSTAMP:20260419T155239
CREATED:20170522T181124Z
LAST-MODIFIED:20170522T181124Z
UID:3782-1503511200-1503522000@soulofca.org
SUMMARY:Fort Ord Bicycle Ride and BBQ
DESCRIPTION:An opportunity to meet other bicyclists and enjoy the lovely trails of the former Fort Ord military base. Check their website for more details and directions to the meet-up site.   There are other activities available as well.
URL:https://soulofca.org/event/fort-ord-bicycle-ride-and-bbq-9/
LOCATION:Fort Ord\, Seaside \, CA\, United States
END:VEVENT
BEGIN:VEVENT
DTSTART;TZID=America/Los_Angeles:20170823T180000
DTEND;TZID=America/Los_Angeles:20170823T210000
DTSTAMP:20260419T155239
CREATED:20170522T181124Z
LAST-MODIFIED:20170522T181124Z
UID:11750-1503511200-1503522000@soulofca.org
SUMMARY:Fort Ord Bicycle Ride and BBQ
DESCRIPTION:An opportunity to meet other bicyclists and enjoy the lovely trails of the former Fort Ord military base. Check their website for more details and directions to the meet-up site.   There are other activities available as well.
URL:https://soulofca.org/event/fort-ord-bicycle-ride-and-bbq-9-2/
LOCATION:Fort Ord\, Seaside \, CA\, United States
END:VEVENT
BEGIN:VEVENT
DTSTART;TZID=America/Los_Angeles:20170823T180000
DTEND;TZID=America/Los_Angeles:20170823T200000
DTSTAMP:20260419T155239
CREATED:20170814T205218Z
LAST-MODIFIED:20170814T205218Z
UID:4580-1503511200-1503518400@soulofca.org
SUMMARY:Twilight Concert
DESCRIPTION:In the City of Capitola’s Esplanade Park there will be a series of concerts featuring a variety of musical genres. From Big Band to Rock and Roll they are getting their collective groove on. Come down and enjoy this week’s entertainment.  This week’s group; the big band blues sounds of Delta Wire.
URL:https://soulofca.org/event/twilight-concert-2/
LOCATION:Esplanade Park\, 100 Monterey Ave. \, Capitola\, CA\, 95010\, United States
END:VEVENT
BEGIN:VEVENT
DTSTART;TZID=America/Los_Angeles:20170823T180000
DTEND;TZID=America/Los_Angeles:20170823T200000
DTSTAMP:20260419T155239
CREATED:20170814T205218Z
LAST-MODIFIED:20170814T205218Z
UID:11964-1503511200-1503518400@soulofca.org
SUMMARY:Twilight Concert
DESCRIPTION:In the City of Capitola’s Esplanade Park there will be a series of concerts featuring a variety of musical genres. From Big Band to Rock and Roll they are getting their collective groove on. Come down and enjoy this week’s entertainment.  This week’s group; the big band blues sounds of Delta Wire.
URL:https://soulofca.org/event/twilight-concert-2-2/
LOCATION:Esplanade Park\, 100 Monterey Ave. \, Capitola\, CA\, 95010\, United States
END:VEVENT
BEGIN:VEVENT
DTSTART;TZID=America/Los_Angeles:20170821T160000
DTEND;TZID=America/Los_Angeles:20170821T200000
DTSTAMP:20260419T155239
CREATED:20170313T172307Z
LAST-MODIFIED:20170313T172307Z
UID:3090-1503331200-1503345600@soulofca.org
SUMMARY:Monterey Farmers Market
DESCRIPTION:The Old Monterey Farmers Market\, established in 1991\, comprises of 3 ½ city blocks and runs year-round rain or shine. During the summer it’s the largest gathering of people in Monterey County\, attracting more that 10\,000 locals and tourists in one location. You can travel the world in just three blocks\, finding arts and crafts\, handmade jewelry\, furniture\, clothing\, international food\, organic produce\, flowers\, and pastries. \nOur produce vendors come from all over California\, from Salinas and Watsonville\, to Fresno and Sacramento\, selling Certified and Organic Certified produce. \nArts and crafts vendors come from around the world\, selling treasures from Africa\, Colombia\, Mexico\, Russia\, Japan\, China\, and Yugoslavia\, just to name a few. \nOur food vendors also serve up delicacies that are as international as our products serving up Indian\, Japanese\, Korean\, Mexican\, Mediterranean\, and BBQ delicacies. In our Baker’s Alley you can find fresh pastries like baklava\, European breads\, cookies\, muffins\, pies\, and cakes. \nIn addition to the products and food we offer\, the Old Monterey Farmers Market also includes a variety of community events. You can donate blood through C.H.O.M.P.\, adopt a dog from the SPCA\,register to vote\, and enjoy live music from local musicians.
URL:https://soulofca.org/event/monterey-farmers-market-34/
LOCATION:Downtown Monterey\, Monterey\, CA\, United States
END:VEVENT
BEGIN:VEVENT
DTSTART;TZID=America/Los_Angeles:20170821T160000
DTEND;TZID=America/Los_Angeles:20170821T200000
DTSTAMP:20260419T155239
CREATED:20170313T172307Z
LAST-MODIFIED:20170313T172307Z
UID:11658-1503331200-1503345600@soulofca.org
SUMMARY:Monterey Farmers Market
DESCRIPTION:The Old Monterey Farmers Market\, established in 1991\, comprises of 3 ½ city blocks and runs year-round rain or shine. During the summer it’s the largest gathering of people in Monterey County\, attracting more that 10\,000 locals and tourists in one location. You can travel the world in just three blocks\, finding arts and crafts\, handmade jewelry\, furniture\, clothing\, international food\, organic produce\, flowers\, and pastries. \nOur produce vendors come from all over California\, from Salinas and Watsonville\, to Fresno and Sacramento\, selling Certified and Organic Certified produce. \nArts and crafts vendors come from around the world\, selling treasures from Africa\, Colombia\, Mexico\, Russia\, Japan\, China\, and Yugoslavia\, just to name a few. \nOur food vendors also serve up delicacies that are as international as our products serving up Indian\, Japanese\, Korean\, Mexican\, Mediterranean\, and BBQ delicacies. In our Baker’s Alley you can find fresh pastries like baklava\, European breads\, cookies\, muffins\, pies\, and cakes. \nIn addition to the products and food we offer\, the Old Monterey Farmers Market also includes a variety of community events. You can donate blood through C.H.O.M.P.\, adopt a dog from the SPCA\,register to vote\, and enjoy live music from local musicians.
URL:https://soulofca.org/event/monterey-farmers-market-34-2/
LOCATION:Downtown Monterey\, Monterey\, CA\, United States
END:VEVENT
BEGIN:VEVENT
DTSTART;TZID=America/Los_Angeles:20170820T100000
DTEND;TZID=America/Los_Angeles:20170820T140000
DTSTAMP:20260419T155239
CREATED:20170313T172358Z
LAST-MODIFIED:20170313T172358Z
UID:3384-1503223200-1503237600@soulofca.org
SUMMARY:Marina Farmers' Market
DESCRIPTION:A weekly gathering of local farmers offering a wide variety of produce.
URL:https://soulofca.org/event/marina-farmers-market-20/
LOCATION:Marina Village Shopping Center\, Marina
END:VEVENT
BEGIN:VEVENT
DTSTART;TZID=America/Los_Angeles:20170820T100000
DTEND;TZID=America/Los_Angeles:20170820T140000
DTSTAMP:20260419T155239
CREATED:20170313T172358Z
LAST-MODIFIED:20170313T172358Z
UID:11668-1503223200-1503237600@soulofca.org
SUMMARY:Marina Farmers' Market
DESCRIPTION:A weekly gathering of local farmers offering a wide variety of produce.
URL:https://soulofca.org/event/marina-farmers-market-20-2/
LOCATION:Marina Village Shopping Center\, Marina
END:VEVENT
BEGIN:VEVENT
DTSTART;TZID=America/Los_Angeles:20170819T200000
DTEND;TZID=America/Los_Angeles:20170819T230000
DTSTAMP:20260419T155239
CREATED:20170515T214319Z
LAST-MODIFIED:20170515T214319Z
UID:3726-1503172800-1503183600@soulofca.org
SUMMARY:Fremont Peak Observatory FPOA
DESCRIPTION:A variety of dates available to use the “Challenger” telescope and often the telescopes of the members to view the wonders of the night (even daytime) sky.
URL:https://soulofca.org/event/fremont-peak-observatory-fpoa-9/
LOCATION:Fremont Peak Park\, San Juan Bautisita\, CA\, 95045\, United States
END:VEVENT
BEGIN:VEVENT
DTSTART;TZID=America/Los_Angeles:20170819T200000
DTEND;TZID=America/Los_Angeles:20170819T230000
DTSTAMP:20260419T155239
CREATED:20170515T214319Z
LAST-MODIFIED:20170515T214319Z
UID:11735-1503172800-1503183600@soulofca.org
SUMMARY:Fremont Peak Observatory FPOA
DESCRIPTION:A variety of dates available to use the “Challenger” telescope and often the telescopes of the members to view the wonders of the night (even daytime) sky.
URL:https://soulofca.org/event/fremont-peak-observatory-fpoa-9-2/
LOCATION:Fremont Peak Park\, San Juan Bautisita\, CA\, 95045\, United States
END:VEVENT
BEGIN:VEVENT
DTSTART;TZID=America/Los_Angeles:20170819T200000
DTEND;TZID=America/Los_Angeles:20170819T220000
DTSTAMP:20260419T155239
CREATED:20170529T175822Z
LAST-MODIFIED:20170529T175822Z
UID:3871-1503172800-1503180000@soulofca.org
SUMMARY:Rodney Carrington
DESCRIPTION:Writer\, comedian\, actor and funny guy\, Carrington comes to share his thoughts with us at the Golden State Theater. You have seen him at award shows and in movies. Come see him in person.
URL:https://soulofca.org/event/rodney-carrington/
LOCATION:Golden State Theater\, 417 Alvarado St.\, Monterey\, CA\, 93940\, United States
END:VEVENT
BEGIN:VEVENT
DTSTART;TZID=America/Los_Angeles:20170819T200000
DTEND;TZID=America/Los_Angeles:20170819T220000
DTSTAMP:20260419T155239
CREATED:20170529T175822Z
LAST-MODIFIED:20170529T175822Z
UID:11772-1503172800-1503180000@soulofca.org
SUMMARY:Rodney Carrington
DESCRIPTION:Writer\, comedian\, actor and funny guy\, Carrington comes to share his thoughts with us at the Golden State Theater. You have seen him at award shows and in movies. Come see him in person.
URL:https://soulofca.org/event/rodney-carrington-2/
LOCATION:Golden State Theater\, 417 Alvarado St.\, Monterey\, CA\, 93940\, United States
END:VEVENT
BEGIN:VEVENT
DTSTART;TZID=America/Los_Angeles:20170819T140000
DTEND;TZID=America/Los_Angeles:20170819T180000
DTSTAMP:20260419T155239
CREATED:20170807T203106Z
LAST-MODIFIED:20170807T203106Z
UID:4509-1503151200-1503165600@soulofca.org
SUMMARY:PAL Car Show
DESCRIPTION:Lots of the coolest cars in the Salinas Valley and surrounding area; including\, Rods\, Custom\, Classic and so many more types. There will be vendors\, a beer garden\, and music by The DJ Booth. All this to benefit Salinas Police Activities League’s efforts at aiding young people in the Salinas area.
URL:https://soulofca.org/event/pal-car-show/
LOCATION:OldTown Salinas\, Main St.\, Salinas\, CA\, 93901\, United States
END:VEVENT
BEGIN:VEVENT
DTSTART;TZID=America/Los_Angeles:20170819T140000
DTEND;TZID=America/Los_Angeles:20170819T180000
DTSTAMP:20260419T155239
CREATED:20170807T203106Z
LAST-MODIFIED:20170807T203106Z
UID:11948-1503151200-1503165600@soulofca.org
SUMMARY:PAL Car Show
DESCRIPTION:Lots of the coolest cars in the Salinas Valley and surrounding area; including\, Rods\, Custom\, Classic and so many more types. There will be vendors\, a beer garden\, and music by The DJ Booth. All this to benefit Salinas Police Activities League’s efforts at aiding young people in the Salinas area.
URL:https://soulofca.org/event/pal-car-show-2/
LOCATION:OldTown Salinas\, Main St.\, Salinas\, CA\, 93901\, United States
END:VEVENT
BEGIN:VEVENT
DTSTART;TZID=America/Los_Angeles:20170819T100000
DTEND;TZID=America/Los_Angeles:20170819T150000
DTSTAMP:20260419T155239
CREATED:20170626T184418Z
LAST-MODIFIED:20170626T184418Z
UID:4080-1503136800-1503154800@soulofca.org
SUMMARY:Pezzini Farms One Day Market
DESCRIPTION:A one day event featuring lots of local vendors and artists. This is set up by one of Monterey County’s first agricultural families and showcases their wonderful crop\, those delicious artichokes.
URL:https://soulofca.org/event/pezzini-farms-one-day-market/
LOCATION:Pezzini Farms\, 460 Nashua Rd. \, Salinas \, CA\, United States
END:VEVENT
BEGIN:VEVENT
DTSTART;TZID=America/Los_Angeles:20170819T100000
DTEND;TZID=America/Los_Angeles:20170819T150000
DTSTAMP:20260419T155239
CREATED:20170626T184418Z
LAST-MODIFIED:20170626T184418Z
UID:11817-1503136800-1503154800@soulofca.org
SUMMARY:Pezzini Farms One Day Market
DESCRIPTION:A one day event featuring lots of local vendors and artists. This is set up by one of Monterey County’s first agricultural families and showcases their wonderful crop\, those delicious artichokes.
URL:https://soulofca.org/event/pezzini-farms-one-day-market-2/
LOCATION:Pezzini Farms\, 460 Nashua Rd. \, Salinas \, CA\, United States
END:VEVENT
BEGIN:VEVENT
DTSTART;TZID=America/Los_Angeles:20170819T100000
DTEND;TZID=America/Los_Angeles:20170819T140000
DTSTAMP:20260419T155239
CREATED:20170717T175419Z
LAST-MODIFIED:20170717T175419Z
UID:4285-1503136800-1503151200@soulofca.org
SUMMARY:Old Town Farmers' Market
DESCRIPTION:Every week local farmers and small business people gather to offer a tasty and nutritious spread of foods\, prepared or straight from the fields. Others offer a variety of goods for sale. Either way good bargains on great products are here for your perusal. Come down and get to know what’s happening\, seasons change and merchants are always offering something new.
URL:https://soulofca.org/event/old-town-farmers-market-5/
LOCATION:CA
END:VEVENT
BEGIN:VEVENT
DTSTART;TZID=America/Los_Angeles:20170819T100000
DTEND;TZID=America/Los_Angeles:20170819T140000
DTSTAMP:20260419T155239
CREATED:20170717T175419Z
LAST-MODIFIED:20170717T175419Z
UID:11877-1503136800-1503151200@soulofca.org
SUMMARY:Old Town Farmers' Market
DESCRIPTION:Every week local farmers and small business people gather to offer a tasty and nutritious spread of foods\, prepared or straight from the fields. Others offer a variety of goods for sale. Either way good bargains on great products are here for your perusal. Come down and get to know what’s happening\, seasons change and merchants are always offering something new.
URL:https://soulofca.org/event/old-town-farmers-market-5-2/
LOCATION:CA
END:VEVENT
BEGIN:VEVENT
DTSTART;TZID=America/Los_Angeles:20170819T093000
DTEND;TZID=America/Los_Angeles:20170819T170000
DTSTAMP:20260419T155239
CREATED:20170522T211816Z
LAST-MODIFIED:20170522T211816Z
UID:3829-1503135000-1503162000@soulofca.org
SUMMARY:Concorso Italiano
DESCRIPTION:A chance for you to see exceptional Italian motorcars displayed in a lovely setting overlooking the Monterey Bay. This and many others are part of Car Week festivities happening at numerous venues around the peninsula.
URL:https://soulofca.org/event/concorso-italiano/
LOCATION:Black Horse Golf Club\, Seaside \, CA\, United States
END:VEVENT
BEGIN:VEVENT
DTSTART;TZID=America/Los_Angeles:20170819T093000
DTEND;TZID=America/Los_Angeles:20170819T170000
DTSTAMP:20260419T155239
CREATED:20170522T211816Z
LAST-MODIFIED:20170522T211816Z
UID:11763-1503135000-1503162000@soulofca.org
SUMMARY:Concorso Italiano
DESCRIPTION:A chance for you to see exceptional Italian motorcars displayed in a lovely setting overlooking the Monterey Bay. This and many others are part of Car Week festivities happening at numerous venues around the peninsula.
URL:https://soulofca.org/event/concorso-italiano-2/
LOCATION:Black Horse Golf Club\, Seaside \, CA\, United States
END:VEVENT
BEGIN:VEVENT
DTSTART;TZID=America/Los_Angeles:20170818T183000
DTEND;TZID=America/Los_Angeles:20170818T220000
DTSTAMP:20260419T155239
CREATED:20170807T185004Z
LAST-MODIFIED:20170807T185004Z
UID:4506-1503081000-1503093600@soulofca.org
SUMMARY:Boardwalk Concert Series Gin Blossoms
DESCRIPTION:Tonight’s presentation is the band\, Gin Blossoms. It is fairly certain that they will play “Hey Jealousy” one of their best known songs.  They will show us a great rock-n-roll kind of an evening. Come down\, enjoy the sights and sounds of the boardwalk and see a great sunset. No guarantee on the sunset though. Two shows\, one at 6:30 and the other at 8:30.
URL:https://soulofca.org/event/boardwalk-concert-series-gin-blossoms/
LOCATION:Santa Cruz Beach Boardwalk\, 400 Beach St.\, Santa Cruz\, CA\, United States
END:VEVENT
BEGIN:VEVENT
DTSTART;TZID=America/Los_Angeles:20170818T183000
DTEND;TZID=America/Los_Angeles:20170818T220000
DTSTAMP:20260419T155239
CREATED:20170807T185004Z
LAST-MODIFIED:20170807T185004Z
UID:11947-1503081000-1503093600@soulofca.org
SUMMARY:Boardwalk Concert Series Gin Blossoms
DESCRIPTION:Tonight’s presentation is the band\, Gin Blossoms. It is fairly certain that they will play “Hey Jealousy” one of their best known songs.  They will show us a great rock-n-roll kind of an evening. Come down\, enjoy the sights and sounds of the boardwalk and see a great sunset. No guarantee on the sunset though. Two shows\, one at 6:30 and the other at 8:30.
URL:https://soulofca.org/event/boardwalk-concert-series-gin-blossoms-2/
LOCATION:Santa Cruz Beach Boardwalk\, 400 Beach St.\, Santa Cruz\, CA\, United States
END:VEVENT
BEGIN:VEVENT
DTSTART;TZID=America/Los_Angeles:20170818T160000
DTEND;TZID=America/Los_Angeles:20170818T200000
DTSTAMP:20260419T155239
CREATED:20170522T211435Z
LAST-MODIFIED:20170522T211435Z
UID:3826-1503072000-1503086400@soulofca.org
SUMMARY:Exotics on Cannery Row
DESCRIPTION:The title says it all\, exotic cars in the evening on Cannery Row. Always a great venue and opportunity for people to see these amazing vehicles. This and many others are part of Car Week festivities happening at numerous venues around the peninsula.
URL:https://soulofca.org/event/exotics-on-cannery-row/
LOCATION:Cannery Row\, Cannery Row\, Monterey\, CA\, 93940\, United States
END:VEVENT
BEGIN:VEVENT
DTSTART;TZID=America/Los_Angeles:20170818T160000
DTEND;TZID=America/Los_Angeles:20170818T200000
DTSTAMP:20260419T155239
CREATED:20170522T211435Z
LAST-MODIFIED:20170522T211435Z
UID:11762-1503072000-1503086400@soulofca.org
SUMMARY:Exotics on Cannery Row
DESCRIPTION:The title says it all\, exotic cars in the evening on Cannery Row. Always a great venue and opportunity for people to see these amazing vehicles. This and many others are part of Car Week festivities happening at numerous venues around the peninsula.
URL:https://soulofca.org/event/exotics-on-cannery-row-2/
LOCATION:Cannery Row\, Cannery Row\, Monterey\, CA\, 93940\, United States
END:VEVENT
BEGIN:VEVENT
DTSTART;TZID=America/Los_Angeles:20170818T133000
DTEND;TZID=America/Los_Angeles:20170818T173000
DTSTAMP:20260419T155239
CREATED:20170717T175243Z
LAST-MODIFIED:20170717T175243Z
UID:4283-1503063000-1503077400@soulofca.org
SUMMARY:Memorial Hospital
DESCRIPTION:Every week local farmers and small business people gather to offer a tasty and nutritious spread of foods\, prepared or straight from the fields. Others offer a variety of goods for sale. Either way good bargains on great products are here for your perusal. Come down and get to know what’s happening\, seasons change and merchants are always offering something new.
URL:https://soulofca.org/event/memorial-hospital/
LOCATION:Salinas Valley Memorial Hospital\, Romie Lane \, Salinas \, CA\, United States
END:VEVENT
BEGIN:VEVENT
DTSTART;TZID=America/Los_Angeles:20170818T133000
DTEND;TZID=America/Los_Angeles:20170818T173000
DTSTAMP:20260419T155239
CREATED:20170717T175243Z
LAST-MODIFIED:20170717T175243Z
UID:11876-1503063000-1503077400@soulofca.org
SUMMARY:Memorial Hospital
DESCRIPTION:Every week local farmers and small business people gather to offer a tasty and nutritious spread of foods\, prepared or straight from the fields. Others offer a variety of goods for sale. Either way good bargains on great products are here for your perusal. Come down and get to know what’s happening\, seasons change and merchants are always offering something new.
URL:https://soulofca.org/event/memorial-hospital-2/
LOCATION:Salinas Valley Memorial Hospital\, Romie Lane \, Salinas \, CA\, United States
END:VEVENT
BEGIN:VEVENT
DTSTART;TZID=America/Los_Angeles:20170818T100000
DTEND;TZID=America/Los_Angeles:20170915T170000
DTSTAMP:20260419T155239
CREATED:20170815T173000Z
LAST-MODIFIED:20170815T173000Z
UID:4625-1503050400-1505494800@soulofca.org
SUMMARY:Monterey @60 a visual festival
DESCRIPTION:A presentation of sixty years of the posters advertising the Monterey Jazz Festival. Remarkable\, lively\, funny and creative just like the music presented at the annual festival. Some iconic like the trumpet and chair\, others less so but always eye-catching and informative. It runs from August 18 through September 15.
URL:https://soulofca.org/event/monterey-60-a-visual-festival/
LOCATION:Carl Cherry Center\, 4th and Guadalupe\, Carmel \, CA\, 93921\, United States
END:VEVENT
BEGIN:VEVENT
DTSTART;TZID=America/Los_Angeles:20170818T100000
DTEND;TZID=America/Los_Angeles:20170915T170000
DTSTAMP:20260419T155239
CREATED:20170815T173000Z
LAST-MODIFIED:20170815T173000Z
UID:11976-1503050400-1505494800@soulofca.org
SUMMARY:Monterey @60 a visual festival
DESCRIPTION:A presentation of sixty years of the posters advertising the Monterey Jazz Festival. Remarkable\, lively\, funny and creative just like the music presented at the annual festival. Some iconic like the trumpet and chair\, others less so but always eye-catching and informative. It runs from August 18 through September 15.
URL:https://soulofca.org/event/monterey-60-a-visual-festival-2/
LOCATION:Carl Cherry Center\, 4th and Guadalupe\, Carmel \, CA\, 93921\, United States
END:VEVENT
BEGIN:VEVENT
DTSTART;TZID=America/Los_Angeles:20170818T100000
DTEND;TZID=America/Los_Angeles:20170818T160000
DTSTAMP:20260419T155239
CREATED:20170522T205818Z
LAST-MODIFIED:20170522T205818Z
UID:3823-1503050400-1503072000@soulofca.org
SUMMARY:Quail Motorsports Gathering
DESCRIPTION:A gathering of classic vehicles\, including motorcycles and other unusual items.This and many others are part of Car Week festivities happening at numerous venues around the peninsula.
URL:https://soulofca.org/event/quail-motorsports-gathering/
LOCATION:Quail Lodge\, 8205 Valley Greens Dr.\, Carmel\, CA\, 93923\, United States
END:VEVENT
BEGIN:VEVENT
DTSTART;TZID=America/Los_Angeles:20170818T100000
DTEND;TZID=America/Los_Angeles:20170818T160000
DTSTAMP:20260419T155239
CREATED:20170522T205818Z
LAST-MODIFIED:20170522T205818Z
UID:11761-1503050400-1503072000@soulofca.org
SUMMARY:Quail Motorsports Gathering
DESCRIPTION:A gathering of classic vehicles\, including motorcycles and other unusual items.This and many others are part of Car Week festivities happening at numerous venues around the peninsula.
URL:https://soulofca.org/event/quail-motorsports-gathering-2/
LOCATION:Quail Lodge\, 8205 Valley Greens Dr.\, Carmel\, CA\, 93923\, United States
END:VEVENT
END:VCALENDAR