BEGIN:VCALENDAR
VERSION:2.0
PRODID:-//Soul of CA - ECPv6.15.17//NONSGML v1.0//EN
CALSCALE:GREGORIAN
METHOD:PUBLISH
X-WR-CALNAME:Soul of CA
X-ORIGINAL-URL:https://soulofca.org
X-WR-CALDESC:Events for Soul of CA
REFRESH-INTERVAL;VALUE=DURATION:PT1H
X-Robots-Tag:noindex
X-PUBLISHED-TTL:PT1H
BEGIN:VTIMEZONE
TZID:America/Los_Angeles
BEGIN:DAYLIGHT
TZOFFSETFROM:-0800
TZOFFSETTO:-0700
TZNAME:PDT
DTSTART:20160313T100000
END:DAYLIGHT
BEGIN:STANDARD
TZOFFSETFROM:-0700
TZOFFSETTO:-0800
TZNAME:PST
DTSTART:20161106T090000
END:STANDARD
BEGIN:DAYLIGHT
TZOFFSETFROM:-0800
TZOFFSETTO:-0700
TZNAME:PDT
DTSTART:20170312T100000
END:DAYLIGHT
BEGIN:STANDARD
TZOFFSETFROM:-0700
TZOFFSETTO:-0800
TZNAME:PST
DTSTART:20171105T090000
END:STANDARD
BEGIN:DAYLIGHT
TZOFFSETFROM:-0800
TZOFFSETTO:-0700
TZNAME:PDT
DTSTART:20180311T100000
END:DAYLIGHT
BEGIN:STANDARD
TZOFFSETFROM:-0700
TZOFFSETTO:-0800
TZNAME:PST
DTSTART:20181104T090000
END:STANDARD
END:VTIMEZONE
BEGIN:VEVENT
DTSTART;TZID=America/Los_Angeles:20170826T200000
DTEND;TZID=America/Los_Angeles:20170826T230000
DTSTAMP:20260419T114434
CREATED:20170515T214450Z
LAST-MODIFIED:20170515T214450Z
UID:3729-1503777600-1503788400@soulofca.org
SUMMARY:Fremont Peak Observatory FPOA
DESCRIPTION:A variety of dates available to use the “Challenger” telescope and often the telescopes of the members to view the wonders of the night (even daytime) sky.
URL:https://soulofca.org/event/fremont-peak-observatory-fpoa-10/
LOCATION:Fremont Peak Park\, San Juan Bautisita\, CA\, 95045\, United States
END:VEVENT
BEGIN:VEVENT
DTSTART;TZID=America/Los_Angeles:20170826T200000
DTEND;TZID=America/Los_Angeles:20170826T230000
DTSTAMP:20260419T114434
CREATED:20170515T214450Z
LAST-MODIFIED:20170515T214450Z
UID:11736-1503777600-1503788400@soulofca.org
SUMMARY:Fremont Peak Observatory FPOA
DESCRIPTION:A variety of dates available to use the “Challenger” telescope and often the telescopes of the members to view the wonders of the night (even daytime) sky.
URL:https://soulofca.org/event/fremont-peak-observatory-fpoa-10-2/
LOCATION:Fremont Peak Park\, San Juan Bautisita\, CA\, 95045\, United States
END:VEVENT
BEGIN:VEVENT
DTSTART;TZID=America/Los_Angeles:20170826T193000
DTEND;TZID=America/Los_Angeles:20170826T193000
DTSTAMP:20260419T114434
CREATED:20170703T183128Z
LAST-MODIFIED:20170703T183128Z
UID:4121-1503775800-1503775800@soulofca.org
SUMMARY:In The Heights
DESCRIPTION:Lin Manuel-Miranda’s hit play before he went on to the success of “Hamilton”. It’s a lively exploration of life and relationships in Brooklyn Heights. Critically acclaimed. Runs August 26th through Sept 16th.
URL:https://soulofca.org/event/in-the-heights/
LOCATION:Western Stage\, Hartnell College\, Salinas\, CA\, 93901\, United States
END:VEVENT
BEGIN:VEVENT
DTSTART;TZID=America/Los_Angeles:20170826T193000
DTEND;TZID=America/Los_Angeles:20170826T193000
DTSTAMP:20260419T114434
CREATED:20170703T183128Z
LAST-MODIFIED:20170703T183128Z
UID:11831-1503775800-1503775800@soulofca.org
SUMMARY:In The Heights
DESCRIPTION:Lin Manuel-Miranda’s hit play before he went on to the success of “Hamilton”. It’s a lively exploration of life and relationships in Brooklyn Heights. Critically acclaimed. Runs August 26th through Sept 16th.
URL:https://soulofca.org/event/in-the-heights-2/
LOCATION:Western Stage\, Hartnell College\, Salinas\, CA\, 93901\, United States
END:VEVENT
BEGIN:VEVENT
DTSTART;TZID=America/Los_Angeles:20170826T180000
DTEND;TZID=America/Los_Angeles:20170826T210000
DTSTAMP:20260419T114434
CREATED:20170724T214959Z
LAST-MODIFIED:20170724T214959Z
UID:4411-1503770400-1503781200@soulofca.org
SUMMARY:Hollister Concerts
DESCRIPTION:This concert series features bands in the pastoral setting of the Guerra Cellars on John Smith Road just outside Hollister. This week’s artists are tribute artists concentrating on the music of  Fleetwood Mac and Tom Petty and the HeartBreakers. Their names are Mirage and Petty Breakers\, respectively. No doubt some serious rockin’ will be going on in those grapevines. Come down and find out.
URL:https://soulofca.org/event/hollister-concerts-2/
LOCATION:Guerra Cellars\, 500 John Smith Rd. \, Hollister\, CA\, United States
END:VEVENT
BEGIN:VEVENT
DTSTART;TZID=America/Los_Angeles:20170826T180000
DTEND;TZID=America/Los_Angeles:20170826T210000
DTSTAMP:20260419T114434
CREATED:20170724T214959Z
LAST-MODIFIED:20170724T214959Z
UID:11921-1503770400-1503781200@soulofca.org
SUMMARY:Hollister Concerts
DESCRIPTION:This concert series features bands in the pastoral setting of the Guerra Cellars on John Smith Road just outside Hollister. This week’s artists are tribute artists concentrating on the music of  Fleetwood Mac and Tom Petty and the HeartBreakers. Their names are Mirage and Petty Breakers\, respectively. No doubt some serious rockin’ will be going on in those grapevines. Come down and find out.
URL:https://soulofca.org/event/hollister-concerts-2-2/
LOCATION:Guerra Cellars\, 500 John Smith Rd. \, Hollister\, CA\, United States
END:VEVENT
BEGIN:VEVENT
DTSTART;TZID=America/Los_Angeles:20170826T160000
DTEND;TZID=America/Los_Angeles:20170827T220000
DTSTAMP:20260419T114434
CREATED:20170731T192117Z
LAST-MODIFIED:20170731T192117Z
UID:4459-1503763200-1503871200@soulofca.org
SUMMARY:Stone Soup Music Festival
DESCRIPTION:Grover Beach is host to a slate of musicians for two days and a night. Certain to be a delightful time in a lovely place.
URL:https://soulofca.org/event/stone-soup-music-festival/
LOCATION:Grover Beach\, Grover Beach\, CA\, United States
END:VEVENT
BEGIN:VEVENT
DTSTART;TZID=America/Los_Angeles:20170826T160000
DTEND;TZID=America/Los_Angeles:20170827T220000
DTSTAMP:20260419T114434
CREATED:20170731T192117Z
LAST-MODIFIED:20170731T192117Z
UID:11933-1503763200-1503871200@soulofca.org
SUMMARY:Stone Soup Music Festival
DESCRIPTION:Grover Beach is host to a slate of musicians for two days and a night. Certain to be a delightful time in a lovely place.
URL:https://soulofca.org/event/stone-soup-music-festival-2/
LOCATION:Grover Beach\, Grover Beach\, CA\, United States
END:VEVENT
BEGIN:VEVENT
DTSTART;TZID=America/Los_Angeles:20170826T080000
DTEND;TZID=America/Los_Angeles:20170826T230000
DTSTAMP:20260419T114434
CREATED:20170731T191605Z
LAST-MODIFIED:20170731T191605Z
UID:4456-1503734400-1503788400@soulofca.org
SUMMARY:Dune Run Run
DESCRIPTION:The city of Grover Beach is the site of this annual fun run. Come see the sights of this lovely beachfront town. Then stay for the Stone Soup Music Festival. A day of exercise and music\, probably some food available\, don’t you think?
URL:https://soulofca.org/event/dune-run-run/
LOCATION:Grover Beach\, Grover Beach\, CA\, United States
END:VEVENT
BEGIN:VEVENT
DTSTART;TZID=America/Los_Angeles:20170826T080000
DTEND;TZID=America/Los_Angeles:20170826T230000
DTSTAMP:20260419T114434
CREATED:20170731T191605Z
LAST-MODIFIED:20170731T191605Z
UID:11932-1503734400-1503788400@soulofca.org
SUMMARY:Dune Run Run
DESCRIPTION:The city of Grover Beach is the site of this annual fun run. Come see the sights of this lovely beachfront town. Then stay for the Stone Soup Music Festival. A day of exercise and music\, probably some food available\, don’t you think?
URL:https://soulofca.org/event/dune-run-run-2/
LOCATION:Grover Beach\, Grover Beach\, CA\, United States
END:VEVENT
BEGIN:VEVENT
DTSTART;TZID=America/Los_Angeles:20170826T080000
DTEND;TZID=America/Los_Angeles:20170826T180000
DTSTAMP:20260419T114434
CREATED:20170313T172208Z
LAST-MODIFIED:20170313T172208Z
UID:2945-1503734400-1503770400@soulofca.org
SUMMARY:MCARLM Ag Tour
DESCRIPTION:The Ag Tour which is held annually visits a variety of agricultural enterprises around the valley. The tour provides an up-close look at modern agribusiness in action. After a continental breakfast at San Lorenzo Park \, participants board luxury buses and visit sites around the Salinas Valley. Places visited in past years include a winery (with wine tasting)\, carrot harvesting operation\, seedling nursery\, duck farm\, packing shed\, cattle ranch with working stock dog demonstration\, a fertilizer operation and much more. Tours include all meals plus refreshments on the buses. \nSaturday 26 August 2017\, 08:00am – 06:00pm \nCost?  in 2016 $75.00
URL:https://soulofca.org/event/mcarlm-ag-tour/
LOCATION:CA
END:VEVENT
BEGIN:VEVENT
DTSTART;TZID=America/Los_Angeles:20170826T080000
DTEND;TZID=America/Los_Angeles:20170826T180000
DTSTAMP:20260419T114434
CREATED:20170313T172208Z
LAST-MODIFIED:20170313T172208Z
UID:11656-1503734400-1503770400@soulofca.org
SUMMARY:MCARLM Ag Tour
DESCRIPTION:The Ag Tour which is held annually visits a variety of agricultural enterprises around the valley. The tour provides an up-close look at modern agribusiness in action. After a continental breakfast at San Lorenzo Park \, participants board luxury buses and visit sites around the Salinas Valley. Places visited in past years include a winery (with wine tasting)\, carrot harvesting operation\, seedling nursery\, duck farm\, packing shed\, cattle ranch with working stock dog demonstration\, a fertilizer operation and much more. Tours include all meals plus refreshments on the buses. \nSaturday 26 August 2017\, 08:00am – 06:00pm \nCost?  in 2016 $75.00
URL:https://soulofca.org/event/mcarlm-ag-tour-2/
LOCATION:CA
END:VEVENT
BEGIN:VEVENT
DTSTART;TZID=America/Los_Angeles:20170826T080000
DTEND;TZID=America/Los_Angeles:20170826T170000
DTSTAMP:20260419T114434
CREATED:20170717T175839Z
LAST-MODIFIED:20170717T175839Z
UID:4290-1503734400-1503766800@soulofca.org
SUMMARY:Old Town Farmers' Market
DESCRIPTION:Every week local farmers and small business people gather to offer a tasty and nutritious spread of foods\, prepared or straight from the fields. Others offer a variety of goods for sale. Either way good bargains on great products are here for your perusal. Come down and get to know what’s happening\, seasons change and merchants are always offering something new.
URL:https://soulofca.org/event/old-town-farmers-market-6/
LOCATION:Old Town Farmers’ Market\, Main and Gabilan Sts. \, Salinas \, CA\, United States
END:VEVENT
BEGIN:VEVENT
DTSTART;TZID=America/Los_Angeles:20170826T080000
DTEND;TZID=America/Los_Angeles:20170826T170000
DTSTAMP:20260419T114434
CREATED:20170717T175839Z
LAST-MODIFIED:20170717T175839Z
UID:11879-1503734400-1503766800@soulofca.org
SUMMARY:Old Town Farmers' Market
DESCRIPTION:Every week local farmers and small business people gather to offer a tasty and nutritious spread of foods\, prepared or straight from the fields. Others offer a variety of goods for sale. Either way good bargains on great products are here for your perusal. Come down and get to know what’s happening\, seasons change and merchants are always offering something new.
URL:https://soulofca.org/event/old-town-farmers-market-6-2/
LOCATION:Old Town Farmers’ Market\, Main and Gabilan Sts. \, Salinas \, CA\, United States
END:VEVENT
BEGIN:VEVENT
DTSTART;TZID=America/Los_Angeles:20170826T070000
DTEND;TZID=America/Los_Angeles:20170826T210000
DTSTAMP:20260419T114434
CREATED:20170619T182845Z
LAST-MODIFIED:20170619T182845Z
UID:4018-1503730800-1503781200@soulofca.org
SUMMARY:Flynn Creek Circus
DESCRIPTION:Four days of family fun involving an old-fashioned circus with human acts and amusements.
URL:https://soulofca.org/event/flynn-creek-circus-2/
LOCATION:San Juan School\, 150 The Alameda\, San Juan Bautista\, CA\, United States
END:VEVENT
BEGIN:VEVENT
DTSTART;TZID=America/Los_Angeles:20170826T070000
DTEND;TZID=America/Los_Angeles:20170826T210000
DTSTAMP:20260419T114434
CREATED:20170619T182845Z
LAST-MODIFIED:20170619T182845Z
UID:11805-1503730800-1503781200@soulofca.org
SUMMARY:Flynn Creek Circus
DESCRIPTION:Four days of family fun involving an old-fashioned circus with human acts and amusements.
URL:https://soulofca.org/event/flynn-creek-circus-2-2/
LOCATION:San Juan School\, 150 The Alameda\, San Juan Bautista\, CA\, United States
END:VEVENT
BEGIN:VEVENT
DTSTART;TZID=America/Los_Angeles:20170825T193000
DTEND;TZID=America/Los_Angeles:20170825T220000
DTSTAMP:20260419T114434
CREATED:20170814T210125Z
LAST-MODIFIED:20170814T210335Z
UID:4585-1503689400-1503698400@soulofca.org
SUMMARY:Family Movie Nights
DESCRIPTION:For the next several weeks\, as summer fades away\, the city of Capitola is presenting movies in the park. They start at 7:30 (or dusk). Bring a lowbacked chair and something to nibble on\, or eat beforehand. This week’s selection is the Pixar favorite “Finding Dory”. Good combination\, the beach and a movie about sea life.
URL:https://soulofca.org/event/family-movie-nights/
LOCATION:Esplanade Park\, 100 Monterey Ave. \, Capitola\, CA\, 95010\, United States
END:VEVENT
BEGIN:VEVENT
DTSTART;TZID=America/Los_Angeles:20170825T193000
DTEND;TZID=America/Los_Angeles:20170825T220000
DTSTAMP:20260419T114434
CREATED:20170814T210125Z
LAST-MODIFIED:20170814T210125Z
UID:11966-1503689400-1503698400@soulofca.org
SUMMARY:Family Movie Nights
DESCRIPTION:For the next several weeks\, as summer fades away\, the city of Capitola is presenting movies in the park. They start at 7:30 (or dusk). Bring a lowbacked chair and something to nibble on\, or eat beforehand. This week’s selection is the Pixar favorite “Finding Dory”. Good combination\, the beach and a movie about sea life.
URL:https://soulofca.org/event/family-movie-nights-2/
LOCATION:Esplanade Park\, 100 Monterey Ave. \, Capitola\, CA\, 95010\, United States
END:VEVENT
BEGIN:VEVENT
DTSTART;TZID=America/Los_Angeles:20170825T160000
DTEND;TZID=America/Los_Angeles:20170825T200000
DTSTAMP:20260419T114434
CREATED:20170717T164553Z
LAST-MODIFIED:20170717T164553Z
UID:4257-1503676800-1503691200@soulofca.org
SUMMARY:Hot Cars Cool Nights
DESCRIPTION:Since the ’70’s this has been Seaside’s favorite auto event. Right after the frenzy of  Car Week rocks the peninsula come see the locals and their cars. Free to viewers and only $5.00 for entry fee you can’t go wrong. Lots of wonderful restoration jobs and custom creations.
URL:https://soulofca.org/event/hot-cars-cool-nights/
LOCATION:Seaside\, CA\, United States
END:VEVENT
BEGIN:VEVENT
DTSTART;TZID=America/Los_Angeles:20170825T160000
DTEND;TZID=America/Los_Angeles:20170825T200000
DTSTAMP:20260419T114434
CREATED:20170717T164553Z
LAST-MODIFIED:20170717T164553Z
UID:11867-1503676800-1503691200@soulofca.org
SUMMARY:Hot Cars Cool Nights
DESCRIPTION:Since the ’70’s this has been Seaside’s favorite auto event. Right after the frenzy of  Car Week rocks the peninsula come see the locals and their cars. Free to viewers and only $5.00 for entry fee you can’t go wrong. Lots of wonderful restoration jobs and custom creations.
URL:https://soulofca.org/event/hot-cars-cool-nights-2/
LOCATION:Seaside\, CA\, United States
END:VEVENT
BEGIN:VEVENT
DTSTART;TZID=America/Los_Angeles:20170825T133000
DTEND;TZID=America/Los_Angeles:20170825T173000
DTSTAMP:20260419T114434
CREATED:20170717T175614Z
LAST-MODIFIED:20170717T175614Z
UID:4287-1503667800-1503682200@soulofca.org
SUMMARY:Memorial Hospital Farmers' Market
DESCRIPTION:Every week local farmers and small business people gather to offer a tasty and nutritious spread of foods\, prepared or straight from the fields. Others offer a variety of goods for sale. Either way good bargains on great products are here for your perusal. Come down and get to know what’s happening\, seasons change and merchants are always offering something new.
URL:https://soulofca.org/event/memorial-hospital-farmers-market-3/
LOCATION:Salinas Valley Memorial Hospital\, Romie Lane \, Salinas \, CA\, United States
END:VEVENT
BEGIN:VEVENT
DTSTART;TZID=America/Los_Angeles:20170825T133000
DTEND;TZID=America/Los_Angeles:20170825T173000
DTSTAMP:20260419T114434
CREATED:20170717T175614Z
LAST-MODIFIED:20170717T175614Z
UID:11878-1503667800-1503682200@soulofca.org
SUMMARY:Memorial Hospital Farmers' Market
DESCRIPTION:Every week local farmers and small business people gather to offer a tasty and nutritious spread of foods\, prepared or straight from the fields. Others offer a variety of goods for sale. Either way good bargains on great products are here for your perusal. Come down and get to know what’s happening\, seasons change and merchants are always offering something new.
URL:https://soulofca.org/event/memorial-hospital-farmers-market-3-2/
LOCATION:Salinas Valley Memorial Hospital\, Romie Lane \, Salinas \, CA\, United States
END:VEVENT
BEGIN:VEVENT
DTSTART;TZID=America/Los_Angeles:20170825T110000
DTEND;TZID=America/Los_Angeles:20170827T180000
DTSTAMP:20260419T114434
CREATED:20170708T200530Z
LAST-MODIFIED:20170708T200530Z
UID:4178-1503658800-1503856800@soulofca.org
SUMMARY:Sand City Westend Celebration
DESCRIPTION:Three days of fun\, music\, arts\, beverages\, food on the edge of Sand City. This is the 16th annual and commemorates the Summer Of Love. Two of the music guests actually were part of that experience way back then\, It’s a Beautiful Day and Big Brother and the Holding Company.  (If you don’t recognize the names ask a old music buff.)   All forms of art are celebrated\, spoken\, fine\, performance\, and  even face painting.
URL:https://soulofca.org/event/sand-city-westend-celebration/
LOCATION:Sand City \, CA\, United States
END:VEVENT
BEGIN:VEVENT
DTSTART;TZID=America/Los_Angeles:20170825T110000
DTEND;TZID=America/Los_Angeles:20170827T180000
DTSTAMP:20260419T114434
CREATED:20170708T200530Z
LAST-MODIFIED:20170708T200530Z
UID:11849-1503658800-1503856800@soulofca.org
SUMMARY:Sand City Westend Celebration
DESCRIPTION:Three days of fun\, music\, arts\, beverages\, food on the edge of Sand City. This is the 16th annual and commemorates the Summer Of Love. Two of the music guests actually were part of that experience way back then\, It’s a Beautiful Day and Big Brother and the Holding Company.  (If you don’t recognize the names ask a old music buff.)   All forms of art are celebrated\, spoken\, fine\, performance\, and  even face painting.
URL:https://soulofca.org/event/sand-city-westend-celebration-2/
LOCATION:Sand City \, CA\, United States
END:VEVENT
BEGIN:VEVENT
DTSTART;TZID=America/Los_Angeles:20170825T070000
DTEND;TZID=America/Los_Angeles:20170825T210000
DTSTAMP:20260419T114434
CREATED:20170619T182643Z
LAST-MODIFIED:20170619T182643Z
UID:4015-1503644400-1503694800@soulofca.org
SUMMARY:Flynn Creek Circus
DESCRIPTION:Four days of entertainment of an old fashioned circus\, featuring human acts and amusements.
URL:https://soulofca.org/event/flynn-creek-circus/
LOCATION:San Juan School\, 150 The Alameda\, San Juan Bautista\, CA\, United States
END:VEVENT
BEGIN:VEVENT
DTSTART;TZID=America/Los_Angeles:20170825T070000
DTEND;TZID=America/Los_Angeles:20170825T210000
DTSTAMP:20260419T114434
CREATED:20170619T182643Z
LAST-MODIFIED:20170619T182643Z
UID:11804-1503644400-1503694800@soulofca.org
SUMMARY:Flynn Creek Circus
DESCRIPTION:Four days of entertainment of an old fashioned circus\, featuring human acts and amusements.
URL:https://soulofca.org/event/flynn-creek-circus-5/
LOCATION:San Juan School\, 150 The Alameda\, San Juan Bautista\, CA\, United States
END:VEVENT
BEGIN:VEVENT
DTSTART;TZID=America/Los_Angeles:20170824T180000
DTEND;TZID=America/Los_Angeles:20170824T200000
DTSTAMP:20260419T114434
CREATED:20170626T192301Z
LAST-MODIFIED:20170626T192301Z
UID:4094-1503597600-1503604800@soulofca.org
SUMMARY:Music in the Plaza
DESCRIPTION:Downtown Watsonville hosts musical evenings on the 2nd and 4th Thursdays through September 14. Each night features a different genre of music. This week is a Motown and R/B night. The groups are The Groove Foundation and a band TBA.
URL:https://soulofca.org/event/music-in-the-plaza-3/
LOCATION:Watsonville town square\, Watsonville\, CA\, United States
END:VEVENT
BEGIN:VEVENT
DTSTART;TZID=America/Los_Angeles:20170824T180000
DTEND;TZID=America/Los_Angeles:20170824T200000
DTSTAMP:20260419T114434
CREATED:20170626T192301Z
LAST-MODIFIED:20170626T192301Z
UID:11821-1503597600-1503604800@soulofca.org
SUMMARY:Music in the Plaza
DESCRIPTION:Downtown Watsonville hosts musical evenings on the 2nd and 4th Thursdays through September 14. Each night features a different genre of music. This week is a Motown and R/B night. The groups are The Groove Foundation and a band TBA.
URL:https://soulofca.org/event/music-in-the-plaza-3-2/
LOCATION:Watsonville town square\, Watsonville\, CA\, United States
END:VEVENT
BEGIN:VEVENT
DTSTART;TZID=America/Los_Angeles:20170824T110000
DTEND;TZID=America/Los_Angeles:20170824T190000
DTSTAMP:20260419T114434
CREATED:20170710T172804Z
LAST-MODIFIED:20170710T172804Z
UID:4189-1503572400-1503601200@soulofca.org
SUMMARY:Bill Barker Memorial Golf Tournament
DESCRIPTION:Fund-raiser to benefit the Monterey County Farm Bureau.  Lots of fun with the folks who make Monterey County one of the most productive agricultural areas in the world. It also happens at a beautiful golf course. Come and find out for yourself. It will be a great day.
URL:https://soulofca.org/event/bill-barker-memorial-golf-tournament/
LOCATION:Bayonet Black Horse Golf Course\, 1 McClure Way\, Seaside\, CA\, 93955\, United States
END:VEVENT
BEGIN:VEVENT
DTSTART;TZID=America/Los_Angeles:20170824T110000
DTEND;TZID=America/Los_Angeles:20170824T190000
DTSTAMP:20260419T114434
CREATED:20170710T172804Z
LAST-MODIFIED:20170710T172804Z
UID:11852-1503572400-1503601200@soulofca.org
SUMMARY:Bill Barker Memorial Golf Tournament
DESCRIPTION:Fund-raiser to benefit the Monterey County Farm Bureau.  Lots of fun with the folks who make Monterey County one of the most productive agricultural areas in the world. It also happens at a beautiful golf course. Come and find out for yourself. It will be a great day.
URL:https://soulofca.org/event/bill-barker-memorial-golf-tournament-2/
LOCATION:Bayonet Black Horse Golf Course\, 1 McClure Way\, Seaside\, CA\, 93955\, United States
END:VEVENT
END:VCALENDAR