BEGIN:VCALENDAR
VERSION:2.0
PRODID:-//Soul of CA - ECPv6.15.17//NONSGML v1.0//EN
CALSCALE:GREGORIAN
METHOD:PUBLISH
X-WR-CALNAME:Soul of CA
X-ORIGINAL-URL:https://soulofca.org
X-WR-CALDESC:Events for Soul of CA
REFRESH-INTERVAL;VALUE=DURATION:PT1H
X-Robots-Tag:noindex
X-PUBLISHED-TTL:PT1H
BEGIN:VTIMEZONE
TZID:America/Los_Angeles
BEGIN:DAYLIGHT
TZOFFSETFROM:-0800
TZOFFSETTO:-0700
TZNAME:PDT
DTSTART:20160313T100000
END:DAYLIGHT
BEGIN:STANDARD
TZOFFSETFROM:-0700
TZOFFSETTO:-0800
TZNAME:PST
DTSTART:20161106T090000
END:STANDARD
BEGIN:DAYLIGHT
TZOFFSETFROM:-0800
TZOFFSETTO:-0700
TZNAME:PDT
DTSTART:20170312T100000
END:DAYLIGHT
BEGIN:STANDARD
TZOFFSETFROM:-0700
TZOFFSETTO:-0800
TZNAME:PST
DTSTART:20171105T090000
END:STANDARD
BEGIN:DAYLIGHT
TZOFFSETFROM:-0800
TZOFFSETTO:-0700
TZNAME:PDT
DTSTART:20180311T100000
END:DAYLIGHT
BEGIN:STANDARD
TZOFFSETFROM:-0700
TZOFFSETTO:-0800
TZNAME:PST
DTSTART:20181104T090000
END:STANDARD
END:VTIMEZONE
BEGIN:VEVENT
DTSTART;TZID=America/Los_Angeles:20170902T100000
DTEND;TZID=America/Los_Angeles:20170902T140000
DTSTAMP:20260419T070841
CREATED:20170717T183602Z
LAST-MODIFIED:20170717T183602Z
UID:4295-1504346400-1504360800@soulofca.org
SUMMARY:Old Town Farmers' Market
DESCRIPTION:A weekly gathering of local farmers and merchants selling fresh produce\, freshly prepared foods\, and local businesses offering interesting items for sale. As the seasons change so so does the selection of food as well as the merchandise for sale. Come down and see what’s new.
URL:https://soulofca.org/event/old-town-farmers-market-7/
LOCATION:Old Town Farmers’ Market\, Main and Gabilan Sts. \, Salinas \, CA\, United States
END:VEVENT
BEGIN:VEVENT
DTSTART;TZID=America/Los_Angeles:20170902T100000
DTEND;TZID=America/Los_Angeles:20170902T140000
DTSTAMP:20260419T070841
CREATED:20170717T183602Z
LAST-MODIFIED:20170717T183602Z
UID:11881-1504346400-1504360800@soulofca.org
SUMMARY:Old Town Farmers' Market
DESCRIPTION:A weekly gathering of local farmers and merchants selling fresh produce\, freshly prepared foods\, and local businesses offering interesting items for sale. As the seasons change so so does the selection of food as well as the merchandise for sale. Come down and see what’s new.
URL:https://soulofca.org/event/old-town-farmers-market-7-2/
LOCATION:Old Town Farmers’ Market\, Main and Gabilan Sts. \, Salinas \, CA\, United States
END:VEVENT
BEGIN:VEVENT
DTSTART;TZID=America/Los_Angeles:20170901T200000
DTEND;TZID=America/Los_Angeles:20171027T230000
DTSTAMP:20260419T070841
CREATED:20170901T211919Z
LAST-MODIFIED:20170901T211919Z
UID:4661-1504296000-1509145200@soulofca.org
SUMMARY:Home Free
DESCRIPTION:Country music comes to Monterey for the night. The popular sounds of Home Free will rock the walls of the Golden State.
URL:https://soulofca.org/event/home-free/
LOCATION:Golden State Theater\, 417 Alvarado St.\, Monterey\, CA\, 93940\, United States
END:VEVENT
BEGIN:VEVENT
DTSTART;TZID=America/Los_Angeles:20170901T200000
DTEND;TZID=America/Los_Angeles:20171027T230000
DTSTAMP:20260419T070841
CREATED:20170901T211919Z
LAST-MODIFIED:20170901T211919Z
UID:11988-1504296000-1509145200@soulofca.org
SUMMARY:Home Free
DESCRIPTION:Country music comes to Monterey for the night. The popular sounds of Home Free will rock the walls of the Golden State.
URL:https://soulofca.org/event/home-free-2/
LOCATION:Golden State Theater\, 417 Alvarado St.\, Monterey\, CA\, 93940\, United States
END:VEVENT
BEGIN:VEVENT
DTSTART;TZID=America/Los_Angeles:20170901T200000
DTEND;TZID=America/Los_Angeles:20170924T220000
DTSTAMP:20260419T070841
CREATED:20170901T202627Z
LAST-MODIFIED:20170901T202627Z
UID:4638-1504296000-1506290400@soulofca.org
SUMMARY:Viva La Causa @ El Teatro Campesino
DESCRIPTION:An innovative theatrical work that takes the audience through several aspects and events of Hispanic Americans history. One more in the unique legacy of ETC and its innovative presentations.  Thursday through Saturday at 8:00 and Saturdays and Sundays have a matinee at 2:00.
URL:https://soulofca.org/event/viva-la-causa-el-teatro-campesino/
LOCATION:El Teatro Campesino\, 705 Fourth St.\, San Juan Bautista\, CA\, United States
END:VEVENT
BEGIN:VEVENT
DTSTART;TZID=America/Los_Angeles:20170901T200000
DTEND;TZID=America/Los_Angeles:20170924T220000
DTSTAMP:20260419T070841
CREATED:20170901T202627Z
LAST-MODIFIED:20170901T202627Z
UID:11980-1504296000-1506290400@soulofca.org
SUMMARY:Viva La Causa @ El Teatro Campesino
DESCRIPTION:An innovative theatrical work that takes the audience through several aspects and events of Hispanic Americans history. One more in the unique legacy of ETC and its innovative presentations.  Thursday through Saturday at 8:00 and Saturdays and Sundays have a matinee at 2:00.
URL:https://soulofca.org/event/viva-la-causa-el-teatro-campesino-2/
LOCATION:El Teatro Campesino\, 705 Fourth St.\, San Juan Bautista\, CA\, United States
END:VEVENT
BEGIN:VEVENT
DTSTART;TZID=America/Los_Angeles:20170901T200000
DTEND;TZID=America/Los_Angeles:20170902T220000
DTSTAMP:20260419T070841
CREATED:20170901T203047Z
LAST-MODIFIED:20170901T203047Z
UID:4642-1504296000-1504389600@soulofca.org
SUMMARY:The Oldest Profession
DESCRIPTION:Paperwing Theater continues its presentation of unusual plays with this production of a play in which several aging prostitutes re-consider their work life in Reagan’s America during the late 80’s. Written by Pulitzer Prize winner Paula Vogel in her earlier days it promises to be a thoughtful evening of theater.
URL:https://soulofca.org/event/the-oldest-profession/
LOCATION:Oldest Profession\, 2115 N. Fremont \, Monterey\, CA\, 93940\, United States
END:VEVENT
BEGIN:VEVENT
DTSTART;TZID=America/Los_Angeles:20170901T200000
DTEND;TZID=America/Los_Angeles:20170902T220000
DTSTAMP:20260419T070841
CREATED:20170901T203047Z
LAST-MODIFIED:20170901T203047Z
UID:11981-1504296000-1504389600@soulofca.org
SUMMARY:The Oldest Profession
DESCRIPTION:Paperwing Theater continues its presentation of unusual plays with this production of a play in which several aging prostitutes re-consider their work life in Reagan’s America during the late 80’s. Written by Pulitzer Prize winner Paula Vogel in her earlier days it promises to be a thoughtful evening of theater.
URL:https://soulofca.org/event/the-oldest-profession-2/
LOCATION:Oldest Profession\, 2115 N. Fremont \, Monterey\, CA\, 93940\, United States
END:VEVENT
BEGIN:VEVENT
DTSTART;TZID=America/Los_Angeles:20170901T183000
DTEND;TZID=America/Los_Angeles:20170901T220000
DTSTAMP:20260419T070841
CREATED:20170807T180926Z
LAST-MODIFIED:20170807T180926Z
UID:4502-1504290600-1504303200@soulofca.org
SUMMARY:Boardwalk Concert Series
DESCRIPTION:Tonight’s band is Papa Doo Run Run\, sure to bring the crowd onto their feet and boogieing. They will entertain with a mix of hits from the 50’s and 60’s. Lots of attention paid to doo-wop.  Shows are at 6:30 and 8:30. So you can also catch the sunset.
URL:https://soulofca.org/event/boardwalk-concert-series/
LOCATION:Santa Cruz Beach Boardwalk\, 400 Beach St.\, Santa Cruz\, CA\, United States
END:VEVENT
BEGIN:VEVENT
DTSTART;TZID=America/Los_Angeles:20170901T183000
DTEND;TZID=America/Los_Angeles:20170901T220000
DTSTAMP:20260419T070841
CREATED:20170807T180926Z
LAST-MODIFIED:20170807T180926Z
UID:11945-1504290600-1504303200@soulofca.org
SUMMARY:Boardwalk Concert Series
DESCRIPTION:Tonight’s band is Papa Doo Run Run\, sure to bring the crowd onto their feet and boogieing. They will entertain with a mix of hits from the 50’s and 60’s. Lots of attention paid to doo-wop.  Shows are at 6:30 and 8:30. So you can also catch the sunset.
URL:https://soulofca.org/event/boardwalk-concert-series-2/
LOCATION:Santa Cruz Beach Boardwalk\, 400 Beach St.\, Santa Cruz\, CA\, United States
END:VEVENT
BEGIN:VEVENT
DTSTART;TZID=America/Los_Angeles:20170901T133000
DTEND;TZID=America/Los_Angeles:20170901T173000
DTSTAMP:20260419T070841
CREATED:20170717T183421Z
LAST-MODIFIED:20170717T183421Z
UID:4293-1504272600-1504287000@soulofca.org
SUMMARY:Memorial Hospital Farmers' Market
DESCRIPTION:A weekly gathering of local farmers and merchants selling fresh produce\, freshly prepared foods\, and local businesses offering interesting items for sale. As the seasons change so so does the selection of food as well as the merchandise for sale. Come down and see what’s new.
URL:https://soulofca.org/event/memorial-hospital-farmers-market-4/
LOCATION:Salinas Valley Memorial Hospital\, Romie Lane \, Salinas \, CA\, United States
END:VEVENT
BEGIN:VEVENT
DTSTART;TZID=America/Los_Angeles:20170901T133000
DTEND;TZID=America/Los_Angeles:20170901T173000
DTSTAMP:20260419T070841
CREATED:20170717T183421Z
LAST-MODIFIED:20170717T183421Z
UID:11880-1504272600-1504287000@soulofca.org
SUMMARY:Memorial Hospital Farmers' Market
DESCRIPTION:A weekly gathering of local farmers and merchants selling fresh produce\, freshly prepared foods\, and local businesses offering interesting items for sale. As the seasons change so so does the selection of food as well as the merchandise for sale. Come down and see what’s new.
URL:https://soulofca.org/event/memorial-hospital-farmers-market-4-2/
LOCATION:Salinas Valley Memorial Hospital\, Romie Lane \, Salinas \, CA\, United States
END:VEVENT
BEGIN:VEVENT
DTSTART;TZID=America/Los_Angeles:20170901T080000
DTEND;TZID=America/Los_Angeles:20170902T180000
DTSTAMP:20260419T070841
CREATED:20170604T190239Z
LAST-MODIFIED:20170604T190239Z
UID:3895-1504252800-1504375200@soulofca.org
SUMMARY:Watsonville Fly-In
DESCRIPTION:Two days of antique and historic aircraft\, flying in and out. The airport will be filled with vendors\, aircraft on display\, and lots of memorabilia. Demo flights are also available. Great family fun.
URL:https://soulofca.org/event/watsonville-fly-in/
LOCATION:Watsonville Airport\, Watsonville\, CA\, United States
END:VEVENT
BEGIN:VEVENT
DTSTART;TZID=America/Los_Angeles:20170901T080000
DTEND;TZID=America/Los_Angeles:20170902T180000
DTSTAMP:20260419T070841
CREATED:20170604T190239Z
LAST-MODIFIED:20170604T190239Z
UID:11778-1504252800-1504375200@soulofca.org
SUMMARY:Watsonville Fly-In
DESCRIPTION:Two days of antique and historic aircraft\, flying in and out. The airport will be filled with vendors\, aircraft on display\, and lots of memorabilia. Demo flights are also available. Great family fun.
URL:https://soulofca.org/event/watsonville-fly-in-2/
LOCATION:Watsonville Airport\, Watsonville\, CA\, United States
END:VEVENT
BEGIN:VEVENT
DTSTART;TZID=America/Los_Angeles:20170830T180000
DTEND;TZID=America/Los_Angeles:20170830T210000
DTSTAMP:20260419T070841
CREATED:20170522T181343Z
LAST-MODIFIED:20170522T181343Z
UID:3787-1504116000-1504126800@soulofca.org
SUMMARY:Fort Ord Bicycle Ride and BBQ
DESCRIPTION:An opportunity to meet other bicyclists and enjoy the lovely trails of the former Fort Ord military base. Check their website for more details and directions to the meet-up site.   There are other activities available as well.
URL:https://soulofca.org/event/fort-ord-bicycle-ride-and-bbq-10/
LOCATION:Fort Ord\, Seaside \, CA\, United States
END:VEVENT
BEGIN:VEVENT
DTSTART;TZID=America/Los_Angeles:20170830T180000
DTEND;TZID=America/Los_Angeles:20170830T210000
DTSTAMP:20260419T070841
CREATED:20170522T181343Z
LAST-MODIFIED:20170522T181343Z
UID:11751-1504116000-1504126800@soulofca.org
SUMMARY:Fort Ord Bicycle Ride and BBQ
DESCRIPTION:An opportunity to meet other bicyclists and enjoy the lovely trails of the former Fort Ord military base. Check their website for more details and directions to the meet-up site.   There are other activities available as well.
URL:https://soulofca.org/event/fort-ord-bicycle-ride-and-bbq-10-2/
LOCATION:Fort Ord\, Seaside \, CA\, United States
END:VEVENT
BEGIN:VEVENT
DTSTART;TZID=America/Los_Angeles:20170830T180000
DTEND;TZID=America/Los_Angeles:20170830T200000
DTSTAMP:20260419T070841
CREATED:20170814T205458Z
LAST-MODIFIED:20170814T205458Z
UID:4582-1504116000-1504123200@soulofca.org
SUMMARY:Twilight Concert
DESCRIPTION:In the City of Capitola’s Esplanade Park there will be a series of concerts featuring a variety of musical genres. From Big Band to Rock and Roll they are getting their collective groove on. Come down and enjoy this week’s entertainment. This week’s group\, The Digbeats with their rockin’ sound.
URL:https://soulofca.org/event/twilight-concert-3/
LOCATION:Esplanade Park\, 100 Monterey Ave. \, Capitola\, CA\, 95010\, United States
END:VEVENT
BEGIN:VEVENT
DTSTART;TZID=America/Los_Angeles:20170830T180000
DTEND;TZID=America/Los_Angeles:20170830T200000
DTSTAMP:20260419T070841
CREATED:20170814T205458Z
LAST-MODIFIED:20170814T205458Z
UID:11965-1504116000-1504123200@soulofca.org
SUMMARY:Twilight Concert
DESCRIPTION:In the City of Capitola’s Esplanade Park there will be a series of concerts featuring a variety of musical genres. From Big Band to Rock and Roll they are getting their collective groove on. Come down and enjoy this week’s entertainment. This week’s group\, The Digbeats with their rockin’ sound.
URL:https://soulofca.org/event/twilight-concert-3-2/
LOCATION:Esplanade Park\, 100 Monterey Ave. \, Capitola\, CA\, 95010\, United States
END:VEVENT
BEGIN:VEVENT
DTSTART;TZID=America/Los_Angeles:20170830T080000
DTEND;TZID=America/Los_Angeles:20170904T210000
DTSTAMP:20260419T070841
CREATED:20170731T190226Z
LAST-MODIFIED:20170731T190226Z
UID:4452-1504080000-1504558800@soulofca.org
SUMMARY:Monterey County Fair
DESCRIPTION:After 81 years of celebrating the bounty of Monterey County (rhyme) it continues to bring us fun\, food\, and the best of the area’s animal and plant offerings. Evening entertainment and daytime rides and games will make it a great place to go with the family.
URL:https://soulofca.org/event/monterey-county-fair/
LOCATION:Monterey County Fairgrounds\, 2004 Fairground Rd.\, Monterey\, CA\, 93940\, United States
END:VEVENT
BEGIN:VEVENT
DTSTART;TZID=America/Los_Angeles:20170830T080000
DTEND;TZID=America/Los_Angeles:20170904T210000
DTSTAMP:20260419T070841
CREATED:20170731T190226Z
LAST-MODIFIED:20170731T190226Z
UID:11931-1504080000-1504558800@soulofca.org
SUMMARY:Monterey County Fair
DESCRIPTION:After 81 years of celebrating the bounty of Monterey County (rhyme) it continues to bring us fun\, food\, and the best of the area’s animal and plant offerings. Evening entertainment and daytime rides and games will make it a great place to go with the family.
URL:https://soulofca.org/event/monterey-county-fair-4/
LOCATION:Monterey County Fairgrounds\, 2004 Fairground Rd.\, Monterey\, CA\, 93940\, United States
END:VEVENT
BEGIN:VEVENT
DTSTART;TZID=America/Los_Angeles:20170828T160000
DTEND;TZID=America/Los_Angeles:20170828T200000
DTSTAMP:20260419T070841
CREATED:20170313T172013Z
LAST-MODIFIED:20170313T172013Z
UID:3093-1503936000-1503950400@soulofca.org
SUMMARY:Monterey Farmers Market
DESCRIPTION:The Old Monterey Farmers Market\, established in 1991\, comprises of 3 ½ city blocks and runs year-round rain or shine. During the summer it’s the largest gathering of people in Monterey County\, attracting more that 10\,000 locals and tourists in one location. You can travel the world in just three blocks\, finding arts and crafts\, handmade jewelry\, furniture\, clothing\, international food\, organic produce\, flowers\, and pastries. \nOur produce vendors come from all over California\, from Salinas and Watsonville\, to Fresno and Sacramento\, selling Certified and Organic Certified produce. \nArts and crafts vendors come from around the world\, selling treasures from Africa\, Colombia\, Mexico\, Russia\, Japan\, China\, and Yugoslavia\, just to name a few. \nOur food vendors also serve up delicacies that are as international as our products serving up Indian\, Japanese\, Korean\, Mexican\, Mediterranean\, and BBQ delicacies. In our Baker’s Alley you can find fresh pastries like baklava\, European breads\, cookies\, muffins\, pies\, and cakes. \nIn addition to the products and food we offer\, the Old Monterey Farmers Market also includes a variety of community events. You can donate blood through C.H.O.M.P.\, adopt a dog from the SPCA\,register to vote\, and enjoy live music from local musicians.
URL:https://soulofca.org/event/monterey-farmers-market-33/
LOCATION:Downtown Monterey\, Monterey\, CA\, United States
END:VEVENT
BEGIN:VEVENT
DTSTART;TZID=America/Los_Angeles:20170828T160000
DTEND;TZID=America/Los_Angeles:20170828T200000
DTSTAMP:20260419T070841
CREATED:20170313T172013Z
LAST-MODIFIED:20170313T172013Z
UID:11659-1503936000-1503950400@soulofca.org
SUMMARY:Monterey Farmers Market
DESCRIPTION:The Old Monterey Farmers Market\, established in 1991\, comprises of 3 ½ city blocks and runs year-round rain or shine. During the summer it’s the largest gathering of people in Monterey County\, attracting more that 10\,000 locals and tourists in one location. You can travel the world in just three blocks\, finding arts and crafts\, handmade jewelry\, furniture\, clothing\, international food\, organic produce\, flowers\, and pastries. \nOur produce vendors come from all over California\, from Salinas and Watsonville\, to Fresno and Sacramento\, selling Certified and Organic Certified produce. \nArts and crafts vendors come from around the world\, selling treasures from Africa\, Colombia\, Mexico\, Russia\, Japan\, China\, and Yugoslavia\, just to name a few. \nOur food vendors also serve up delicacies that are as international as our products serving up Indian\, Japanese\, Korean\, Mexican\, Mediterranean\, and BBQ delicacies. In our Baker’s Alley you can find fresh pastries like baklava\, European breads\, cookies\, muffins\, pies\, and cakes. \nIn addition to the products and food we offer\, the Old Monterey Farmers Market also includes a variety of community events. You can donate blood through C.H.O.M.P.\, adopt a dog from the SPCA\,register to vote\, and enjoy live music from local musicians.
URL:https://soulofca.org/event/monterey-farmers-market-33-2/
LOCATION:Downtown Monterey\, Monterey\, CA\, United States
END:VEVENT
BEGIN:VEVENT
DTSTART;TZID=America/Los_Angeles:20170828T160000
DTEND;TZID=America/Los_Angeles:20170828T200000
DTSTAMP:20260419T070841
CREATED:20170313T171937Z
LAST-MODIFIED:20170313T171937Z
UID:3101-1503936000-1503950400@soulofca.org
SUMMARY:Monterey Farmers Market
DESCRIPTION:The Old Monterey Farmers Market\, established in 1991\, comprises of 3 ½ city blocks and runs year-round rain or shine. During the summer it’s the largest gathering of people in Monterey County\, attracting more that 10\,000 locals and tourists in one location. You can travel the world in just three blocks\, finding arts and crafts\, handmade jewelry\, furniture\, clothing\, international food\, organic produce\, flowers\, and pastries. \nOur produce vendors come from all over California\, from Salinas and Watsonville\, to Fresno and Sacramento\, selling Certified and Organic Certified produce. \nArts and crafts vendors come from around the world\, selling treasures from Africa\, Colombia\, Mexico\, Russia\, Japan\, China\, and Yugoslavia\, just to name a few. \nOur food vendors also serve up delicacies that are as international as our products serving up Indian\, Japanese\, Korean\, Mexican\, Mediterranean\, and BBQ delicacies. In our Baker’s Alley you can find fresh pastries like baklava\, European breads\, cookies\, muffins\, pies\, and cakes. \nIn addition to the products and food we offer\, the Old Monterey Farmers Market also includes a variety of community events. You can donate blood through C.H.O.M.P.\, adopt a dog from the SPCA\,register to vote\, and enjoy live music from local musicians.
URL:https://soulofca.org/event/monterey-farmers-market-32/
LOCATION:Downtown Monterey\, Monterey\, CA\, United States
END:VEVENT
BEGIN:VEVENT
DTSTART;TZID=America/Los_Angeles:20170828T160000
DTEND;TZID=America/Los_Angeles:20170828T200000
DTSTAMP:20260419T070841
CREATED:20170313T171937Z
LAST-MODIFIED:20170313T171937Z
UID:11660-1503936000-1503950400@soulofca.org
SUMMARY:Monterey Farmers Market
DESCRIPTION:The Old Monterey Farmers Market\, established in 1991\, comprises of 3 ½ city blocks and runs year-round rain or shine. During the summer it’s the largest gathering of people in Monterey County\, attracting more that 10\,000 locals and tourists in one location. You can travel the world in just three blocks\, finding arts and crafts\, handmade jewelry\, furniture\, clothing\, international food\, organic produce\, flowers\, and pastries. \nOur produce vendors come from all over California\, from Salinas and Watsonville\, to Fresno and Sacramento\, selling Certified and Organic Certified produce. \nArts and crafts vendors come from around the world\, selling treasures from Africa\, Colombia\, Mexico\, Russia\, Japan\, China\, and Yugoslavia\, just to name a few. \nOur food vendors also serve up delicacies that are as international as our products serving up Indian\, Japanese\, Korean\, Mexican\, Mediterranean\, and BBQ delicacies. In our Baker’s Alley you can find fresh pastries like baklava\, European breads\, cookies\, muffins\, pies\, and cakes. \nIn addition to the products and food we offer\, the Old Monterey Farmers Market also includes a variety of community events. You can donate blood through C.H.O.M.P.\, adopt a dog from the SPCA\,register to vote\, and enjoy live music from local musicians.
URL:https://soulofca.org/event/monterey-farmers-market-32-2/
LOCATION:Downtown Monterey\, Monterey\, CA\, United States
END:VEVENT
BEGIN:VEVENT
DTSTART;TZID=America/Los_Angeles:20170828T130000
DTEND;TZID=America/Los_Angeles:20170828T180000
DTSTAMP:20260419T070841
CREATED:20170619T183505Z
LAST-MODIFIED:20170619T183505Z
UID:4024-1503925200-1503943200@soulofca.org
SUMMARY:Flynn Creek Circus
DESCRIPTION:The final day of four in which locals were entertained by the family based fun featuring human acts and amusements. Two shows today\, first at 1:00 and the second at 4:00.
URL:https://soulofca.org/event/flynn-creek-circus-4/
LOCATION:San Juan School\, 150 The Alameda\, San Juan Bautista\, CA\, United States
END:VEVENT
BEGIN:VEVENT
DTSTART;TZID=America/Los_Angeles:20170828T130000
DTEND;TZID=America/Los_Angeles:20170828T180000
DTSTAMP:20260419T070841
CREATED:20170619T183505Z
LAST-MODIFIED:20170619T183505Z
UID:11807-1503925200-1503943200@soulofca.org
SUMMARY:Flynn Creek Circus
DESCRIPTION:The final day of four in which locals were entertained by the family based fun featuring human acts and amusements. Two shows today\, first at 1:00 and the second at 4:00.
URL:https://soulofca.org/event/flynn-creek-circus-4-2/
LOCATION:San Juan School\, 150 The Alameda\, San Juan Bautista\, CA\, United States
END:VEVENT
BEGIN:VEVENT
DTSTART;TZID=America/Los_Angeles:20170827T160000
DTEND;TZID=America/Los_Angeles:20170827T210000
DTSTAMP:20260419T070841
CREATED:20170619T183138Z
LAST-MODIFIED:20170619T183138Z
UID:4020-1503849600-1503867600@soulofca.org
SUMMARY:Flynn Creek Circus
DESCRIPTION:Four days of family fun featuring human acts and amusements. Two shows on Saturday\, the first at 4:00 and second at 7:00.
URL:https://soulofca.org/event/flynn-creek-circus-3/
LOCATION:San Juan School\, 150 The Alameda\, San Juan Bautista\, CA\, United States
END:VEVENT
BEGIN:VEVENT
DTSTART;TZID=America/Los_Angeles:20170827T160000
DTEND;TZID=America/Los_Angeles:20170827T210000
DTSTAMP:20260419T070841
CREATED:20170619T183138Z
LAST-MODIFIED:20170619T183138Z
UID:11806-1503849600-1503867600@soulofca.org
SUMMARY:Flynn Creek Circus
DESCRIPTION:Four days of family fun featuring human acts and amusements. Two shows on Saturday\, the first at 4:00 and second at 7:00.
URL:https://soulofca.org/event/flynn-creek-circus-3-2/
LOCATION:San Juan School\, 150 The Alameda\, San Juan Bautista\, CA\, United States
END:VEVENT
BEGIN:VEVENT
DTSTART;TZID=America/Los_Angeles:20170827T100000
DTEND;TZID=America/Los_Angeles:20170827T140000
DTSTAMP:20260419T070841
CREATED:20170313T172052Z
LAST-MODIFIED:20170313T172052Z
UID:3387-1503828000-1503842400@soulofca.org
SUMMARY:Marina Farmers' Market
DESCRIPTION:A weekly gathering of local farmers offering a wide variety of produce.
URL:https://soulofca.org/event/marina-farmers-market-19/
LOCATION:Marina Village Shopping Center\, Marina
END:VEVENT
BEGIN:VEVENT
DTSTART;TZID=America/Los_Angeles:20170827T100000
DTEND;TZID=America/Los_Angeles:20170827T140000
DTSTAMP:20260419T070841
CREATED:20170313T172052Z
LAST-MODIFIED:20170313T172052Z
UID:11669-1503828000-1503842400@soulofca.org
SUMMARY:Marina Farmers' Market
DESCRIPTION:A weekly gathering of local farmers offering a wide variety of produce.
URL:https://soulofca.org/event/marina-farmers-market-19-2/
LOCATION:Marina Village Shopping Center\, Marina
END:VEVENT
END:VCALENDAR