BEGIN:VCALENDAR
VERSION:2.0
PRODID:-//Soul of CA - ECPv6.15.17//NONSGML v1.0//EN
CALSCALE:GREGORIAN
METHOD:PUBLISH
X-WR-CALNAME:Soul of CA
X-ORIGINAL-URL:https://soulofca.org
X-WR-CALDESC:Events for Soul of CA
REFRESH-INTERVAL;VALUE=DURATION:PT1H
X-Robots-Tag:noindex
X-PUBLISHED-TTL:PT1H
BEGIN:VTIMEZONE
TZID:America/Los_Angeles
BEGIN:DAYLIGHT
TZOFFSETFROM:-0800
TZOFFSETTO:-0700
TZNAME:PDT
DTSTART:20170312T100000
END:DAYLIGHT
BEGIN:STANDARD
TZOFFSETFROM:-0700
TZOFFSETTO:-0800
TZNAME:PST
DTSTART:20171105T090000
END:STANDARD
BEGIN:DAYLIGHT
TZOFFSETFROM:-0800
TZOFFSETTO:-0700
TZNAME:PDT
DTSTART:20180311T100000
END:DAYLIGHT
BEGIN:STANDARD
TZOFFSETFROM:-0700
TZOFFSETTO:-0800
TZNAME:PST
DTSTART:20181104T090000
END:STANDARD
BEGIN:DAYLIGHT
TZOFFSETFROM:-0800
TZOFFSETTO:-0700
TZNAME:PDT
DTSTART:20190310T100000
END:DAYLIGHT
BEGIN:STANDARD
TZOFFSETFROM:-0700
TZOFFSETTO:-0800
TZNAME:PST
DTSTART:20191103T090000
END:STANDARD
BEGIN:DAYLIGHT
TZOFFSETFROM:-0800
TZOFFSETTO:-0700
TZNAME:PDT
DTSTART:20200308T100000
END:DAYLIGHT
BEGIN:STANDARD
TZOFFSETFROM:-0700
TZOFFSETTO:-0800
TZNAME:PST
DTSTART:20201101T090000
END:STANDARD
END:VTIMEZONE
BEGIN:VEVENT
DTSTART;TZID=America/Los_Angeles:20181123T200000
DTEND;TZID=America/Los_Angeles:20181123T220000
DTSTAMP:20260422T182842
CREATED:20181015T181138Z
LAST-MODIFIED:20181015T181138Z
UID:12976-1543003200-1543010400@soulofca.org
SUMMARY:Daniel Tosh
DESCRIPTION:It’s the Comedy Central star. Whether you find him entertaining or just avoid his act\, he is definitely making a name for himself and his social network based comedy. http://goldenstatetheatre.com
URL:https://soulofca.org/event/daniel-tosh-2/
LOCATION:Golden State Theater\, 417 Alvarado St.\, Monterey\, CA\, 93940\, United States
END:VEVENT
BEGIN:VEVENT
DTSTART;TZID=America/Los_Angeles:20181123T193000
DTEND;TZID=America/Los_Angeles:20181224T220000
DTSTAMP:20260422T182842
CREATED:20181119T192522Z
LAST-MODIFIED:20181119T192522Z
UID:7862-1543001400-1545688800@soulofca.org
SUMMARY:Mama Mia
DESCRIPTION:It’s the ABBA inspired musical. It’s been playing for twenty years around the world. Now it’s here.  It’s running Thursday through Sunday at the Golden Bough Playhouse in Carmel. Check the website for details.  http://pacrep.org
URL:https://soulofca.org/event/mama-mia-3/
LOCATION:Golden Bough Theater\, Monte Verde St. &SW 8th Ave.\, Carmel by the Sea\, CA\, 93922\, United States
END:VEVENT
BEGIN:VEVENT
DTSTART;TZID=America/Los_Angeles:20181123T193000
DTEND;TZID=America/Los_Angeles:20181224T220000
DTSTAMP:20260422T182842
CREATED:20181119T192522Z
LAST-MODIFIED:20181119T192522Z
UID:13040-1543001400-1545688800@soulofca.org
SUMMARY:Mama Mia
DESCRIPTION:It’s the ABBA inspired musical. It’s been playing for twenty years around the world. Now it’s here.  It’s running Thursday through Sunday at the Golden Bough Playhouse in Carmel. Check the website for details.  http://pacrep.org
URL:https://soulofca.org/event/mama-mia-3-2/
LOCATION:Golden Bough Theater\, Monte Verde St. &SW 8th Ave.\, Carmel by the Sea\, CA\, 93922\, United States
END:VEVENT
BEGIN:VEVENT
DTSTART;TZID=America/Los_Angeles:20181123T170000
DTEND;TZID=America/Los_Angeles:20181123T200000
DTSTAMP:20260422T182842
CREATED:20181119T192729Z
LAST-MODIFIED:20181119T192729Z
UID:7864-1542992400-1543003200@soulofca.org
SUMMARY:Sean Ryan
DESCRIPTION:Mr. Ryan has a strong background in country music and this shows through in his stage presence and the music he loves. http://folktaleswinery.com
URL:https://soulofca.org/event/sean-ryan-2/
LOCATION:Folktales Winery\, 8940 Carmel Valley Rd.\, Carmel\, CA\, 93923\, United States
END:VEVENT
BEGIN:VEVENT
DTSTART;TZID=America/Los_Angeles:20181123T170000
DTEND;TZID=America/Los_Angeles:20181123T200000
DTSTAMP:20260422T182842
CREATED:20181119T192729Z
LAST-MODIFIED:20181119T192729Z
UID:13041-1542992400-1543003200@soulofca.org
SUMMARY:Sean Ryan
DESCRIPTION:Mr. Ryan has a strong background in country music and this shows through in his stage presence and the music he loves. http://folktaleswinery.com
URL:https://soulofca.org/event/sean-ryan-2-2/
LOCATION:Folktales Winery\, 8940 Carmel Valley Rd.\, Carmel\, CA\, 93923\, United States
END:VEVENT
BEGIN:VEVENT
DTSTART;TZID=America/Los_Angeles:20181123T153000
DTEND;TZID=America/Los_Angeles:20181123T213000
DTSTAMP:20260422T182842
CREATED:20181119T193846Z
LAST-MODIFIED:20181119T193846Z
UID:7866-1542987000-1543008600@soulofca.org
SUMMARY:Cannery Row Tree Lighting
DESCRIPTION:It’s the time of year for brightening things up. Cannery Row is no exception. Santa Claus\, elves\, songs\, food and lots of cheer will be the dominant themes on “The Row”.  Let’s not forget the reindeer.
URL:https://soulofca.org/event/cannery-row-tree-lighting/
LOCATION:Cannery Row\, Cannery Row\, Monterey\, CA\, 93940\, United States
END:VEVENT
BEGIN:VEVENT
DTSTART;TZID=America/Los_Angeles:20181123T153000
DTEND;TZID=America/Los_Angeles:20181123T213000
DTSTAMP:20260422T182842
CREATED:20181119T193846Z
LAST-MODIFIED:20181119T193846Z
UID:13042-1542987000-1543008600@soulofca.org
SUMMARY:Cannery Row Tree Lighting
DESCRIPTION:It’s the time of year for brightening things up. Cannery Row is no exception. Santa Claus\, elves\, songs\, food and lots of cheer will be the dominant themes on “The Row”.  Let’s not forget the reindeer.
URL:https://soulofca.org/event/cannery-row-tree-lighting-2/
LOCATION:Cannery Row\, Cannery Row\, Monterey\, CA\, 93940\, United States
END:VEVENT
BEGIN:VEVENT
DTSTART;TZID=America/Los_Angeles:20181122T110000
DTEND;TZID=America/Los_Angeles:20190106T220000
DTSTAMP:20260422T182842
CREATED:20181105T222505Z
LAST-MODIFIED:20181105T222505Z
UID:7779-1542884400-1546812000@soulofca.org
SUMMARY:Ice Skating on the Plaza
DESCRIPTION:For the Christmas season there will once again be the opportunity to ice skate. Custom House Plaza will be transformed into an ice rink. During the day and well into the dark hours the rink will be available to skaters of all ages and proficiency. Bring your own skates or rent them at the site.
URL:https://soulofca.org/event/ice-skating-on-the-plaza/
LOCATION:Custom House Plaza\, Custom House Plaza\, Monterey\, CA\, 93940\, United States
END:VEVENT
BEGIN:VEVENT
DTSTART;TZID=America/Los_Angeles:20181122T110000
DTEND;TZID=America/Los_Angeles:20190106T220000
DTSTAMP:20260422T182842
CREATED:20181105T222505Z
LAST-MODIFIED:20181105T222505Z
UID:13004-1542884400-1546812000@soulofca.org
SUMMARY:Ice Skating on the Plaza
DESCRIPTION:For the Christmas season there will once again be the opportunity to ice skate. Custom House Plaza will be transformed into an ice rink. During the day and well into the dark hours the rink will be available to skaters of all ages and proficiency. Bring your own skates or rent them at the site.
URL:https://soulofca.org/event/ice-skating-on-the-plaza-2/
LOCATION:Custom House Plaza\, Custom House Plaza\, Monterey\, CA\, 93940\, United States
END:VEVENT
BEGIN:VEVENT
DTSTART;TZID=America/Los_Angeles:20181120T100000
DTEND;TZID=America/Los_Angeles:20181126T180000
DTSTAMP:20260422T182842
CREATED:20181014T180246Z
LAST-MODIFIED:20181014T180313Z
UID:7683-1542708000-1543255200@soulofca.org
SUMMARY:Lady Washington (Tall Ship Tours)
DESCRIPTION:The visit of the Lady Washington is a chance to go back to the time of sailing ships and their domination of trade. politics and society. The crew will be there to answer questions and provide a connection to the early days of Monterey and California. Unfortunately\, the reservations for sailing on the Lady Washington are filled. One can visit any day but Mondays until the 26th of November.
URL:https://soulofca.org/event/lady-washington-tall-ship-tours-2/
LOCATION:Old Fisherman’s Wharf\, Monterey\, CA\, United States
END:VEVENT
BEGIN:VEVENT
DTSTART;TZID=America/Los_Angeles:20181120T100000
DTEND;TZID=America/Los_Angeles:20181126T180000
DTSTAMP:20260422T182842
CREATED:20181014T180246Z
LAST-MODIFIED:20181014T180246Z
UID:12965-1542708000-1543255200@soulofca.org
SUMMARY:Lady Washington (Tall Ship Tours)
DESCRIPTION:The visit of the Lady Washington is a chance to go back to the time of sailing ships and their domination of trade. politics and society. The crew will be there to answer questions and provide a connection to the early days of Monterey and California. Unfortunately\, the reservations for sailing on the Lady Washington are filled. One can visit any day but Mondays until the 26th of November.
URL:https://soulofca.org/event/lady-washington-tall-ship-tours-2-2/
LOCATION:Old Fisherman’s Wharf\, Monterey\, CA\, United States
END:VEVENT
BEGIN:VEVENT
DTSTART;TZID=America/Los_Angeles:20181118T173000
DTEND;TZID=America/Los_Angeles:20181118T190000
DTSTAMP:20260422T182842
CREATED:20181112T194954Z
LAST-MODIFIED:20181112T194954Z
UID:7808-1542562200-1542567600@soulofca.org
SUMMARY:Emily Kinney
DESCRIPTION:This talented actress turned singer-songwriter sings about the complexities of modern life and love. In addition she makes her subjects appealing to those who want a more traditional view of life’s experiences.  http://folktaleswinery.com
URL:https://soulofca.org/event/emily-kinney/
LOCATION:Folktales Winery\, 8940 Carmel Valley Rd.\, Carmel\, CA\, 93923\, United States
END:VEVENT
BEGIN:VEVENT
DTSTART;TZID=America/Los_Angeles:20181118T173000
DTEND;TZID=America/Los_Angeles:20181118T190000
DTSTAMP:20260422T182842
CREATED:20181112T194954Z
LAST-MODIFIED:20181112T194954Z
UID:13017-1542562200-1542567600@soulofca.org
SUMMARY:Emily Kinney
DESCRIPTION:This talented actress turned singer-songwriter sings about the complexities of modern life and love. In addition she makes her subjects appealing to those who want a more traditional view of life’s experiences.  http://folktaleswinery.com
URL:https://soulofca.org/event/emily-kinney-2/
LOCATION:Folktales Winery\, 8940 Carmel Valley Rd.\, Carmel\, CA\, 93923\, United States
END:VEVENT
BEGIN:VEVENT
DTSTART;TZID=America/Los_Angeles:20181118T160000
DTEND;TZID=America/Los_Angeles:20181118T180000
DTSTAMP:20260422T182842
CREATED:20181105T195128Z
LAST-MODIFIED:20181105T195128Z
UID:7749-1542556800-1542564000@soulofca.org
SUMMARY:To Chopin With Love
DESCRIPTION:Here’s is an evening with Brian Ganz\, internationally renowned pianist. He will be playing the works of Chopin. Among them will be the mazurkas\, etudes\, and polonaises he is so famous for. http://peaceunited.org
URL:https://soulofca.org/event/to-chopin-with-love/
LOCATION:Peace United Church of Santa Cruz\, 900 High St.\, Santa Cruz\, CA\, 95060\, United States
END:VEVENT
BEGIN:VEVENT
DTSTART;TZID=America/Los_Angeles:20181118T160000
DTEND;TZID=America/Los_Angeles:20181118T180000
DTSTAMP:20260422T182843
CREATED:20181105T195128Z
LAST-MODIFIED:20181105T195128Z
UID:12992-1542556800-1542564000@soulofca.org
SUMMARY:To Chopin With Love
DESCRIPTION:Here’s is an evening with Brian Ganz\, internationally renowned pianist. He will be playing the works of Chopin. Among them will be the mazurkas\, etudes\, and polonaises he is so famous for. http://peaceunited.org
URL:https://soulofca.org/event/to-chopin-with-love-2/
LOCATION:Peace United Church of Santa Cruz\, 900 High St.\, Santa Cruz\, CA\, 95060\, United States
END:VEVENT
BEGIN:VEVENT
DTSTART;TZID=America/Los_Angeles:20181118T150000
DTEND;TZID=America/Los_Angeles:20181118T170000
DTSTAMP:20260422T182843
CREATED:20181112T194423Z
LAST-MODIFIED:20181112T194531Z
UID:7806-1542553200-1542560400@soulofca.org
SUMMARY:ARIA (Stronger Together)
DESCRIPTION:Presenting a challenging and interesting program of a mix of modern and classical vocal performances ARIA always enchants their audience. This group\, consisting solely of women’s voices\, enlightens and entertains consistently.
URL:https://soulofca.org/event/aria-stronger-together/
LOCATION:Monterey First Presbyterian\, 501 El Dorado\, Monterey\, CA\, 93940\, United States
END:VEVENT
BEGIN:VEVENT
DTSTART;TZID=America/Los_Angeles:20181118T150000
DTEND;TZID=America/Los_Angeles:20181118T170000
DTSTAMP:20260422T182843
CREATED:20181112T194423Z
LAST-MODIFIED:20181112T194423Z
UID:13016-1542553200-1542560400@soulofca.org
SUMMARY:ARIA (Stronger Together)
DESCRIPTION:Presenting a challenging and interesting program of a mix of modern and classical vocal performances ARIA always enchants their audience. This group\, consisting solely of women’s voices\, enlightens and entertains consistently.
URL:https://soulofca.org/event/aria-stronger-together-2/
LOCATION:Monterey First Presbyterian\, 501 El Dorado\, Monterey\, CA\, 93940\, United States
END:VEVENT
BEGIN:VEVENT
DTSTART;TZID=America/Los_Angeles:20181118T150000
DTEND;TZID=America/Los_Angeles:20181118T170000
DTSTAMP:20260422T182843
CREATED:20181112T181348Z
LAST-MODIFIED:20181112T181348Z
UID:7792-1542553200-1542560400@soulofca.org
SUMMARY:Monterey Symphony (Sound Waves)
DESCRIPTION:This program features two remarkable pieces both focusing on the composers’ frame of mind. Both of them are thoughtful and moody. Don’t let that stop you\, there is also a a featured soloist\, Carol Wincenc\, a flute instructor at  School.   http://sunsetcenter.org
URL:https://soulofca.org/event/monterey-symphony-sound-waves-2/
LOCATION:Sunset Center\, San Carlos & 9th\, carmel\, CA\, 93921\, United States
END:VEVENT
BEGIN:VEVENT
DTSTART;TZID=America/Los_Angeles:20181118T150000
DTEND;TZID=America/Los_Angeles:20181118T170000
DTSTAMP:20260422T182843
CREATED:20181112T181348Z
LAST-MODIFIED:20181112T181348Z
UID:13009-1542553200-1542560400@soulofca.org
SUMMARY:Monterey Symphony (Sound Waves)
DESCRIPTION:This program features two remarkable pieces both focusing on the composers’ frame of mind. Both of them are thoughtful and moody. Don’t let that stop you\, there is also a a featured soloist\, Carol Wincenc\, a flute instructor at  School.   http://sunsetcenter.org
URL:https://soulofca.org/event/monterey-symphony-sound-waves-2-2/
LOCATION:Sunset Center\, San Carlos & 9th\, carmel\, CA\, 93921\, United States
END:VEVENT
BEGIN:VEVENT
DTSTART;TZID=America/Los_Angeles:20181118T130000
DTEND;TZID=America/Los_Angeles:20181118T143000
DTSTAMP:20260422T182843
CREATED:20181112T201417Z
LAST-MODIFIED:20181112T201417Z
UID:7812-1542546000-1542551400@soulofca.org
SUMMARY:Life of the Buddha   ( Intro to Buddhism)
DESCRIPTION:Reverend Jay Shiseki will give a lecture and answer questions about Buddhism. He has trained in Japan as well as the US and is pleased to give this first step into the background of the “Enlightened One”. http://wbtemple.org
URL:https://soulofca.org/event/life-of-the-buddha-intro-to-buddhism/
LOCATION:Watsonville Buddhist Temple\, 423 Bridge St. \, Watsonville \, CA\, 95076\, United States
END:VEVENT
BEGIN:VEVENT
DTSTART;TZID=America/Los_Angeles:20181118T130000
DTEND;TZID=America/Los_Angeles:20181118T143000
DTSTAMP:20260422T182843
CREATED:20181112T201417Z
LAST-MODIFIED:20181112T201417Z
UID:13019-1542546000-1542551400@soulofca.org
SUMMARY:Life of the Buddha   ( Intro to Buddhism)
DESCRIPTION:Reverend Jay Shiseki will give a lecture and answer questions about Buddhism. He has trained in Japan as well as the US and is pleased to give this first step into the background of the “Enlightened One”. http://wbtemple.org
URL:https://soulofca.org/event/life-of-the-buddha-intro-to-buddhism-2/
LOCATION:Watsonville Buddhist Temple\, 423 Bridge St. \, Watsonville \, CA\, 95076\, United States
END:VEVENT
BEGIN:VEVENT
DTSTART;TZID=America/Los_Angeles:20181118T100000
DTEND;TZID=America/Los_Angeles:20181118T170000
DTSTAMP:20260422T182843
CREATED:20181105T193629Z
LAST-MODIFIED:20181105T193629Z
UID:7747-1542535200-1542560400@soulofca.org
SUMMARY:Holiday Sale (Rocks & Gems)
DESCRIPTION:You’ve been looking for just the right thing for that hard-to-please person on your list. Here is your solution. You’ll find; gems\, rocks\, lapidary creations\, minerals\, fossils\, and beads. See\, something for everyone! http://scrockngem.org
URL:https://soulofca.org/event/holiday-sale-rocks-gems/
LOCATION:Live Oak Grange Hall\, 1900 17th Ave.\, Santa Cruz\, CA\, 95062\, United States
END:VEVENT
BEGIN:VEVENT
DTSTART;TZID=America/Los_Angeles:20181118T100000
DTEND;TZID=America/Los_Angeles:20181118T170000
DTSTAMP:20260422T182843
CREATED:20181105T193629Z
LAST-MODIFIED:20181105T193629Z
UID:12991-1542535200-1542560400@soulofca.org
SUMMARY:Holiday Sale (Rocks & Gems)
DESCRIPTION:You’ve been looking for just the right thing for that hard-to-please person on your list. Here is your solution. You’ll find; gems\, rocks\, lapidary creations\, minerals\, fossils\, and beads. See\, something for everyone! http://scrockngem.org
URL:https://soulofca.org/event/holiday-sale-rocks-gems-2/
LOCATION:Live Oak Grange Hall\, 1900 17th Ave.\, Santa Cruz\, CA\, 95062\, United States
END:VEVENT
BEGIN:VEVENT
DTSTART;TZID=America/Los_Angeles:20181118T100000
DTEND;TZID=America/Los_Angeles:20181118T150000
DTSTAMP:20260422T182843
CREATED:20181112T211720Z
LAST-MODIFIED:20181112T211720Z
UID:7816-1542535200-1542553200@soulofca.org
SUMMARY:Magnificent Monarchs
DESCRIPTION:Come to learn more about the butterflies that lend their name to Pacific Grove “Butterfly Town”. These are amazing little creatures and you can learn just about all you can handle form the folks at the PG Natural History Museum.
URL:https://soulofca.org/event/magnificent-monarchs/
LOCATION:Pacific Grove Museum of Natural History\, 165 Forest Ave.\, Pacific Grove\, CA\, 93950\, United States
END:VEVENT
BEGIN:VEVENT
DTSTART;TZID=America/Los_Angeles:20181118T100000
DTEND;TZID=America/Los_Angeles:20181118T150000
DTSTAMP:20260422T182843
CREATED:20181112T211720Z
LAST-MODIFIED:20181112T211720Z
UID:13021-1542535200-1542553200@soulofca.org
SUMMARY:Magnificent Monarchs
DESCRIPTION:Come to learn more about the butterflies that lend their name to Pacific Grove “Butterfly Town”. These are amazing little creatures and you can learn just about all you can handle form the folks at the PG Natural History Museum.
URL:https://soulofca.org/event/magnificent-monarchs-2/
LOCATION:Pacific Grove Museum of Natural History\, 165 Forest Ave.\, Pacific Grove\, CA\, 93950\, United States
END:VEVENT
BEGIN:VEVENT
DTSTART;TZID=America/Los_Angeles:20181118T093000
DTEND;TZID=America/Los_Angeles:20181118T120000
DTSTAMP:20260422T182843
CREATED:20181112T195504Z
LAST-MODIFIED:20181112T195504Z
UID:7810-1542533400-1542542400@soulofca.org
SUMMARY:Native Crafts with Amah Mutsun Artisans
DESCRIPTION:Those are the names of some of our local indigenous people. Their art and craft obviously go back into the mists of the past\, thousands of years. Here is a opportunity to learn what and how they made their beautiful baskets and other objects. Perhpas make something to take home. http://santacruzmuseum.org
URL:https://soulofca.org/event/native-crafts-with-amah-mutsun-artisans/
LOCATION:Santa Cruz Museum of Natural History\, 1305 East Cliff Dr.\, Santa Cruz\, CA\, 95062\, United States
END:VEVENT
BEGIN:VEVENT
DTSTART;TZID=America/Los_Angeles:20181118T093000
DTEND;TZID=America/Los_Angeles:20181118T120000
DTSTAMP:20260422T182843
CREATED:20181112T195504Z
LAST-MODIFIED:20181112T195504Z
UID:13018-1542533400-1542542400@soulofca.org
SUMMARY:Native Crafts with Amah Mutsun Artisans
DESCRIPTION:Those are the names of some of our local indigenous people. Their art and craft obviously go back into the mists of the past\, thousands of years. Here is a opportunity to learn what and how they made their beautiful baskets and other objects. Perhpas make something to take home. http://santacruzmuseum.org
URL:https://soulofca.org/event/native-crafts-with-amah-mutsun-artisans-2/
LOCATION:Santa Cruz Museum of Natural History\, 1305 East Cliff Dr.\, Santa Cruz\, CA\, 95062\, United States
END:VEVENT
BEGIN:VEVENT
DTSTART;TZID=America/Los_Angeles:20181117T200000
DTEND;TZID=America/Los_Angeles:20181117T220000
DTSTAMP:20260422T182843
CREATED:20181112T180719Z
LAST-MODIFIED:20181112T180719Z
UID:7790-1542484800-1542492000@soulofca.org
SUMMARY:Monterey Symphony   (Sound Waves)
DESCRIPTION:This program features two remarkable pieces both focusing on the composers’ frame of mind. Both of them are thoughtful and moody. Don’t let that stop you\, there is also a a featured soloist\, Carol Wincenc\, a flute instructor at the Julliard School. http://sunsetcenter.org
URL:https://soulofca.org/event/monterey-symphony-sound-waves/
LOCATION:Sunset Center\, San Carlos & 9th\, carmel\, CA\, 93921\, United States
END:VEVENT
BEGIN:VEVENT
DTSTART;TZID=America/Los_Angeles:20181117T200000
DTEND;TZID=America/Los_Angeles:20181117T220000
DTSTAMP:20260422T182843
CREATED:20181112T180719Z
LAST-MODIFIED:20181112T180719Z
UID:13008-1542484800-1542492000@soulofca.org
SUMMARY:Monterey Symphony   (Sound Waves)
DESCRIPTION:This program features two remarkable pieces both focusing on the composers’ frame of mind. Both of them are thoughtful and moody. Don’t let that stop you\, there is also a a featured soloist\, Carol Wincenc\, a flute instructor at the Julliard School. http://sunsetcenter.org
URL:https://soulofca.org/event/monterey-symphony-sound-waves-3/
LOCATION:Sunset Center\, San Carlos & 9th\, carmel\, CA\, 93921\, United States
END:VEVENT
BEGIN:VEVENT
DTSTART;TZID=America/Los_Angeles:20181117T200000
DTEND;TZID=America/Los_Angeles:20181117T213000
DTSTAMP:20260422T182843
CREATED:20181112T193808Z
LAST-MODIFIED:20181112T193808Z
UID:7802-1542484800-1542490200@soulofca.org
SUMMARY:BODY TRAFFIC
DESCRIPTION:This is an unusually democratic sort of a dance troupe. The members select and organize the presentations and make a unique art form out of their sensibilities. More than one type of music or dance will move through each piece. http://csumb.edu/worldtheater
URL:https://soulofca.org/event/body-traffic/
LOCATION:World Theater CSUMB\, 5260 6th Ave.\, Seaside\, CA\, 93955\, United States
END:VEVENT
END:VCALENDAR