BEGIN:VCALENDAR
VERSION:2.0
PRODID:-//Soul of CA - ECPv6.15.17//NONSGML v1.0//EN
CALSCALE:GREGORIAN
METHOD:PUBLISH
X-WR-CALNAME:Soul of CA
X-ORIGINAL-URL:https://soulofca.org
X-WR-CALDESC:Events for Soul of CA
REFRESH-INTERVAL;VALUE=DURATION:PT1H
X-Robots-Tag:noindex
X-PUBLISHED-TTL:PT1H
BEGIN:VTIMEZONE
TZID:America/Los_Angeles
BEGIN:DAYLIGHT
TZOFFSETFROM:-0800
TZOFFSETTO:-0700
TZNAME:PDT
DTSTART:20170312T100000
END:DAYLIGHT
BEGIN:STANDARD
TZOFFSETFROM:-0700
TZOFFSETTO:-0800
TZNAME:PST
DTSTART:20171105T090000
END:STANDARD
BEGIN:DAYLIGHT
TZOFFSETFROM:-0800
TZOFFSETTO:-0700
TZNAME:PDT
DTSTART:20180311T100000
END:DAYLIGHT
BEGIN:STANDARD
TZOFFSETFROM:-0700
TZOFFSETTO:-0800
TZNAME:PST
DTSTART:20181104T090000
END:STANDARD
BEGIN:DAYLIGHT
TZOFFSETFROM:-0800
TZOFFSETTO:-0700
TZNAME:PDT
DTSTART:20190310T100000
END:DAYLIGHT
BEGIN:STANDARD
TZOFFSETFROM:-0700
TZOFFSETTO:-0800
TZNAME:PST
DTSTART:20191103T090000
END:STANDARD
BEGIN:DAYLIGHT
TZOFFSETFROM:-0800
TZOFFSETTO:-0700
TZNAME:PDT
DTSTART:20200308T100000
END:DAYLIGHT
BEGIN:STANDARD
TZOFFSETFROM:-0700
TZOFFSETTO:-0800
TZNAME:PST
DTSTART:20201101T090000
END:STANDARD
END:VTIMEZONE
BEGIN:VEVENT
DTSTART;TZID=America/Los_Angeles:20181125T180000
DTEND;TZID=America/Los_Angeles:20181125T200000
DTSTAMP:20260422T033030
CREATED:20181105T223851Z
LAST-MODIFIED:20181105T223851Z
UID:13006-1543168800-1543176000@soulofca.org
SUMMARY:Parade of Lights
DESCRIPTION:For several years now the city of Salinas has sponsored a community parade. Scores of groups come out and march through the downtown center. Even larger groups of viewers line the streets to cheer and wave at the parade. It’s a community-wide success. Come out and see what Salinas is really like. Fun people and lively parades.
URL:https://soulofca.org/event/parade-of-lights-2/
LOCATION:City Center\, Main St.\, Salinas\, CA\, 93901\, United States
END:VEVENT
BEGIN:VEVENT
DTSTART;TZID=America/Los_Angeles:20181125T170000
DTEND;TZID=America/Los_Angeles:20181125T190000
DTSTAMP:20260422T033030
CREATED:20181119T182950Z
LAST-MODIFIED:20181119T182950Z
UID:7844-1543165200-1543172400@soulofca.org
SUMMARY:Matsiko Orphan Choir
DESCRIPTION:This choir is made up of children throughout the world. Although the title means “hope” in the Ugandan language the children bring their own experiences from the native countries to the performance. It will be a celebration of hope incorporating the culture of the countries of origin of the singers.
URL:https://soulofca.org/event/matsiko-orphan-choir/
LOCATION:Greater Victory Temple Church\, 1620 Broadway Ave.\, Seaside\, CA\, 93955\, United States
END:VEVENT
BEGIN:VEVENT
DTSTART;TZID=America/Los_Angeles:20181125T170000
DTEND;TZID=America/Los_Angeles:20181125T190000
DTSTAMP:20260422T033030
CREATED:20181119T182950Z
LAST-MODIFIED:20181119T182950Z
UID:13033-1543165200-1543172400@soulofca.org
SUMMARY:Matsiko Orphan Choir
DESCRIPTION:This choir is made up of children throughout the world. Although the title means “hope” in the Ugandan language the children bring their own experiences from the native countries to the performance. It will be a celebration of hope incorporating the culture of the countries of origin of the singers.
URL:https://soulofca.org/event/matsiko-orphan-choir-2/
LOCATION:Greater Victory Temple Church\, 1620 Broadway Ave.\, Seaside\, CA\, 93955\, United States
END:VEVENT
BEGIN:VEVENT
DTSTART;TZID=America/Los_Angeles:20181125T143000
DTEND;TZID=America/Los_Angeles:20181125T170000
DTSTAMP:20260422T033030
CREATED:20181119T183428Z
LAST-MODIFIED:20181119T183428Z
UID:7849-1543156200-1543165200@soulofca.org
SUMMARY:Spectacular Variety Show
DESCRIPTION:In the heyday of variety shows the acts were a diverse representation of remarkable skills and talents. Just so in this version. Singing\, dancing\, and aerial acts will highlight this program.
URL:https://soulofca.org/event/spectacular-variety-show-2/
LOCATION:Hidden Valley Music Center\, 104 W. Carmel Valley Rd.\, Carmel\, CA\, 93924\, United States
END:VEVENT
BEGIN:VEVENT
DTSTART;TZID=America/Los_Angeles:20181125T143000
DTEND;TZID=America/Los_Angeles:20181125T170000
DTSTAMP:20260422T033030
CREATED:20181119T183428Z
LAST-MODIFIED:20181119T183428Z
UID:13035-1543156200-1543165200@soulofca.org
SUMMARY:Spectacular Variety Show
DESCRIPTION:In the heyday of variety shows the acts were a diverse representation of remarkable skills and talents. Just so in this version. Singing\, dancing\, and aerial acts will highlight this program.
URL:https://soulofca.org/event/spectacular-variety-show-2-2/
LOCATION:Hidden Valley Music Center\, 104 W. Carmel Valley Rd.\, Carmel\, CA\, 93924\, United States
END:VEVENT
BEGIN:VEVENT
DTSTART;TZID=America/Los_Angeles:20181124T200000
DTEND;TZID=America/Los_Angeles:20181124T220000
DTSTAMP:20260422T033030
CREATED:20181119T191158Z
LAST-MODIFIED:20181119T191158Z
UID:7860-1543089600-1543096800@soulofca.org
SUMMARY:Inside/Outside Erotic Eclectic
DESCRIPTION:The Dali 17 museum will be hosting a presentation of challenging and interesting performance pieces. Some of them include nudity and the audience must be 18 and over. The theme is “Talk to your inner demons”. More at their website info@Dali17.com
URL:https://soulofca.org/event/inside-outside-erotic-eclectic/
LOCATION:Dali Expo Museum\, Custom House Plaza\, Monterey\, CA\, 93940\, United States
END:VEVENT
BEGIN:VEVENT
DTSTART;TZID=America/Los_Angeles:20181124T200000
DTEND;TZID=America/Los_Angeles:20181124T220000
DTSTAMP:20260422T033030
CREATED:20181119T191158Z
LAST-MODIFIED:20181119T191158Z
UID:13039-1543089600-1543096800@soulofca.org
SUMMARY:Inside/Outside Erotic Eclectic
DESCRIPTION:The Dali 17 museum will be hosting a presentation of challenging and interesting performance pieces. Some of them include nudity and the audience must be 18 and over. The theme is “Talk to your inner demons”. More at their website info@Dali17.com
URL:https://soulofca.org/event/inside-outside-erotic-eclectic-2/
LOCATION:Dali Expo Museum\, Custom House Plaza\, Monterey\, CA\, 93940\, United States
END:VEVENT
BEGIN:VEVENT
DTSTART;TZID=America/Los_Angeles:20181124T193000
DTEND;TZID=America/Los_Angeles:20181124T210000
DTSTAMP:20260422T033031
CREATED:20181112T201853Z
LAST-MODIFIED:20181112T201853Z
UID:7814-1543087800-1543093200@soulofca.org
SUMMARY:Gourd Music Event
DESCRIPTION:No\, they are not playing gourds. (However interesting that might be.) The Gourd Music Label is presenting their program of their talented musicians. Lots of music\, stories\, and good times will be available. http://rcnv.org
URL:https://soulofca.org/event/gourd-music-event/
LOCATION:Resource Center for Non-Violence\, 612 Ocean St.\, Santa Cruz\, CA\, 95060\, United States
END:VEVENT
BEGIN:VEVENT
DTSTART;TZID=America/Los_Angeles:20181124T193000
DTEND;TZID=America/Los_Angeles:20181124T210000
DTSTAMP:20260422T033031
CREATED:20181112T201853Z
LAST-MODIFIED:20181112T201853Z
UID:13020-1543087800-1543093200@soulofca.org
SUMMARY:Gourd Music Event
DESCRIPTION:No\, they are not playing gourds. (However interesting that might be.) The Gourd Music Label is presenting their program of their talented musicians. Lots of music\, stories\, and good times will be available. http://rcnv.org
URL:https://soulofca.org/event/gourd-music-event-2/
LOCATION:Resource Center for Non-Violence\, 612 Ocean St.\, Santa Cruz\, CA\, 95060\, United States
END:VEVENT
BEGIN:VEVENT
DTSTART;TZID=America/Los_Angeles:20181124T190000
DTEND;TZID=America/Los_Angeles:20181124T210000
DTSTAMP:20260422T033031
CREATED:20181119T184947Z
LAST-MODIFIED:20181119T185516Z
UID:7851-1543086000-1543093200@soulofca.org
SUMMARY:Songs Hotbox Harry Taught Us
DESCRIPTION:Yes\, that’s the name of the band. It seems that the playlist of the band is the one described in the name. It will be an interesting and eclectic evening\, filled with interesting music and stories.
URL:https://soulofca.org/event/songs-hotbox-harry-taught-us/
LOCATION:Barmel\, San Carlos between 7th and Ocean\, Carmel \, CA\, United States
END:VEVENT
BEGIN:VEVENT
DTSTART;TZID=America/Los_Angeles:20181124T190000
DTEND;TZID=America/Los_Angeles:20181124T210000
DTSTAMP:20260422T033031
CREATED:20181119T184947Z
LAST-MODIFIED:20181119T184947Z
UID:13036-1543086000-1543093200@soulofca.org
SUMMARY:Songs Hotbox Harry Taught Us
DESCRIPTION:Yes\, that’s the name of the band. It seems that the playlist of the band is the one described in the name. It will be an interesting and eclectic evening\, filled with interesting music and stories.
URL:https://soulofca.org/event/songs-hotbox-harry-taught-us-2/
LOCATION:Barmel\, San Carlos between 7th and Ocean\, Carmel \, CA\, United States
END:VEVENT
BEGIN:VEVENT
DTSTART;TZID=America/Los_Angeles:20181124T190000
DTEND;TZID=America/Los_Angeles:20181124T210000
DTSTAMP:20260422T033031
CREATED:20181119T183310Z
LAST-MODIFIED:20181119T183310Z
UID:7847-1543086000-1543093200@soulofca.org
SUMMARY:Spectacular Variety Show
DESCRIPTION:In the heyday of variety shows the acts were a diverse representation of remarkable skills and talents. Just so in this version. Singing\, dancing\, and aerial acts will highlight this program.
URL:https://soulofca.org/event/spectacular-variety-show/
LOCATION:Hidden Valley Music Center\, 104 W. Carmel Valley Rd.\, Carmel\, CA\, 93924\, United States
END:VEVENT
BEGIN:VEVENT
DTSTART;TZID=America/Los_Angeles:20181124T190000
DTEND;TZID=America/Los_Angeles:20181124T210000
DTSTAMP:20260422T033031
CREATED:20181119T183310Z
LAST-MODIFIED:20181119T183310Z
UID:13034-1543086000-1543093200@soulofca.org
SUMMARY:Spectacular Variety Show
DESCRIPTION:In the heyday of variety shows the acts were a diverse representation of remarkable skills and talents. Just so in this version. Singing\, dancing\, and aerial acts will highlight this program.
URL:https://soulofca.org/event/spectacular-variety-show-3/
LOCATION:Hidden Valley Music Center\, 104 W. Carmel Valley Rd.\, Carmel\, CA\, 93924\, United States
END:VEVENT
BEGIN:VEVENT
DTSTART;TZID=America/Los_Angeles:20181124T100000
DTEND;TZID=America/Los_Angeles:20181125T160000
DTSTAMP:20260422T033031
CREATED:20181105T222745Z
LAST-MODIFIED:20181105T222809Z
UID:7781-1543053600-1543161600@soulofca.org
SUMMARY:Gem Faire
DESCRIPTION:Just as you are thinking about gifts\, here is a marvelous chance to get something unique. here there will be gems\, beads\, crystals\, and precious metals. So much to choose from.http://gemfaire.com
URL:https://soulofca.org/event/gem-faire/
LOCATION:Monterey County Fairgrounds\, 2004 Fairground Rd.\, Monterey\, CA\, 93940\, United States
END:VEVENT
BEGIN:VEVENT
DTSTART;TZID=America/Los_Angeles:20181124T100000
DTEND;TZID=America/Los_Angeles:20181125T160000
DTSTAMP:20260422T033031
CREATED:20181105T222745Z
LAST-MODIFIED:20181105T222745Z
UID:13005-1543053600-1543161600@soulofca.org
SUMMARY:Gem Faire
DESCRIPTION:Just as you are thinking about gifts\, here is a marvelous chance to get something unique. here there will be gems\, beads\, crystals\, and precious metals. So much to choose from.http://gemfaire.com
URL:https://soulofca.org/event/gem-faire-2/
LOCATION:Monterey County Fairgrounds\, 2004 Fairground Rd.\, Monterey\, CA\, 93940\, United States
END:VEVENT
BEGIN:VEVENT
DTSTART;TZID=America/Los_Angeles:20181124T100000
DTEND;TZID=America/Los_Angeles:20181124T160000
DTSTAMP:20260422T033031
CREATED:20181119T190616Z
LAST-MODIFIED:20181119T190616Z
UID:7854-1543053600-1543075200@soulofca.org
SUMMARY:Moss Landing Arts & Craft Sale
DESCRIPTION:Many local artists will bring their creations to the home of Nancy Russell. From her yard people will be selecting lovely art pieces and finding great bargains.
URL:https://soulofca.org/event/moss-landing-arts-craft-sale/
LOCATION:Nancy Russell’s\, 10942 Pieri St.\, Moss Landing\, CA\, 95039\, United States
END:VEVENT
BEGIN:VEVENT
DTSTART;TZID=America/Los_Angeles:20181124T100000
DTEND;TZID=America/Los_Angeles:20181124T160000
DTSTAMP:20260422T033031
CREATED:20181119T190616Z
LAST-MODIFIED:20181119T190616Z
UID:13037-1543053600-1543075200@soulofca.org
SUMMARY:Moss Landing Arts & Craft Sale
DESCRIPTION:Many local artists will bring their creations to the home of Nancy Russell. From her yard people will be selecting lovely art pieces and finding great bargains.
URL:https://soulofca.org/event/moss-landing-arts-craft-sale-2/
LOCATION:Nancy Russell’s\, 10942 Pieri St.\, Moss Landing\, CA\, 95039\, United States
END:VEVENT
BEGIN:VEVENT
DTSTART;TZID=America/Los_Angeles:20181123T200000
DTEND;TZID=America/Los_Angeles:20181123T220000
DTSTAMP:20260422T033031
CREATED:20181119T191002Z
LAST-MODIFIED:20181119T191059Z
UID:7857-1543003200-1543010400@soulofca.org
SUMMARY:Inside/Out  Erotic Eclectic
DESCRIPTION:The Dali 17 museum will be hosting a presentation of challenging and interesting performance pieces. Some of them include nudity and the audience must be 18 and over. The theme is “Talk to your inner demons”. More at their website info@Dali17.com
URL:https://soulofca.org/event/inside-out-erotic-eclectic/
LOCATION:Dali Expo Museum\, Custom House Plaza\, Monterey\, CA\, 93940\, United States
END:VEVENT
BEGIN:VEVENT
DTSTART;TZID=America/Los_Angeles:20181123T200000
DTEND;TZID=America/Los_Angeles:20181123T220000
DTSTAMP:20260422T033031
CREATED:20181119T191002Z
LAST-MODIFIED:20181119T191002Z
UID:13038-1543003200-1543010400@soulofca.org
SUMMARY:Inside/Out  Erotic Eclectic
DESCRIPTION:The Dali 17 museum will be hosting a presentation of challenging and interesting performance pieces. Some of them include nudity and the audience must be 18 and over. The theme is “Talk to your inner demons”. More at their website info@Dali17.com
URL:https://soulofca.org/event/inside-out-erotic-eclectic-2/
LOCATION:Dali Expo Museum\, Custom House Plaza\, Monterey\, CA\, 93940\, United States
END:VEVENT
BEGIN:VEVENT
DTSTART;TZID=America/Los_Angeles:20181123T200000
DTEND;TZID=America/Los_Angeles:20181123T220000
DTSTAMP:20260422T033031
CREATED:20181015T181138Z
LAST-MODIFIED:20181015T181138Z
UID:7709-1543003200-1543010400@soulofca.org
SUMMARY:Daniel Tosh
DESCRIPTION:It’s the Comedy Central star. Whether you find him entertaining or just avoid his act\, he is definitely making a name for himself and his social network based comedy. http://goldenstatetheatre.com
URL:https://soulofca.org/event/daniel-tosh/
LOCATION:Golden State Theater\, 417 Alvarado St.\, Monterey\, CA\, 93940\, United States
END:VEVENT
BEGIN:VEVENT
DTSTART;TZID=America/Los_Angeles:20181123T200000
DTEND;TZID=America/Los_Angeles:20181123T220000
DTSTAMP:20260422T033031
CREATED:20181015T181138Z
LAST-MODIFIED:20181015T181138Z
UID:12976-1543003200-1543010400@soulofca.org
SUMMARY:Daniel Tosh
DESCRIPTION:It’s the Comedy Central star. Whether you find him entertaining or just avoid his act\, he is definitely making a name for himself and his social network based comedy. http://goldenstatetheatre.com
URL:https://soulofca.org/event/daniel-tosh-2/
LOCATION:Golden State Theater\, 417 Alvarado St.\, Monterey\, CA\, 93940\, United States
END:VEVENT
BEGIN:VEVENT
DTSTART;TZID=America/Los_Angeles:20181123T193000
DTEND;TZID=America/Los_Angeles:20181224T220000
DTSTAMP:20260422T033031
CREATED:20181119T192522Z
LAST-MODIFIED:20181119T192522Z
UID:7862-1543001400-1545688800@soulofca.org
SUMMARY:Mama Mia
DESCRIPTION:It’s the ABBA inspired musical. It’s been playing for twenty years around the world. Now it’s here.  It’s running Thursday through Sunday at the Golden Bough Playhouse in Carmel. Check the website for details.  http://pacrep.org
URL:https://soulofca.org/event/mama-mia-3/
LOCATION:Golden Bough Theater\, Monte Verde St. &SW 8th Ave.\, Carmel by the Sea\, CA\, 93922\, United States
END:VEVENT
BEGIN:VEVENT
DTSTART;TZID=America/Los_Angeles:20181123T193000
DTEND;TZID=America/Los_Angeles:20181224T220000
DTSTAMP:20260422T033031
CREATED:20181119T192522Z
LAST-MODIFIED:20181119T192522Z
UID:13040-1543001400-1545688800@soulofca.org
SUMMARY:Mama Mia
DESCRIPTION:It’s the ABBA inspired musical. It’s been playing for twenty years around the world. Now it’s here.  It’s running Thursday through Sunday at the Golden Bough Playhouse in Carmel. Check the website for details.  http://pacrep.org
URL:https://soulofca.org/event/mama-mia-3-2/
LOCATION:Golden Bough Theater\, Monte Verde St. &SW 8th Ave.\, Carmel by the Sea\, CA\, 93922\, United States
END:VEVENT
BEGIN:VEVENT
DTSTART;TZID=America/Los_Angeles:20181123T170000
DTEND;TZID=America/Los_Angeles:20181123T200000
DTSTAMP:20260422T033031
CREATED:20181119T192729Z
LAST-MODIFIED:20181119T192729Z
UID:7864-1542992400-1543003200@soulofca.org
SUMMARY:Sean Ryan
DESCRIPTION:Mr. Ryan has a strong background in country music and this shows through in his stage presence and the music he loves. http://folktaleswinery.com
URL:https://soulofca.org/event/sean-ryan-2/
LOCATION:Folktales Winery\, 8940 Carmel Valley Rd.\, Carmel\, CA\, 93923\, United States
END:VEVENT
BEGIN:VEVENT
DTSTART;TZID=America/Los_Angeles:20181123T170000
DTEND;TZID=America/Los_Angeles:20181123T200000
DTSTAMP:20260422T033031
CREATED:20181119T192729Z
LAST-MODIFIED:20181119T192729Z
UID:13041-1542992400-1543003200@soulofca.org
SUMMARY:Sean Ryan
DESCRIPTION:Mr. Ryan has a strong background in country music and this shows through in his stage presence and the music he loves. http://folktaleswinery.com
URL:https://soulofca.org/event/sean-ryan-2-2/
LOCATION:Folktales Winery\, 8940 Carmel Valley Rd.\, Carmel\, CA\, 93923\, United States
END:VEVENT
BEGIN:VEVENT
DTSTART;TZID=America/Los_Angeles:20181123T153000
DTEND;TZID=America/Los_Angeles:20181123T213000
DTSTAMP:20260422T033031
CREATED:20181119T193846Z
LAST-MODIFIED:20181119T193846Z
UID:7866-1542987000-1543008600@soulofca.org
SUMMARY:Cannery Row Tree Lighting
DESCRIPTION:It’s the time of year for brightening things up. Cannery Row is no exception. Santa Claus\, elves\, songs\, food and lots of cheer will be the dominant themes on “The Row”.  Let’s not forget the reindeer.
URL:https://soulofca.org/event/cannery-row-tree-lighting/
LOCATION:Cannery Row\, Cannery Row\, Monterey\, CA\, 93940\, United States
END:VEVENT
BEGIN:VEVENT
DTSTART;TZID=America/Los_Angeles:20181123T153000
DTEND;TZID=America/Los_Angeles:20181123T213000
DTSTAMP:20260422T033031
CREATED:20181119T193846Z
LAST-MODIFIED:20181119T193846Z
UID:13042-1542987000-1543008600@soulofca.org
SUMMARY:Cannery Row Tree Lighting
DESCRIPTION:It’s the time of year for brightening things up. Cannery Row is no exception. Santa Claus\, elves\, songs\, food and lots of cheer will be the dominant themes on “The Row”.  Let’s not forget the reindeer.
URL:https://soulofca.org/event/cannery-row-tree-lighting-2/
LOCATION:Cannery Row\, Cannery Row\, Monterey\, CA\, 93940\, United States
END:VEVENT
BEGIN:VEVENT
DTSTART;TZID=America/Los_Angeles:20181122T110000
DTEND;TZID=America/Los_Angeles:20190106T220000
DTSTAMP:20260422T033031
CREATED:20181105T222505Z
LAST-MODIFIED:20181105T222505Z
UID:7779-1542884400-1546812000@soulofca.org
SUMMARY:Ice Skating on the Plaza
DESCRIPTION:For the Christmas season there will once again be the opportunity to ice skate. Custom House Plaza will be transformed into an ice rink. During the day and well into the dark hours the rink will be available to skaters of all ages and proficiency. Bring your own skates or rent them at the site.
URL:https://soulofca.org/event/ice-skating-on-the-plaza/
LOCATION:Custom House Plaza\, Custom House Plaza\, Monterey\, CA\, 93940\, United States
END:VEVENT
BEGIN:VEVENT
DTSTART;TZID=America/Los_Angeles:20181122T110000
DTEND;TZID=America/Los_Angeles:20190106T220000
DTSTAMP:20260422T033031
CREATED:20181105T222505Z
LAST-MODIFIED:20181105T222505Z
UID:13004-1542884400-1546812000@soulofca.org
SUMMARY:Ice Skating on the Plaza
DESCRIPTION:For the Christmas season there will once again be the opportunity to ice skate. Custom House Plaza will be transformed into an ice rink. During the day and well into the dark hours the rink will be available to skaters of all ages and proficiency. Bring your own skates or rent them at the site.
URL:https://soulofca.org/event/ice-skating-on-the-plaza-2/
LOCATION:Custom House Plaza\, Custom House Plaza\, Monterey\, CA\, 93940\, United States
END:VEVENT
BEGIN:VEVENT
DTSTART;TZID=America/Los_Angeles:20181120T100000
DTEND;TZID=America/Los_Angeles:20181126T180000
DTSTAMP:20260422T033031
CREATED:20181014T180246Z
LAST-MODIFIED:20181014T180313Z
UID:7683-1542708000-1543255200@soulofca.org
SUMMARY:Lady Washington (Tall Ship Tours)
DESCRIPTION:The visit of the Lady Washington is a chance to go back to the time of sailing ships and their domination of trade. politics and society. The crew will be there to answer questions and provide a connection to the early days of Monterey and California. Unfortunately\, the reservations for sailing on the Lady Washington are filled. One can visit any day but Mondays until the 26th of November.
URL:https://soulofca.org/event/lady-washington-tall-ship-tours-2/
LOCATION:Old Fisherman’s Wharf\, Monterey\, CA\, United States
END:VEVENT
END:VCALENDAR