BEGIN:VCALENDAR
VERSION:2.0
PRODID:-//Soul of CA - ECPv6.15.17//NONSGML v1.0//EN
CALSCALE:GREGORIAN
METHOD:PUBLISH
X-WR-CALNAME:Soul of CA
X-ORIGINAL-URL:https://soulofca.org
X-WR-CALDESC:Events for Soul of CA
REFRESH-INTERVAL;VALUE=DURATION:PT1H
X-Robots-Tag:noindex
X-PUBLISHED-TTL:PT1H
BEGIN:VTIMEZONE
TZID:America/Los_Angeles
BEGIN:DAYLIGHT
TZOFFSETFROM:-0800
TZOFFSETTO:-0700
TZNAME:PDT
DTSTART:20170312T100000
END:DAYLIGHT
BEGIN:STANDARD
TZOFFSETFROM:-0700
TZOFFSETTO:-0800
TZNAME:PST
DTSTART:20171105T090000
END:STANDARD
BEGIN:DAYLIGHT
TZOFFSETFROM:-0800
TZOFFSETTO:-0700
TZNAME:PDT
DTSTART:20180311T100000
END:DAYLIGHT
BEGIN:STANDARD
TZOFFSETFROM:-0700
TZOFFSETTO:-0800
TZNAME:PST
DTSTART:20181104T090000
END:STANDARD
BEGIN:DAYLIGHT
TZOFFSETFROM:-0800
TZOFFSETTO:-0700
TZNAME:PDT
DTSTART:20190310T100000
END:DAYLIGHT
BEGIN:STANDARD
TZOFFSETFROM:-0700
TZOFFSETTO:-0800
TZNAME:PST
DTSTART:20191103T090000
END:STANDARD
END:VTIMEZONE
BEGIN:VEVENT
DTSTART;TZID=America/Los_Angeles:20180503T100000
DTEND;TZID=America/Los_Angeles:20180506T170000
DTSTAMP:20260422T212331
CREATED:20180219T180558Z
LAST-MODIFIED:20180219T180558Z
UID:5591-1525341600-1525626000@soulofca.org
SUMMARY:Ferrari Challenge
DESCRIPTION:Some of the more exotic sportscars in the world belong to this mark and they will be here to demonstrate why Ferrari has the reputation it does. Four days of racing and don’t forget those fascinating trips to the pits.
URL:https://soulofca.org/event/ferrari-challenge/
LOCATION:Mazda Laguna Seca Raceway\, 1021 Monterey-Salinas Highway\, Salinas\, CA\, 93908\, United States
END:VEVENT
BEGIN:VEVENT
DTSTART;TZID=America/Los_Angeles:20180503T100000
DTEND;TZID=America/Los_Angeles:20180506T170000
DTSTAMP:20260422T212331
CREATED:20180219T180558Z
LAST-MODIFIED:20180219T180558Z
UID:12244-1525341600-1525626000@soulofca.org
SUMMARY:Ferrari Challenge
DESCRIPTION:Some of the more exotic sportscars in the world belong to this mark and they will be here to demonstrate why Ferrari has the reputation it does. Four days of racing and don’t forget those fascinating trips to the pits.
URL:https://soulofca.org/event/ferrari-challenge-3/
LOCATION:Mazda Laguna Seca Raceway\, 1021 Monterey-Salinas Highway\, Salinas\, CA\, 93908\, United States
END:VEVENT
BEGIN:VEVENT
DTSTART;TZID=America/Los_Angeles:20180504T080000
DTEND;TZID=America/Los_Angeles:20180506T170000
DTSTAMP:20260422T212331
CREATED:20180409T212049Z
LAST-MODIFIED:20180409T212130Z
UID:6028-1525420800-1525626000@soulofca.org
SUMMARY:Wildflower Experience  (Triathlon)
DESCRIPTION:For a weekend the town of Bradley is transformed into a sort of mecca for triathletes. After its many years it has expanded into so much more. Entertainment and food\, and vendors will help make your “Experience”.
URL:https://soulofca.org/event/wildflower-experience-triathlon/
LOCATION:Lake San Antonio\, 2610 San Antonio Rd. \, Bradley \, CA\, 93426\, United States
END:VEVENT
BEGIN:VEVENT
DTSTART;TZID=America/Los_Angeles:20180504T080000
DTEND;TZID=America/Los_Angeles:20180506T170000
DTSTAMP:20260422T212331
CREATED:20180409T212049Z
LAST-MODIFIED:20180409T212049Z
UID:12362-1525420800-1525626000@soulofca.org
SUMMARY:Wildflower Experience  (Triathlon)
DESCRIPTION:For a weekend the town of Bradley is transformed into a sort of mecca for triathletes. After its many years it has expanded into so much more. Entertainment and food\, and vendors will help make your “Experience”.
URL:https://soulofca.org/event/wildflower-experience-triathlon-2/
LOCATION:Lake San Antonio\, 2610 San Antonio Rd. \, Bradley \, CA\, 93426\, United States
END:VEVENT
BEGIN:VEVENT
DTSTART;TZID=America/Los_Angeles:20180504T100000
DTEND;TZID=America/Los_Angeles:20180506T170000
DTSTAMP:20260422T212331
CREATED:20171218T224805Z
LAST-MODIFIED:20171218T224805Z
UID:5060-1525428000-1525626000@soulofca.org
SUMMARY:Steinbeck Festival
DESCRIPTION:Every year the Steinbeck Center has sponsored a festival honoring and studying the legacy of John Steinbeck and the influence of his work. This year is no exception. The Women of Steinbeck’s World\, featuring the women he invented\, like Ma Joad\, and the women who shared his vision of humanity\, for example\, Dorothy Day and Eleanor Roosevelt.  A variety of venues are being used so check the website for the particulars \, steinbeck.org.
URL:https://soulofca.org/event/steinbeck-festival/
LOCATION:Steinbeck Center\, National Steinbeck Center\, Salinas\, CA\, 93901\, United States
END:VEVENT
BEGIN:VEVENT
DTSTART;TZID=America/Los_Angeles:20180504T100000
DTEND;TZID=America/Los_Angeles:20180506T170000
DTSTAMP:20260422T212331
CREATED:20171218T224805Z
LAST-MODIFIED:20171218T224805Z
UID:12099-1525428000-1525626000@soulofca.org
SUMMARY:Steinbeck Festival
DESCRIPTION:Every year the Steinbeck Center has sponsored a festival honoring and studying the legacy of John Steinbeck and the influence of his work. This year is no exception. The Women of Steinbeck’s World\, featuring the women he invented\, like Ma Joad\, and the women who shared his vision of humanity\, for example\, Dorothy Day and Eleanor Roosevelt.  A variety of venues are being used so check the website for the particulars \, steinbeck.org.
URL:https://soulofca.org/event/steinbeck-festival-5/
LOCATION:Steinbeck Center\, National Steinbeck Center\, Salinas\, CA\, 93901\, United States
END:VEVENT
BEGIN:VEVENT
DTSTART;TZID=America/Los_Angeles:20180504T200000
DTEND;TZID=America/Los_Angeles:20180527T223000
DTSTAMP:20260422T212331
CREATED:20180423T201610Z
LAST-MODIFIED:20180423T201610Z
UID:6222-1525464000-1527460200@soulofca.org
SUMMARY:Odd Couple
DESCRIPTION:It’s Neil Simon’s hit play about two men who have become archetypes of opposing personal hygiene. After watching it one realizes it is really about much more. The wit\, insight\, and timing of Simon’s dialogue are the core of his plays.
URL:https://soulofca.org/event/odd-couple/
LOCATION:Colligan Theatre at Tannery Arts Center\, 1010 River St.\, Santa Cruz\, CA\, 95060\, United States
END:VEVENT
BEGIN:VEVENT
DTSTART;TZID=America/Los_Angeles:20180504T200000
DTEND;TZID=America/Los_Angeles:20180527T223000
DTSTAMP:20260422T212331
CREATED:20180423T201610Z
LAST-MODIFIED:20180423T201610Z
UID:12413-1525464000-1527460200@soulofca.org
SUMMARY:Odd Couple
DESCRIPTION:It’s Neil Simon’s hit play about two men who have become archetypes of opposing personal hygiene. After watching it one realizes it is really about much more. The wit\, insight\, and timing of Simon’s dialogue are the core of his plays.
URL:https://soulofca.org/event/odd-couple-2/
LOCATION:Colligan Theatre at Tannery Arts Center\, 1010 River St.\, Santa Cruz\, CA\, 95060\, United States
END:VEVENT
BEGIN:VEVENT
DTSTART;TZID=America/Los_Angeles:20180505T100000
DTEND;TZID=America/Los_Angeles:20180506T160000
DTSTAMP:20260422T212331
CREATED:20180416T180553Z
LAST-MODIFIED:20180416T180625Z
UID:6140-1525514400-1525622400@soulofca.org
SUMMARY:Carmel Valley Garden Show (49th Annual)
DESCRIPTION:The grandmama of all the local garden shows. Lots of dedicated gardeners and their experience will be on hand to help you decide which plants will look great and do well in your microclimate. All proceeds go to local charities.
URL:https://soulofca.org/event/carmel-valley-garden-show-49th-annual/
LOCATION:Hidden Valley Music Center\, 104 W. Carmel Valley Rd.\, Carmel\, CA\, 93924\, United States
END:VEVENT
BEGIN:VEVENT
DTSTART;TZID=America/Los_Angeles:20180505T100000
DTEND;TZID=America/Los_Angeles:20180506T160000
DTSTAMP:20260422T212331
CREATED:20180416T180553Z
LAST-MODIFIED:20180416T180553Z
UID:12392-1525514400-1525622400@soulofca.org
SUMMARY:Carmel Valley Garden Show (49th Annual)
DESCRIPTION:The grandmama of all the local garden shows. Lots of dedicated gardeners and their experience will be on hand to help you decide which plants will look great and do well in your microclimate. All proceeds go to local charities.
URL:https://soulofca.org/event/carmel-valley-garden-show-49th-annual-2/
LOCATION:Hidden Valley Music Center\, 104 W. Carmel Valley Rd.\, Carmel\, CA\, 93924\, United States
END:VEVENT
BEGIN:VEVENT
DTSTART;TZID=America/Los_Angeles:20180505T230000
DTEND;TZID=America/Los_Angeles:20180506T170000
DTSTAMP:20260422T212331
CREATED:20180430T214532Z
LAST-MODIFIED:20180430T214532Z
UID:6303-1525561200-1525626000@soulofca.org
SUMMARY:Seaside Artists Association presents Artist Studio Tour
DESCRIPTION:For two days one can stroll right into the open studios of 15 local artists.  Be sure to call the number to find addresses etc. and talk to Sandra Gray.
URL:https://soulofca.org/event/seaside-artists-association-presents-artist-studio-tour/
LOCATION:Various studios\, Seaside \, CA\, United States
END:VEVENT
BEGIN:VEVENT
DTSTART;TZID=America/Los_Angeles:20180505T230000
DTEND;TZID=America/Los_Angeles:20180506T170000
DTSTAMP:20260422T212331
CREATED:20180430T214532Z
LAST-MODIFIED:20180430T214532Z
UID:12430-1525561200-1525626000@soulofca.org
SUMMARY:Seaside Artists Association presents Artist Studio Tour
DESCRIPTION:For two days one can stroll right into the open studios of 15 local artists.  Be sure to call the number to find addresses etc. and talk to Sandra Gray.
URL:https://soulofca.org/event/seaside-artists-association-presents-artist-studio-tour-2/
LOCATION:Various studios\, Seaside \, CA\, United States
END:VEVENT
BEGIN:VEVENT
DTSTART;TZID=America/Los_Angeles:20180506T040000
DTEND;TZID=America/Los_Angeles:20180506T183000
DTSTAMP:20260422T212331
CREATED:20180430T180145Z
LAST-MODIFIED:20180430T180145Z
UID:6274-1525579200-1525631400@soulofca.org
SUMMARY:To Leonard with Love
DESCRIPTION:The Leonard of the title is Leonard Cohen. The love thay share with him is lovely renditions of his songbook. For years the duo of Smitty and Julija (YOO-lee_YA) have been singing and playing his music and would like to continue the love with you.
URL:https://soulofca.org/event/to-leonard-with-love/
LOCATION:The Lab\, 3728 Barnyard Suite G-23\, Carmel\, CA\, 93923\, United States
END:VEVENT
BEGIN:VEVENT
DTSTART;TZID=America/Los_Angeles:20180506T040000
DTEND;TZID=America/Los_Angeles:20180506T183000
DTSTAMP:20260422T212331
CREATED:20180430T180145Z
LAST-MODIFIED:20180430T180145Z
UID:12421-1525579200-1525631400@soulofca.org
SUMMARY:To Leonard with Love
DESCRIPTION:The Leonard of the title is Leonard Cohen. The love thay share with him is lovely renditions of his songbook. For years the duo of Smitty and Julija (YOO-lee_YA) have been singing and playing his music and would like to continue the love with you.
URL:https://soulofca.org/event/to-leonard-with-love-2/
LOCATION:The Lab\, 3728 Barnyard Suite G-23\, Carmel\, CA\, 93923\, United States
END:VEVENT
BEGIN:VEVENT
DTSTART;TZID=America/Los_Angeles:20180506T070000
DTEND;TZID=America/Los_Angeles:20180506T140000
DTSTAMP:20260422T212331
CREATED:20180416T181819Z
LAST-MODIFIED:20180416T181819Z
UID:6149-1525590000-1525615200@soulofca.org
SUMMARY:Take it Outside? Vamos Afuera
DESCRIPTION:Just like your mother once urged you\, “Take it outside”. She knew what kids and their families needed. Take yourself and loved ones to Natividad Park in Salinas and have some fun. Many activities for kids and their folks will be available.
URL:https://soulofca.org/event/take-outside-vamos-afuera/
LOCATION:Natividad Creek Park\, 1395 Nogal Dr. \, Salinas \, CA\, 93905\, United States
END:VEVENT
BEGIN:VEVENT
DTSTART;TZID=America/Los_Angeles:20180506T070000
DTEND;TZID=America/Los_Angeles:20180506T140000
DTSTAMP:20260422T212331
CREATED:20180416T181819Z
LAST-MODIFIED:20180416T181819Z
UID:12395-1525590000-1525615200@soulofca.org
SUMMARY:Take it Outside? Vamos Afuera
DESCRIPTION:Just like your mother once urged you\, “Take it outside”. She knew what kids and their families needed. Take yourself and loved ones to Natividad Park in Salinas and have some fun. Many activities for kids and their folks will be available.
URL:https://soulofca.org/event/take-outside-vamos-afuera-2/
LOCATION:Natividad Creek Park\, 1395 Nogal Dr. \, Salinas \, CA\, 93905\, United States
END:VEVENT
BEGIN:VEVENT
DTSTART;TZID=America/Los_Angeles:20180506T090000
DTEND;TZID=America/Los_Angeles:20180506T120000
DTSTAMP:20260422T212331
CREATED:20180409T172250Z
LAST-MODIFIED:20180409T172250Z
UID:5983-1525597200-1525608000@soulofca.org
SUMMARY:Wag n' Walk
DESCRIPTION:A walk-a-thon for people and their pets benefiting the SPCA of Monterey County. Dress up your beast and yourself and come out to see and be seen. It’s a fun day for everyone\, even the people just passing by.
URL:https://soulofca.org/event/wag-n-walk/
LOCATION:Healthy Living for the Mind and Body\, 21 Lower Ragsdale\, Monterey\, CA\, 93940\, United States
END:VEVENT
BEGIN:VEVENT
DTSTART;TZID=America/Los_Angeles:20180506T090000
DTEND;TZID=America/Los_Angeles:20180506T120000
DTSTAMP:20260422T212331
CREATED:20180409T172250Z
LAST-MODIFIED:20180409T172250Z
UID:12345-1525597200-1525608000@soulofca.org
SUMMARY:Wag n' Walk
DESCRIPTION:A walk-a-thon for people and their pets benefiting the SPCA of Monterey County. Dress up your beast and yourself and come out to see and be seen. It’s a fun day for everyone\, even the people just passing by.
URL:https://soulofca.org/event/wag-n-walk-2/
LOCATION:Healthy Living for the Mind and Body\, 21 Lower Ragsdale\, Monterey\, CA\, 93940\, United States
END:VEVENT
BEGIN:VEVENT
DTSTART;TZID=America/Los_Angeles:20180506T150000
DTEND;TZID=America/Los_Angeles:20180506T170000
DTSTAMP:20260422T212331
CREATED:20180430T215157Z
LAST-MODIFIED:20180430T215157Z
UID:6307-1525618800-1525626000@soulofca.org
SUMMARY:New World String Project
DESCRIPTION:Several players and their instruments have come to delight us with their virtuosity. There are many instruments the names of which most of us have never seen before. This promises to be an interesting and enlightening afternoon.
URL:https://soulofca.org/event/new-world-string-project/
LOCATION:St. Mary’s By The Sea Episcopal Church\, Central and Twelfth\, Pacific Grove \, CA\, 93950\, United States
END:VEVENT
BEGIN:VEVENT
DTSTART;TZID=America/Los_Angeles:20180506T150000
DTEND;TZID=America/Los_Angeles:20180506T170000
DTSTAMP:20260422T212331
CREATED:20180430T215157Z
LAST-MODIFIED:20180430T215157Z
UID:12431-1525618800-1525626000@soulofca.org
SUMMARY:New World String Project
DESCRIPTION:Several players and their instruments have come to delight us with their virtuosity. There are many instruments the names of which most of us have never seen before. This promises to be an interesting and enlightening afternoon.
URL:https://soulofca.org/event/new-world-string-project-2/
LOCATION:St. Mary’s By The Sea Episcopal Church\, Central and Twelfth\, Pacific Grove \, CA\, 93950\, United States
END:VEVENT
BEGIN:VEVENT
DTSTART;TZID=America/Los_Angeles:20180508T190000
DTEND;TZID=America/Los_Angeles:20180508T210000
DTSTAMP:20260422T212331
CREATED:20180507T182044Z
LAST-MODIFIED:20180507T182044Z
UID:6330-1525806000-1525813200@soulofca.org
SUMMARY:Wine Bingo
DESCRIPTION:Like the game you loved as a child\, or that your great aunt spends do much time at\, this has cards. However\, they have wine terms and you get to drink wine\,maybe win some. Sounds good now doesn’t it?
URL:https://soulofca.org/event/wine-bingo/
LOCATION:Sovino’s Wine bar and Merchant\, 241 Alvarado St.\, Monterey\, CA\, 93940\, United States
END:VEVENT
BEGIN:VEVENT
DTSTART;TZID=America/Los_Angeles:20180508T190000
DTEND;TZID=America/Los_Angeles:20180508T210000
DTSTAMP:20260422T212331
CREATED:20180507T182044Z
LAST-MODIFIED:20180507T182044Z
UID:12434-1525806000-1525813200@soulofca.org
SUMMARY:Wine Bingo
DESCRIPTION:Like the game you loved as a child\, or that your great aunt spends do much time at\, this has cards. However\, they have wine terms and you get to drink wine\,maybe win some. Sounds good now doesn’t it?
URL:https://soulofca.org/event/wine-bingo-4/
LOCATION:Sovino’s Wine bar and Merchant\, 241 Alvarado St.\, Monterey\, CA\, 93940\, United States
END:VEVENT
BEGIN:VEVENT
DTSTART;TZID=America/Los_Angeles:20180508T193000
DTEND;TZID=America/Los_Angeles:20180508T203000
DTSTAMP:20260422T212331
CREATED:20180507T203347Z
LAST-MODIFIED:20180507T203347Z
UID:6391-1525807800-1525811400@soulofca.org
SUMMARY:Timeless Shapes (Views of Land and Sea)
DESCRIPTION:Here on the peninsula there is no end of beautiful\, inspiring views. Lots of us want to learn about the relationship between the beauty and the science behind those views. Here’s your chance.
URL:https://soulofca.org/event/timeless-shapes-views-land-sea/
LOCATION:Hopkins Marine Station\, 120 Ocean View Blvd.\, Pacific Grove\, CA\, 93953\, United States
END:VEVENT
BEGIN:VEVENT
DTSTART;TZID=America/Los_Angeles:20180508T193000
DTEND;TZID=America/Los_Angeles:20180508T203000
DTSTAMP:20260422T212331
CREATED:20180507T203347Z
LAST-MODIFIED:20180507T203347Z
UID:12447-1525807800-1525811400@soulofca.org
SUMMARY:Timeless Shapes (Views of Land and Sea)
DESCRIPTION:Here on the peninsula there is no end of beautiful\, inspiring views. Lots of us want to learn about the relationship between the beauty and the science behind those views. Here’s your chance.
URL:https://soulofca.org/event/timeless-shapes-views-land-sea-2/
LOCATION:Hopkins Marine Station\, 120 Ocean View Blvd.\, Pacific Grove\, CA\, 93953\, United States
END:VEVENT
BEGIN:VEVENT
DTSTART;TZID=America/Los_Angeles:20180509T100000
DTEND;TZID=America/Los_Angeles:20180509T110000
DTSTAMP:20260422T212331
CREATED:20180507T181733Z
LAST-MODIFIED:20180507T181733Z
UID:6328-1525860000-1525863600@soulofca.org
SUMMARY:Asilomar Birds and their Nests
DESCRIPTION:When you finally decide that you are tired of just calling them birds and you would like to learn their names\, this is where you start. \nCome to Asilomar and have a naturalist take you round and show you their habitat and tell you some names. Don’t worry there’s no test.
URL:https://soulofca.org/event/asilomar-birds-nests/
LOCATION:Asilomar Conference Center\, 800 Asilomar Ave.\, Pacific Grove\, CA\, 93950\, United States
END:VEVENT
BEGIN:VEVENT
DTSTART;TZID=America/Los_Angeles:20180509T100000
DTEND;TZID=America/Los_Angeles:20180509T110000
DTSTAMP:20260422T212331
CREATED:20180507T181733Z
LAST-MODIFIED:20180507T181733Z
UID:12433-1525860000-1525863600@soulofca.org
SUMMARY:Asilomar Birds and their Nests
DESCRIPTION:When you finally decide that you are tired of just calling them birds and you would like to learn their names\, this is where you start. \nCome to Asilomar and have a naturalist take you round and show you their habitat and tell you some names. Don’t worry there’s no test.
URL:https://soulofca.org/event/asilomar-birds-nests-2/
LOCATION:Asilomar Conference Center\, 800 Asilomar Ave.\, Pacific Grove\, CA\, 93950\, United States
END:VEVENT
BEGIN:VEVENT
DTSTART;TZID=America/Los_Angeles:20180509T180000
DTEND;TZID=America/Los_Angeles:20180509T193000
DTSTAMP:20260422T212331
CREATED:20180305T200046Z
LAST-MODIFIED:20180305T200046Z
UID:5716-1525888800-1525894200@soulofca.org
SUMMARY:World View Lecture (Life in the Nuclear Age)
DESCRIPTION:For the past three months MIIS has provided lectures on important issues of our time. This\, the final one\, is on our life in this era of possible nuclear proliferation.
URL:https://soulofca.org/event/world-view-lecture-life-nuclear-age/
LOCATION:Middlebury Institute of International  Studies\, 442 1/2 Van Buren St. (Holland Courtyard)\, Monterey\, CA\, 93940\, United States
END:VEVENT
BEGIN:VEVENT
DTSTART;TZID=America/Los_Angeles:20180509T180000
DTEND;TZID=America/Los_Angeles:20180509T193000
DTSTAMP:20260422T212331
CREATED:20180305T200046Z
LAST-MODIFIED:20180305T200046Z
UID:12276-1525888800-1525894200@soulofca.org
SUMMARY:World View Lecture (Life in the Nuclear Age)
DESCRIPTION:For the past three months MIIS has provided lectures on important issues of our time. This\, the final one\, is on our life in this era of possible nuclear proliferation.
URL:https://soulofca.org/event/world-view-lecture-life-nuclear-age-2/
LOCATION:Middlebury Institute of International  Studies\, 442 1/2 Van Buren St. (Holland Courtyard)\, Monterey\, CA\, 93940\, United States
END:VEVENT
BEGIN:VEVENT
DTSTART;TZID=America/Los_Angeles:20180510T180000
DTEND;TZID=America/Los_Angeles:20180510T200000
DTSTAMP:20260422T212331
CREATED:20180416T170607Z
LAST-MODIFIED:20180416T170607Z
UID:6107-1525975200-1525982400@soulofca.org
SUMMARY:Baby Bump Painting
DESCRIPTION:do you know someone with a baby bump? Does she need it to be decorated? Why not? Come see the possibilities at the mall. The artists of Hijos del Sol will be on hand to lend an artistic flair.  In the Grand Court (near Starbucks).
URL:https://soulofca.org/event/baby-bump-painting/
LOCATION:Northridge Mall\, N. Main St.\, Salinas\, CA\, 93906\, United States
END:VEVENT
BEGIN:VEVENT
DTSTART;TZID=America/Los_Angeles:20180510T180000
DTEND;TZID=America/Los_Angeles:20180510T200000
DTSTAMP:20260422T212331
CREATED:20180416T170607Z
LAST-MODIFIED:20180416T170607Z
UID:12381-1525975200-1525982400@soulofca.org
SUMMARY:Baby Bump Painting
DESCRIPTION:do you know someone with a baby bump? Does she need it to be decorated? Why not? Come see the possibilities at the mall. The artists of Hijos del Sol will be on hand to lend an artistic flair.  In the Grand Court (near Starbucks).
URL:https://soulofca.org/event/baby-bump-painting-3/
LOCATION:Northridge Mall\, N. Main St.\, Salinas\, CA\, 93906\, United States
END:VEVENT
END:VCALENDAR