BEGIN:VCALENDAR
VERSION:2.0
PRODID:-//Soul of CA - ECPv6.15.17//NONSGML v1.0//EN
CALSCALE:GREGORIAN
METHOD:PUBLISH
X-ORIGINAL-URL:https://soulofca.org
X-WR-CALDESC:Events for Soul of CA
REFRESH-INTERVAL;VALUE=DURATION:PT1H
X-Robots-Tag:noindex
X-PUBLISHED-TTL:PT1H
BEGIN:VTIMEZONE
TZID:America/Los_Angeles
BEGIN:DAYLIGHT
TZOFFSETFROM:-0800
TZOFFSETTO:-0700
TZNAME:PDT
DTSTART:20240310T100000
END:DAYLIGHT
BEGIN:STANDARD
TZOFFSETFROM:-0700
TZOFFSETTO:-0800
TZNAME:PST
DTSTART:20241103T090000
END:STANDARD
BEGIN:DAYLIGHT
TZOFFSETFROM:-0800
TZOFFSETTO:-0700
TZNAME:PDT
DTSTART:20250309T100000
END:DAYLIGHT
BEGIN:STANDARD
TZOFFSETFROM:-0700
TZOFFSETTO:-0800
TZNAME:PST
DTSTART:20251102T090000
END:STANDARD
BEGIN:DAYLIGHT
TZOFFSETFROM:-0800
TZOFFSETTO:-0700
TZNAME:PDT
DTSTART:20260308T100000
END:DAYLIGHT
BEGIN:STANDARD
TZOFFSETFROM:-0700
TZOFFSETTO:-0800
TZNAME:PST
DTSTART:20261101T090000
END:STANDARD
END:VTIMEZONE
BEGIN:VEVENT
DTSTART;VALUE=DATE:20250926
DTEND;VALUE=DATE:20250929
DTSTAMP:20260422T150022
CREATED:20250113T193700Z
LAST-MODIFIED:20250113T193700Z
UID:20435-1758844800-1759103999@soulofca.org
SUMMARY:Grid Life Laguna
DESCRIPTION:The music and motor fest is back.. They are having fun with good music and fast driving. In addition there will be demonstrations of drifting\, for those of us unfamiliar with the process. Sound like fun? Check out https://www.countyofmonterey.gov for the rest of the important info.
URL:https://soulofca.org/event/grid-life-laguna/
LOCATION:Weather Tech Laguna Seca Raceway\, 1021 Monterey Salinas Highway\, Salinas\, CA\, United States
END:VEVENT
BEGIN:VEVENT
DTSTART;VALUE=DATE:20250926
DTEND;VALUE=DATE:20250929
DTSTAMP:20260422T150022
CREATED:20250124T204010Z
LAST-MODIFIED:20250124T204010Z
UID:20706-1758844800-1759103999@soulofca.org
SUMMARY:Monterey Jazz Festival
DESCRIPTION:In spite of many efforts\, this is the main reason most folks have heard about Monterey. That’s a very good reason though. It’s been happening for 66 years now and going as strong as ever. The lineups consistently have great. well known\, and lesser known performers all performing in the lovely setting of the Fairgrounds. Hard to beat\, especially when the weather is cooperating.  To get all the info go to their website https://www.montereyjazzfestival.org
URL:https://soulofca.org/event/monterey-jazz-festival-5/
LOCATION:Monterey County Fair and Event Center\, 2004 Fairground Rd\,\, Monterey Road\, 93940\, United States
END:VEVENT
BEGIN:VEVENT
DTSTART;VALUE=DATE:20250926
DTEND;VALUE=DATE:20250929
DTSTAMP:20260422T150022
CREATED:20250702T200040Z
LAST-MODIFIED:20250702T200040Z
UID:22190-1758844800-1759103999@soulofca.org
SUMMARY:Grid Life Laguna Seca
DESCRIPTION:It’s a combination of racing\, music\, lifestyle\, and much more. Grid Life seems to be a celebration of all things related to auto racing. There will be a concert\, lots of fun activities and racing. More details are available at https://www.gridlifelaguna.com
URL:https://soulofca.org/event/grid-life-laguna-seca/
LOCATION:Weather Tech Laguna Seca Raceway\, 1021 Monterey Salinas Highway\, Salinas\, CA\, United States
END:VEVENT
BEGIN:VEVENT
DTSTART;TZID=America/Los_Angeles:20250926T190000
DTEND;TZID=America/Los_Angeles:20250928T170000
DTSTAMP:20260422T150022
CREATED:20250924T194054Z
LAST-MODIFIED:20250924T194054Z
UID:23198-1758913200-1759078800@soulofca.org
SUMMARY:Espiritu de Mexico
DESCRIPTION:The Ballet Folklorico de Santa Cruz is presenting their 45th anniversary show. Be prepared for sophisticated dancing and music and glorious costumes. Check out the website for details and tickets https://www.elteatrocampesino.com
URL:https://soulofca.org/event/espiritu-de-mexico/
LOCATION:El Teatro Campesino\, 705 Fourth St.\, San Juan Bautista\, CA\, United States
END:VEVENT
BEGIN:VEVENT
DTSTART;TZID=America/Los_Angeles:20250928T080000
DTEND;TZID=America/Los_Angeles:20250928T120000
DTSTAMP:20260422T150022
CREATED:20250730T214321Z
LAST-MODIFIED:20250730T214321Z
UID:22658-1759046400-1759060800@soulofca.org
SUMMARY:Farmers Market Del Monte Mall
DESCRIPTION:They say that our best weather is in October. Maybe it is\, but it marks the end of the season for several markets. Although the number of markets is shrinking the quality of the produce is consistent and the people who sell and grow are the best. Come out and find out for yourself. There are still many markets throughout the area.  If you can’t find your favorite go to https://www.montereycfb.com for another site or day.
URL:https://soulofca.org/event/farmers-market-del-monte-mall-35/
LOCATION:Del Monte Shopping Center\, Munras Ave.\, Monterey\, CA\, 93940\, United States
END:VEVENT
BEGIN:VEVENT
DTSTART;TZID=America/Los_Angeles:20250928T090000
DTEND;TZID=America/Los_Angeles:20250928T130000
DTSTAMP:20260422T150022
CREATED:20250730T214435Z
LAST-MODIFIED:20250730T214435Z
UID:22660-1759050000-1759064400@soulofca.org
SUMMARY:Farmers Market Live Oak
DESCRIPTION:They say that our best weather is in October. Maybe it is\, but it marks the end of the season for several markets. Although the number of markets is shrinking the quality of the produce is consistent and the people who sell and grow are the best. Come out and find out for yourself. There are still many markets throughout the area.  If you can’t find your favorite go to https://www.montereycfb.com for another site or day.
URL:https://soulofca.org/event/farmers-market-live-oak-17/
LOCATION:Mission St & Western\, Santa Cruz\, CA\, United States
END:VEVENT
BEGIN:VEVENT
DTSTART;TZID=America/Los_Angeles:20250928T100000
DTEND;TZID=America/Los_Angeles:20250928T140000
DTSTAMP:20260422T150022
CREATED:20250730T214104Z
LAST-MODIFIED:20250730T214104Z
UID:22654-1759053600-1759068000@soulofca.org
SUMMARY:Farmers Market Marina
DESCRIPTION:They say that our best weather is in October. Maybe it is\, but it marks the end of the season for several markets. Although the number of markets is shrinking the quality of the produce is consistent and the people who sell and grow are the best. Come out and find out for yourself. There are still many markets throughout the area.  If you can’t find your favorite go to https://www.montereycfb.com for another site or day.
URL:https://soulofca.org/event/farmers-market-marina-20/
LOCATION:Marina Village Shopping Center\, Marina
END:VEVENT
BEGIN:VEVENT
DTSTART;TZID=America/Los_Angeles:20250928T100000
DTEND;TZID=America/Los_Angeles:20250928T140000
DTSTAMP:20260422T150022
CREATED:20250730T214206Z
LAST-MODIFIED:20250730T214206Z
UID:22656-1759053600-1759068000@soulofca.org
SUMMARY:Farmers Market Carmel Valley
DESCRIPTION:They say that our best weather is in October. Maybe it is\, but it marks the end of the season for several markets. Although the number of markets is shrinking the quality of the produce is consistent and the people who sell and grow are the best. Come out and find out for yourself. There are still many markets throughout the area.  If you can’t find your favorite go to https://www.montereycfb.com for another site or day.
URL:https://soulofca.org/event/farmers-market-carmel-valley-18/
LOCATION:Carmel Valley Community Center\, 25 Ford Rd.\, Carmel Valley\, CA\, 93924\, United States
END:VEVENT
BEGIN:VEVENT
DTSTART;TZID=America/Los_Angeles:20250928T110000
DTEND;TZID=America/Los_Angeles:20250928T160000
DTSTAMP:20260422T150022
CREATED:20250825T171817Z
LAST-MODIFIED:20250825T171817Z
UID:22919-1759057200-1759075200@soulofca.org
SUMMARY:Oaxaca By The Sea
DESCRIPTION:No\, the Mexican state has not moved northward. It’s a celebration of the Sister City of our local burg\, Seaside.  There will be many of the indigenous dances\, music\, foods\, and cultural artifacts to see and enjoy. They have been at this for five years now and you can benefit from their experience by coming by and enjoying some really southern hospitality.
URL:https://soulofca.org/event/oaxaca-by-the-sea-2/
LOCATION:Seaside City Hall\, 440 Harcourt Ave\, Seaside\, CA\, United States
END:VEVENT
BEGIN:VEVENT
DTSTART;TZID=America/Los_Angeles:20250929T150000
DTEND;TZID=America/Los_Angeles:20250929T180000
DTSTAMP:20260422T150022
CREATED:20250806T214940Z
LAST-MODIFIED:20250806T214940Z
UID:22692-1759158000-1759168800@soulofca.org
SUMMARY:Farmers Market Pacific Grove
DESCRIPTION:We have reached the end of September and it is officially Fall. The produce of summer is waning and the wonderful things which mature in the Fall are rolling in. Some of the markets are closing so be sure to check (at https://www.Montereycfb.com ).  In spite of this there are still lots of really good things to eat and prepared food to sample. In addition \, you are supporting our local farmers and businesses.
URL:https://soulofca.org/event/farmers-market-pacific-grove-21/
LOCATION:Downtown Pacific Grove\, Lighthouse Avenue\, Pacific Grove \, CA\, 93950\, United States
END:VEVENT
BEGIN:VEVENT
DTSTART;TZID=America/Los_Angeles:20250930T110000
DTEND;TZID=America/Los_Angeles:20250930T160000
DTSTAMP:20260422T150022
CREATED:20250806T215318Z
LAST-MODIFIED:20250806T215318Z
UID:22696-1759230000-1759248000@soulofca.org
SUMMARY:Farmers Market E. Alisal
DESCRIPTION:We have reached the end of September and it is officially Fall. The produce of summer is waning and the wonderful things which mature in the Fall are rolling in. Some of the markets are closing so be sure to check (at https://www.Montereycfb.com ).  In spite of this there are still lots of really good things to eat and prepared food to sample. In addition \, you are supporting our local farmers and businesses.
URL:https://soulofca.org/event/farmers-market-e-alisal-19/
LOCATION:WIC Office\, 632 E. Alisal St.\, Salinas\, CA\, United States
END:VEVENT
BEGIN:VEVENT
DTSTART;TZID=America/Los_Angeles:20250930T160000
DTEND;TZID=America/Los_Angeles:20250930T173000
DTSTAMP:20260422T150022
CREATED:20250827T161304Z
LAST-MODIFIED:20250827T161304Z
UID:22983-1759248000-1759253400@soulofca.org
SUMMARY:Waves of Change
DESCRIPTION:Get to know more about the ways in which the history of our community and yours can be part of the current story and how history and culture can reach into the future of a community and its economy. Given the rich history of Monterey County this isn’t to hard to visualize. You can meet others who have a similar interest.
URL:https://soulofca.org/event/waves-of-change/
LOCATION:Monterey Conference Center\, 1 Portola Plaza\, Monterey\, CA\, 93940\, United States
END:VEVENT
BEGIN:VEVENT
DTSTART;TZID=America/Los_Angeles:20250930T160000
DTEND;TZID=America/Los_Angeles:20250930T190000
DTSTAMP:20260422T150022
CREATED:20250806T215128Z
LAST-MODIFIED:20250806T215128Z
UID:22694-1759248000-1759258800@soulofca.org
SUMMARY:Farmers Market Monterey
DESCRIPTION:We have reached the end of September and it is officially Fall. The produce of summer is waning and the wonderful things which mature in the Fall are rolling in. Some of the markets are closing so be sure to check (at https://www.Montereycfb.com ).  In spite of this there are still lots of really good things to eat and prepared food to sample. In addition \, you are supporting our local farmers and businesses.
URL:https://soulofca.org/event/farmers-market-monterey-19/
LOCATION:Downtown Monterey\, Monterey\, CA\, United States
END:VEVENT
BEGIN:VEVENT
DTSTART;TZID=America/Los_Angeles:20251001T110000
DTEND;TZID=America/Los_Angeles:20251001T153000
DTSTAMP:20260422T150022
CREATED:20250806T215551Z
LAST-MODIFIED:20250806T215551Z
UID:22698-1759316400-1759332600@soulofca.org
SUMMARY:Farmers Market Natividad Hospital
DESCRIPTION:We have reached the end of September and it is officially Fall. The produce of summer is waning and the wonderful things which mature in the Fall are rolling in. Some of the markets are closing so be sure to check (at https://www.Montereycfb.com ).  In spite of this there are still lots of really good things to eat and prepared food to sample. In addition \, you are supporting our local farmers and businesses.
URL:https://soulofca.org/event/farmers-market-natividad-hospital-18/
LOCATION:Natividad Hospital\, E. Laurel Dr.\, Salinas\, United States
END:VEVENT
BEGIN:VEVENT
DTSTART;TZID=America/Los_Angeles:20251001T130000
DTEND;TZID=America/Los_Angeles:20251001T170000
DTSTAMP:20260422T150022
CREATED:20250806T215949Z
LAST-MODIFIED:20250806T215949Z
UID:22704-1759323600-1759338000@soulofca.org
SUMMARY:Farmers Market  Santa Cruz (downtown)
DESCRIPTION:We have reached the end of September and it is officially Fall. The produce of summer is waning and the wonderful things which mature in the Fall are rolling in. Some of the markets are closing so be sure to check (at https://www.Montereycfb.com ).  In spite of this there are still lots of really good things to eat and prepared food to sample. In addition \, you are supporting our local farmers and businesses.
URL:https://soulofca.org/event/farmers-market-santa-cruz-downtown-15/
LOCATION:Cedar & Lincoln Sts.\, Santa Cruz\, CA\, United States
END:VEVENT
BEGIN:VEVENT
DTSTART;TZID=America/Los_Angeles:20251001T150000
DTEND;TZID=America/Los_Angeles:20251001T190000
DTSTAMP:20260422T150022
CREATED:20250806T215822Z
LAST-MODIFIED:20250806T215822Z
UID:22702-1759330800-1759345200@soulofca.org
SUMMARY:Farmers Market Hollister
DESCRIPTION:We have reached the end of September and it is officially Fall. The produce of summer is waning and the wonderful things which mature in the Fall are rolling in. Some of the markets are closing so be sure to check (at https://www.Montereycfb.com ).  In spite of this there are still lots of really good things to eat and prepared food to sample. In addition \, you are supporting our local farmers and businesses.
URL:https://soulofca.org/event/farmers-market-hollister-18/
LOCATION:Downtown Hollister\, Hollister\, CA\, United States
END:VEVENT
BEGIN:VEVENT
DTSTART;TZID=America/Los_Angeles:20251001T160000
DTEND;TZID=America/Los_Angeles:20251001T190000
DTSTAMP:20260422T150022
CREATED:20250806T215659Z
LAST-MODIFIED:20250806T215659Z
UID:22700-1759334400-1759345200@soulofca.org
SUMMARY:Farmers Market King City
DESCRIPTION:We have reached the end of September and it is officially Fall. The produce of summer is waning and the wonderful things which mature in the Fall are rolling in. Some of the markets are closing so be sure to check (at https://www.Montereycfb.com ).  In spite of this there are still lots of really good things to eat and prepared food to sample. In addition \, you are supporting our local farmers and businesses.
URL:https://soulofca.org/event/farmers-market-king-city-18/
LOCATION:CA
END:VEVENT
BEGIN:VEVENT
DTSTART;TZID=America/Los_Angeles:20251002T100000
DTEND;TZID=America/Los_Angeles:20251002T140000
DTSTAMP:20260422T150022
CREATED:20250806T220120Z
LAST-MODIFIED:20250806T220120Z
UID:22706-1759399200-1759413600@soulofca.org
SUMMARY:Farmers Market Carmel BTS
DESCRIPTION:We have reached the end of September and it is officially Fall. The produce of summer is waning and the wonderful things which mature in the Fall are rolling in. Some of the markets are closing so be sure to check (at https://www.Montereycfb.com ).  In spite of this there are still lots of really good things to eat and prepared food to sample. In addition \, you are supporting our local farmers and businesses.
URL:https://soulofca.org/event/farmers-market-carmel-bts-22/
LOCATION:Carmel BTS\, Carmel
END:VEVENT
BEGIN:VEVENT
DTSTART;TZID=America/Los_Angeles:20251002T113000
DTEND;TZID=America/Los_Angeles:20251002T133000
DTSTAMP:20260422T150022
CREATED:20250813T183155Z
LAST-MODIFIED:20250813T183155Z
UID:22758-1759404600-1759411800@soulofca.org
SUMMARY:Impower Women Fall Luncheon
DESCRIPTION:This is lunching with a purpose. The speaker will be Ashley Chesney\, sharing her personal journey and the emcee will be Dina Ruiz. The non-profit benefiting from this day’s gathering will be Seneca Services. This group provides essential services to many children in our area who are part of the foster care system. More details are available at https://www.impowerwomen.org
URL:https://soulofca.org/event/impower-women-fall-luncheon/
LOCATION:The Club at Pasaders\, 100 Pasadera Dr.\, Monterey\, CA\, 93940\, United States
END:VEVENT
BEGIN:VEVENT
DTSTART;TZID=America/Los_Angeles:20251002T120000
DTEND;TZID=America/Los_Angeles:20251005T220000
DTSTAMP:20260422T150022
CREATED:20250618T182837Z
LAST-MODIFIED:20250618T182837Z
UID:22050-1759406400-1759701600@soulofca.org
SUMMARY:Carmel International Film Festival
DESCRIPTION:Of course\, you can go to other film fests but you’d have to travel and spend lots of money on hotels etc. So why not come to a local one? There will be films\, the artists\, and minima; paparazzi. Check out their website and see why you will want to be there. Go to https://www.ciffest.com
URL:https://soulofca.org/event/carmel-international-film-festival/
LOCATION:Carmel BTS\, Carmel
END:VEVENT
BEGIN:VEVENT
DTSTART;TZID=America/Los_Angeles:20251002T140000
DTEND;TZID=America/Los_Angeles:20251002T180000
DTSTAMP:20260422T150022
CREATED:20250806T220356Z
LAST-MODIFIED:20250806T220356Z
UID:22710-1759413600-1759428000@soulofca.org
SUMMARY:Farmers Market CSU Monterey Bay
DESCRIPTION:We have reached the end of September and it is officially Fall. The produce of summer is waning and the wonderful things which mature in the Fall are rolling in. Some of the markets are closing so be sure to check (at https://www.Montereycfb.com ).  In spite of this there are still lots of really good things to eat and prepared food to sample. In addition \, you are supporting our local farmers and businesses.
URL:https://soulofca.org/event/farmers-market-csu-monterey-bay-22/
LOCATION:CSUMB University Center\, 4314 6th St.\, Marina\, CA\, United States
END:VEVENT
BEGIN:VEVENT
DTSTART;TZID=America/Los_Angeles:20251002T150000
DTEND;TZID=America/Los_Angeles:20251002T190000
DTSTAMP:20260422T150022
CREATED:20250806T220628Z
LAST-MODIFIED:20250806T220628Z
UID:22712-1759417200-1759431600@soulofca.org
SUMMARY:Farmers Market  Seaside
DESCRIPTION:We have reached the end of September and it is officially Fall. The produce of summer is waning and the wonderful things which mature in the Fall are rolling in. Some of the markets are closing so be sure to check (at https://www.Montereycfb.com ).  In spite of this there are still lots of really good things to eat and prepared food to sample. In addition \, you are supporting our local farmers and businesses.
URL:https://soulofca.org/event/farmers-market-seaside-18/
LOCATION:Laguna Grande Park\, Canyon Del Rey Blvd.\, Seaside\, CA\, United States
END:VEVENT
BEGIN:VEVENT
DTSTART;TZID=America/Los_Angeles:20251002T160000
DTEND;TZID=America/Los_Angeles:20251002T200000
DTSTAMP:20260422T150022
CREATED:20250806T220239Z
LAST-MODIFIED:20250806T220239Z
UID:22708-1759420800-1759435200@soulofca.org
SUMMARY:Farmers Market Soledad
DESCRIPTION:We have reached the end of September and it is officially Fall. The produce of summer is waning and the wonderful things which mature in the Fall are rolling in. Some of the markets are closing so be sure to check (at https://www.Montereycfb.com ).  In spite of this there are still lots of really good things to eat and prepared food to sample. In addition \, you are supporting our local farmers and businesses.
URL:https://soulofca.org/event/farmers-market-soledad-20/
LOCATION:Downtown Soledad\, Soledad\, United States
END:VEVENT
BEGIN:VEVENT
DTSTART;TZID=America/Los_Angeles:20251002T180000
DTEND;TZID=America/Los_Angeles:20251002T210000
DTSTAMP:20260422T150022
CREATED:20250113T194228Z
LAST-MODIFIED:20250113T194228Z
UID:20437-1759428000-1759438800@soulofca.org
SUMMARY:Taste of Carmel
DESCRIPTION:It’s a place known for its “taste” so why not celebrate it? You can head out to the Carmel Mission and find many wonderful wineries and restaurants there and they will be happy to share their work and tell you which goes with what. And it’s all for charity.
URL:https://soulofca.org/event/taste-of-carmel-3/
LOCATION:Carmel  Mission\, Carmel BTS\, CA\, United States
END:VEVENT
BEGIN:VEVENT
DTSTART;VALUE=DATE:20251003
DTEND;VALUE=DATE:20251004
DTSTAMP:20260422T150022
CREATED:20250917T181026Z
LAST-MODIFIED:20250917T181026Z
UID:23140-1759449600-1759535999@soulofca.org
SUMMARY:Pacific Grove at 150
DESCRIPTION:Like so many other entities in California Pacific Grove is getting WAY up there in years. This exhibit\, which runs through the beginning of 2026 celebrates the long history and interesting stories of PG. This is the opening celebration and is but one of many events which will fill us in on the wonderful stories of the city. More details are at https://www.pacificgrovelibrary.org
URL:https://soulofca.org/event/pacific-grove-at-150/
LOCATION:Pacific Grove Public Library\, 550 Central Ave. \, Pacific Grove\, CA\, 93950\, United States
END:VEVENT
BEGIN:VEVENT
DTSTART;TZID=America/Los_Angeles:20251003T110000
DTEND;TZID=America/Los_Angeles:20251005T160000
DTSTAMP:20260422T150022
CREATED:20250113T195355Z
LAST-MODIFIED:20250113T195355Z
UID:20441-1759489200-1759680000@soulofca.org
SUMMARY:California International Airshow
DESCRIPTION:It’s been roaring over the skies of the Salinas Valley for years now and shows every sign of continuing. This year it’s the first days of October and features the Blue Angels\, the Navy’s precision flyers. More info is at https://www.salinasairshow.com
URL:https://soulofca.org/event/california-international-airshow-3/
LOCATION:Salinas Airport\, Airport Drive\, Salinas\, CA\, 93905\, United States
END:VEVENT
BEGIN:VEVENT
DTSTART;TZID=America/Los_Angeles:20251003T120000
DTEND;TZID=America/Los_Angeles:20251003T170000
DTSTAMP:20260422T150022
CREATED:20250806T220754Z
LAST-MODIFIED:20250806T220754Z
UID:22714-1759492800-1759510800@soulofca.org
SUMMARY:Farmers Market Salinas Valley Memorial Hospital
DESCRIPTION:We have reached the end of September and it is officially Fall. The produce of summer is waning and the wonderful things which mature in the Fall are rolling in. Some of the markets are closing so be sure to check (at https://www.Montereycfb.com ).  In spite of this there are still lots of really good things to eat and prepared food to sample. In addition \, you are supporting our local farmers and businesses.
URL:https://soulofca.org/event/farmers-market-salinas-valley-memorial-hospital-17/
LOCATION:Salinas Valley Memorial Hospital\, Romie Lane \, Salinas \, CA\, United States
END:VEVENT
BEGIN:VEVENT
DTSTART;TZID=America/Los_Angeles:20251003T160000
DTEND;TZID=America/Los_Angeles:20251003T210000
DTSTAMP:20260422T150022
CREATED:20250806T220912Z
LAST-MODIFIED:20250806T220912Z
UID:22716-1759507200-1759525200@soulofca.org
SUMMARY:Mercado Popular Salinas Sports Complex
DESCRIPTION:We have reached the end of September and it is officially Fall. The produce of summer is waning and the wonderful things which mature in the Fall are rolling in. Some of the markets are closing so be sure to check (at https://www.Montereycfb.com ).  In spite of this there are still lots of really good things to eat and prepared food to sample. In addition \, you are supporting our local farmers and businesses.
URL:https://soulofca.org/event/mercado-popular-salinas-sports-complex-21/
LOCATION:Salinas Sports Complex\, N. Main Street\, Salinas \, CA\, United States
END:VEVENT
BEGIN:VEVENT
DTSTART;TZID=America/Los_Angeles:20251003T173000
DTEND;TZID=America/Los_Angeles:20251003T203000
DTSTAMP:20260422T150022
CREATED:20250924T195841Z
LAST-MODIFIED:20250924T195841Z
UID:23205-1759512600-1759523400@soulofca.org
SUMMARY:Taste of Markon
DESCRIPTION:For ten years this high end produce company has been sponsoring this event with the chefs-in-training at Rancho Cielo Youth Campus with the expressed purpose of exposing the young people to some of the best ingredients and techniques. You can sample their work at this event. Got to https://www.ranchocieloyc.org and get all the details and tickets.
URL:https://soulofca.org/event/taste-of-markon/
LOCATION:Rancho Cielo  Youth Campus\, 710 Old stage Road\, Salinas\, CA\, 93907\, United States
END:VEVENT
BEGIN:VEVENT
DTSTART;TZID=America/Los_Angeles:20251003T180000
DTEND;TZID=America/Los_Angeles:20251003T210000
DTSTAMP:20260422T150022
CREATED:20250917T181920Z
LAST-MODIFIED:20250917T181920Z
UID:23142-1759514400-1759525200@soulofca.org
SUMMARY:Butterfly Days
DESCRIPTION:Since the Monarch butterflies make a regular stop in Pacific Grove it seems only natural to celebrate their delicacy and beauty. So we have Butterfly Days. The whole of the community celebrates with specials in the restaurants and fun throughout the town. Come by and see what it’s all about.
URL:https://soulofca.org/event/butterfly-days-2/
LOCATION:Downtown Pacific Grove\, Lighthouse Avenue\, Pacific Grove \, CA\, 93950\, United States
END:VEVENT
END:VCALENDAR