BEGIN:VCALENDAR
VERSION:2.0
PRODID:-//Soul of CA - ECPv6.15.17//NONSGML v1.0//EN
CALSCALE:GREGORIAN
METHOD:PUBLISH
X-WR-CALNAME:Soul of CA
X-ORIGINAL-URL:https://soulofca.org
X-WR-CALDESC:Events for Soul of CA
REFRESH-INTERVAL;VALUE=DURATION:PT1H
X-Robots-Tag:noindex
X-PUBLISHED-TTL:PT1H
BEGIN:VTIMEZONE
TZID:America/Los_Angeles
BEGIN:DAYLIGHT
TZOFFSETFROM:-0800
TZOFFSETTO:-0700
TZNAME:PDT
DTSTART:20170312T100000
END:DAYLIGHT
BEGIN:STANDARD
TZOFFSETFROM:-0700
TZOFFSETTO:-0800
TZNAME:PST
DTSTART:20171105T090000
END:STANDARD
BEGIN:DAYLIGHT
TZOFFSETFROM:-0800
TZOFFSETTO:-0700
TZNAME:PDT
DTSTART:20180311T100000
END:DAYLIGHT
BEGIN:STANDARD
TZOFFSETFROM:-0700
TZOFFSETTO:-0800
TZNAME:PST
DTSTART:20181104T090000
END:STANDARD
BEGIN:DAYLIGHT
TZOFFSETFROM:-0800
TZOFFSETTO:-0700
TZNAME:PDT
DTSTART:20190310T100000
END:DAYLIGHT
BEGIN:STANDARD
TZOFFSETFROM:-0700
TZOFFSETTO:-0800
TZNAME:PST
DTSTART:20191103T090000
END:STANDARD
END:VTIMEZONE
BEGIN:VEVENT
DTSTART;TZID=America/Los_Angeles:20180315T100000
DTEND;TZID=America/Los_Angeles:20181217T170000
DTSTAMP:20260422T185326
CREATED:20180218T224527Z
LAST-MODIFIED:20180218T224527Z
UID:5584-1521108000-1545066000@soulofca.org
SUMMARY:Into the Light  California Women Painters and Photographers
DESCRIPTION:This exhibition features\, guess what\, women artists from California. The many influences that they brought to their work and the personal inspirations caused by the natural beauty of the state are brought to the viewer in these many works.  This is also a sort of grand re-opening of the Pacific Street facility after its extensive remodeling.
URL:https://soulofca.org/event/into-the-light-california-women-painters-and-photographers/
LOCATION:Monterey Museum of Art\, 559 Pacific St. \, Monterey \, CA\, 93940\, United States
END:VEVENT
BEGIN:VEVENT
DTSTART;TZID=America/Los_Angeles:20180315T100000
DTEND;TZID=America/Los_Angeles:20181217T170000
DTSTAMP:20260422T185326
CREATED:20180218T224527Z
LAST-MODIFIED:20180218T224527Z
UID:12242-1521108000-1545066000@soulofca.org
SUMMARY:Into the Light  California Women Painters and Photographers
DESCRIPTION:This exhibition features\, guess what\, women artists from California. The many influences that they brought to their work and the personal inspirations caused by the natural beauty of the state are brought to the viewer in these many works.  This is also a sort of grand re-opening of the Pacific Street facility after its extensive remodeling.
URL:https://soulofca.org/event/into-the-light-california-women-painters-and-photographers-2/
LOCATION:Monterey Museum of Art\, 559 Pacific St. \, Monterey \, CA\, 93940\, United States
END:VEVENT
BEGIN:VEVENT
DTSTART;TZID=America/Los_Angeles:20180416T130000
DTEND;TZID=America/Los_Angeles:20181231T160000
DTSTAMP:20260422T185326
CREATED:20180415T210706Z
LAST-MODIFIED:20180415T210706Z
UID:6071-1523883600-1546272000@soulofca.org
SUMMARY:Point Pinos Lighthouse Tours
DESCRIPTION:Self guided tours through the historic lighthouse at the tip of the Monterey Peninsula. Runs through the end of the year.
URL:https://soulofca.org/event/point-pinos-lighthouse-tours/
LOCATION:Point Pinos Lighthouse\, Monterey \, CA\, United States
END:VEVENT
BEGIN:VEVENT
DTSTART;TZID=America/Los_Angeles:20180416T130000
DTEND;TZID=America/Los_Angeles:20181231T160000
DTSTAMP:20260422T185326
CREATED:20180415T210706Z
LAST-MODIFIED:20180415T210706Z
UID:12375-1523883600-1546272000@soulofca.org
SUMMARY:Point Pinos Lighthouse Tours
DESCRIPTION:Self guided tours through the historic lighthouse at the tip of the Monterey Peninsula. Runs through the end of the year.
URL:https://soulofca.org/event/point-pinos-lighthouse-tours-2/
LOCATION:Point Pinos Lighthouse\, Monterey \, CA\, United States
END:VEVENT
BEGIN:VEVENT
DTSTART;TZID=America/Los_Angeles:20180608T200000
DTEND;TZID=America/Los_Angeles:20180818T220000
DTSTAMP:20260422T185326
CREATED:20180521T192247Z
LAST-MODIFIED:20180521T192247Z
UID:6517-1528488000-1534629600@soulofca.org
SUMMARY:Lick Observatory
DESCRIPTION:You know that you have always wanted to look through one of those BIG telescopes. Here’s a chance. Come look through their 35″ or 40″ scopes and see what has been challenging and enchanting astronomers for centuries.
URL:https://soulofca.org/event/lick-observatory/
LOCATION:Lick Observatory\, 7281 Mt. Hamilton Rd.\, Mt. Hamilton\, CA\, 95140\, United States
END:VEVENT
BEGIN:VEVENT
DTSTART;TZID=America/Los_Angeles:20180608T200000
DTEND;TZID=America/Los_Angeles:20180818T220000
DTSTAMP:20260422T185326
CREATED:20180521T192247Z
LAST-MODIFIED:20180521T192247Z
UID:12485-1528488000-1534629600@soulofca.org
SUMMARY:Lick Observatory
DESCRIPTION:You know that you have always wanted to look through one of those BIG telescopes. Here’s a chance. Come look through their 35″ or 40″ scopes and see what has been challenging and enchanting astronomers for centuries.
URL:https://soulofca.org/event/lick-observatory-2/
LOCATION:Lick Observatory\, 7281 Mt. Hamilton Rd.\, Mt. Hamilton\, CA\, 95140\, United States
END:VEVENT
BEGIN:VEVENT
DTSTART;TZID=America/Los_Angeles:20180625T140000
DTEND;TZID=America/Los_Angeles:20180930T160000
DTSTAMP:20260422T185326
CREATED:20180625T174044Z
LAST-MODIFIED:20180625T174044Z
UID:6821-1529935200-1538323200@soulofca.org
SUMMARY:Photo exhibit and Auction
DESCRIPTION:For the benefit of San Juan Bautista Mission\, local photos are available for viewing until September 30 and bidding will close on August 17. A lovely and helpful accompaniment to your visit to the mission and its history. mvargas@sakata.com
URL:https://soulofca.org/event/photo-exhibit-and-auction/
LOCATION:san juan bautista mission\, 406 2nd St.\, San Juan Bautista Mission\, CA\, United States
END:VEVENT
BEGIN:VEVENT
DTSTART;TZID=America/Los_Angeles:20180625T140000
DTEND;TZID=America/Los_Angeles:20180930T160000
DTSTAMP:20260422T185326
CREATED:20180625T174044Z
LAST-MODIFIED:20180625T174044Z
UID:12612-1529935200-1538323200@soulofca.org
SUMMARY:Photo exhibit and Auction
DESCRIPTION:For the benefit of San Juan Bautista Mission\, local photos are available for viewing until September 30 and bidding will close on August 17. A lovely and helpful accompaniment to your visit to the mission and its history. mvargas@sakata.com
URL:https://soulofca.org/event/photo-exhibit-and-auction-2/
LOCATION:san juan bautista mission\, 406 2nd St.\, San Juan Bautista Mission\, CA\, United States
END:VEVENT
BEGIN:VEVENT
DTSTART;TZID=America/Los_Angeles:20180709T103000
DTEND;TZID=America/Los_Angeles:20180930T143000
DTSTAMP:20260422T185326
CREATED:20180709T202452Z
LAST-MODIFIED:20180709T202452Z
UID:6998-1531132200-1538317800@soulofca.org
SUMMARY:Monterey Historical Tours  (Walking)
DESCRIPTION:Every day of the week \, except Mondays\, the Folks at the State Historical Park in Monterey send out one of their staff members to take history buffs and others on a tour of the historical sites in downtown Monterey. Don’t be fooled by the size of the area they cover\, this area is drenched in history. Tours leave the office at 10:30\, 12:30\, and the last one leaves at 2:30.  http://parks.ca.go/mshp
URL:https://soulofca.org/event/monterey-historical-tours-walking/
LOCATION:Monterey State Historical Park\, Pacific House Museum\, Monterey\, CA\, 93940\, United States
END:VEVENT
BEGIN:VEVENT
DTSTART;TZID=America/Los_Angeles:20180709T103000
DTEND;TZID=America/Los_Angeles:20180930T143000
DTSTAMP:20260422T185326
CREATED:20180709T202452Z
LAST-MODIFIED:20180709T202452Z
UID:12679-1531132200-1538317800@soulofca.org
SUMMARY:Monterey Historical Tours  (Walking)
DESCRIPTION:Every day of the week \, except Mondays\, the Folks at the State Historical Park in Monterey send out one of their staff members to take history buffs and others on a tour of the historical sites in downtown Monterey. Don’t be fooled by the size of the area they cover\, this area is drenched in history. Tours leave the office at 10:30\, 12:30\, and the last one leaves at 2:30.  http://parks.ca.go/mshp
URL:https://soulofca.org/event/monterey-historical-tours-walking-2/
LOCATION:Monterey State Historical Park\, Pacific House Museum\, Monterey\, CA\, 93940\, United States
END:VEVENT
BEGIN:VEVENT
DTSTART;TZID=America/Los_Angeles:20180710T193000
DTEND;TZID=America/Los_Angeles:20180902T170000
DTSTAMP:20260422T185326
CREATED:20180709T204533Z
LAST-MODIFIED:20180709T204533Z
UID:7002-1531251000-1535907600@soulofca.org
SUMMARY:Love's Labors Lost (Wm. Shakespeare)
DESCRIPTION:The accomplished players at Santa Cruz Shakespeare are presenting their new season and this is one of the plays. The tale of young men deciding to focus on their studies and forgo the joy of love and the complications that arise when temptation comes their way. As only the Bard of Avon could tell the story.  Check the website for days and times;  http://santacruzshakespeare.org
URL:https://soulofca.org/event/loves-labors-lost-wm-shakespeare/
LOCATION:The Grove at DeLaveaga Park\, 501 Upper Park Rd.\, Santa Cruz\, CA\, 95056\, United States
END:VEVENT
BEGIN:VEVENT
DTSTART;TZID=America/Los_Angeles:20180710T193000
DTEND;TZID=America/Los_Angeles:20180902T170000
DTSTAMP:20260422T185326
CREATED:20180709T204533Z
LAST-MODIFIED:20180709T204533Z
UID:12680-1531251000-1535907600@soulofca.org
SUMMARY:Love's Labors Lost (Wm. Shakespeare)
DESCRIPTION:The accomplished players at Santa Cruz Shakespeare are presenting their new season and this is one of the plays. The tale of young men deciding to focus on their studies and forgo the joy of love and the complications that arise when temptation comes their way. As only the Bard of Avon could tell the story.  Check the website for days and times;  http://santacruzshakespeare.org
URL:https://soulofca.org/event/loves-labors-lost-wm-shakespeare-2/
LOCATION:The Grove at DeLaveaga Park\, 501 Upper Park Rd.\, Santa Cruz\, CA\, 95056\, United States
END:VEVENT
BEGIN:VEVENT
DTSTART;TZID=America/Los_Angeles:20180714T120000
DTEND;TZID=America/Los_Angeles:20180728T223000
DTSTAMP:20260422T185326
CREATED:20180708T212954Z
LAST-MODIFIED:20180708T213050Z
UID:6976-1531569600-1532817000@soulofca.org
SUMMARY:Carmel Bach Festival
DESCRIPTION:In different venues and with groups of musicians from all over\, this annual festival celebrates the life and music of J.S. Bach.  From large orchestral pieces to more intimate individual performances this has something for every classical or baroque music lover. For two weeks\, to say nothing of the weeks of rehearsal\, the best of local musicians and choirs are involved in making this a great experience for every audience member. Under the direction of art director and principal conductor\, Paul Goodwin\, they are committed to this gifted composer and musician.  Consult the website for details\, there are too many possibilities to list here.http://carmelbachfestival.org
URL:https://soulofca.org/event/carmel-bach-festival-2/
LOCATION:CA
END:VEVENT
BEGIN:VEVENT
DTSTART;TZID=America/Los_Angeles:20180714T120000
DTEND;TZID=America/Los_Angeles:20180728T223000
DTSTAMP:20260422T185326
CREATED:20180708T212954Z
LAST-MODIFIED:20180708T212954Z
UID:12671-1531569600-1532817000@soulofca.org
SUMMARY:Carmel Bach Festival
DESCRIPTION:In different venues and with groups of musicians from all over\, this annual festival celebrates the life and music of J.S. Bach.  From large orchestral pieces to more intimate individual performances this has something for every classical or baroque music lover. For two weeks\, to say nothing of the weeks of rehearsal\, the best of local musicians and choirs are involved in making this a great experience for every audience member. Under the direction of art director and principal conductor\, Paul Goodwin\, they are committed to this gifted composer and musician.  Consult the website for details\, there are too many possibilities to list here.http://carmelbachfestival.org
URL:https://soulofca.org/event/carmel-bach-festival-2-2/
LOCATION:CA
END:VEVENT
BEGIN:VEVENT
DTSTART;TZID=America/Los_Angeles:20180719T133000
DTEND;TZID=America/Los_Angeles:20180722T180000
DTSTAMP:20260422T185326
CREATED:20171211T215527Z
LAST-MODIFIED:20171211T215527Z
UID:4969-1532007000-1532282400@soulofca.org
SUMMARY:California Rodeo
DESCRIPTION:Over one hundred years of rodeo history has happened at this site. This year will be no different. Parades\, cowboys\, special events\, fill Salinas during Big Week. If traditional western cowboy culture is your bag\, come on down and have a great time.
URL:https://soulofca.org/event/california-rodeo/
LOCATION:Salinas Rodeo Grounds\, N. Main St. \, Salinas \, CA\, 93901\, United States
END:VEVENT
BEGIN:VEVENT
DTSTART;TZID=America/Los_Angeles:20180719T133000
DTEND;TZID=America/Los_Angeles:20180722T180000
DTSTAMP:20260422T185326
CREATED:20171211T215527Z
LAST-MODIFIED:20171211T215527Z
UID:12073-1532007000-1532282400@soulofca.org
SUMMARY:California Rodeo
DESCRIPTION:Over one hundred years of rodeo history has happened at this site. This year will be no different. Parades\, cowboys\, special events\, fill Salinas during Big Week. If traditional western cowboy culture is your bag\, come on down and have a great time.
URL:https://soulofca.org/event/california-rodeo-3/
LOCATION:Salinas Rodeo Grounds\, N. Main St. \, Salinas \, CA\, 93901\, United States
END:VEVENT
BEGIN:VEVENT
DTSTART;TZID=America/Los_Angeles:20180721T080000
DTEND;TZID=America/Los_Angeles:20180728T170000
DTSTAMP:20260422T185326
CREATED:20180716T174219Z
LAST-MODIFIED:20180716T174219Z
UID:7042-1532160000-1532797200@soulofca.org
SUMMARY:Feast of Lanterns
DESCRIPTION:Despite its controversial history\, this long-time festival continues. In part an acknowledgement of the Chinese presence in the area\, and as a fun local pageant\, the Feast of Lanterns has changed over the years to include more genuine celebration of history. People in Pacific Grove go out of their way to decorate and participate in the feast.  Events take place at a variety f times and venues\, please check the website for details. http://feast-of-lanterns.org
URL:https://soulofca.org/event/feast-of-lanterns-2/
LOCATION:Downtown Pacific Grove\, Lighthouse Avenue\, Pacific Grove\, CA\, 93950\, United States
END:VEVENT
BEGIN:VEVENT
DTSTART;TZID=America/Los_Angeles:20180721T080000
DTEND;TZID=America/Los_Angeles:20180728T170000
DTSTAMP:20260422T185326
CREATED:20180716T174219Z
LAST-MODIFIED:20180716T174219Z
UID:12698-1532160000-1532797200@soulofca.org
SUMMARY:Feast of Lanterns
DESCRIPTION:Despite its controversial history\, this long-time festival continues. In part an acknowledgement of the Chinese presence in the area\, and as a fun local pageant\, the Feast of Lanterns has changed over the years to include more genuine celebration of history. People in Pacific Grove go out of their way to decorate and participate in the feast.  Events take place at a variety f times and venues\, please check the website for details. http://feast-of-lanterns.org
URL:https://soulofca.org/event/feast-of-lanterns-2-2/
LOCATION:Downtown Pacific Grove\, Lighthouse Avenue\, Pacific Grove\, CA\, 93950\, United States
END:VEVENT
BEGIN:VEVENT
DTSTART;TZID=America/Los_Angeles:20180721T190000
DTEND;TZID=America/Los_Angeles:20180722T020000
DTSTAMP:20260422T185326
CREATED:20180716T174924Z
LAST-MODIFIED:20180716T174925Z
UID:7044-1532199600-1532224800@soulofca.org
SUMMARY:Stay Wild Moon Child
DESCRIPTION:So Burning Man is too weird and too far away\, but you really want to have a taste of what it is about. Here is chance right here in Monterey. Artists performing unique acts\, artists presenting their intriguing works in light and motion\, and artists selling their unusual crafts  will all be there to give you an experience you won’t forget. If you do forget that’s because you may have indulged yourself too enthusiastically. http://facebook.com/events/285538738656788
URL:https://soulofca.org/event/stay-wild-moon-child/
LOCATION:planet gemini\, 210 Fremont St.\, Monterey\, CA\, 93940\, United States
END:VEVENT
BEGIN:VEVENT
DTSTART;TZID=America/Los_Angeles:20180721T190000
DTEND;TZID=America/Los_Angeles:20180722T020000
DTSTAMP:20260422T185326
CREATED:20180716T174924Z
LAST-MODIFIED:20180716T174924Z
UID:12699-1532199600-1532224800@soulofca.org
SUMMARY:Stay Wild Moon Child
DESCRIPTION:So Burning Man is too weird and too far away\, but you really want to have a taste of what it is about. Here is chance right here in Monterey. Artists performing unique acts\, artists presenting their intriguing works in light and motion\, and artists selling their unusual crafts  will all be there to give you an experience you won’t forget. If you do forget that’s because you may have indulged yourself too enthusiastically. http://facebook.com/events/285538738656788
URL:https://soulofca.org/event/stay-wild-moon-child-2/
LOCATION:planet gemini\, 210 Fremont St.\, Monterey\, CA\, 93940\, United States
END:VEVENT
BEGIN:VEVENT
DTSTART;TZID=America/Los_Angeles:20180722T100000
DTEND;TZID=America/Los_Angeles:20180722T150000
DTSTAMP:20260422T185326
CREATED:20180716T181610Z
LAST-MODIFIED:20180716T181610Z
UID:7047-1532253600-1532271600@soulofca.org
SUMMARY:Exotic Bird and Pet Show
DESCRIPTION:People just love to have a unique pet. For the longest time this was restricted to the privileged and the wealthy. Now\, the rest of us can find and own these interesting animals. (For better or worse.) Here they are for your viewing. Lots of expertise among the presenter/ owners will be available for the asking. If you are a viewer or potential owner come down and see all this. http://facebook.com/birdandpetexpo
URL:https://soulofca.org/event/exotic-bird-and-pet-show/
LOCATION:Monterey County Fairgrounds\, 2004 Fairground Rd.\, Monterey\, CA\, 93940\, United States
END:VEVENT
BEGIN:VEVENT
DTSTART;TZID=America/Los_Angeles:20180722T100000
DTEND;TZID=America/Los_Angeles:20180722T150000
DTSTAMP:20260422T185326
CREATED:20180716T181610Z
LAST-MODIFIED:20180716T181610Z
UID:12700-1532253600-1532271600@soulofca.org
SUMMARY:Exotic Bird and Pet Show
DESCRIPTION:People just love to have a unique pet. For the longest time this was restricted to the privileged and the wealthy. Now\, the rest of us can find and own these interesting animals. (For better or worse.) Here they are for your viewing. Lots of expertise among the presenter/ owners will be available for the asking. If you are a viewer or potential owner come down and see all this. http://facebook.com/birdandpetexpo
URL:https://soulofca.org/event/exotic-bird-and-pet-show-2/
LOCATION:Monterey County Fairgrounds\, 2004 Fairground Rd.\, Monterey\, CA\, 93940\, United States
END:VEVENT
BEGIN:VEVENT
DTSTART;TZID=America/Los_Angeles:20180722T130000
DTEND;TZID=America/Los_Angeles:20180722T163000
DTSTAMP:20260422T185326
CREATED:20180708T172814Z
LAST-MODIFIED:20180708T172814Z
UID:6952-1532264400-1532277000@soulofca.org
SUMMARY:Blues in the Park
DESCRIPTION:Again this summer the city of Seaside is presenting fine music in Laguna Grande Park\, absolutely free. Yes\, there is food and drink along with lots of sun and friendly people. Bring a blanket or a chair\, a mellow attitude and have a great afternoon. http://www.ci.seaside.ca.us  This week the music is provided by Back Together Again and the warm up act is Beaufunk. Sounds like fun!
URL:https://soulofca.org/event/blues-in-the-park-8/
LOCATION:Laguna Grande Park\, Canyon Del Rey Blvd.\, Seaside\, CA\, United States
END:VEVENT
BEGIN:VEVENT
DTSTART;TZID=America/Los_Angeles:20180722T130000
DTEND;TZID=America/Los_Angeles:20180722T163000
DTSTAMP:20260422T185326
CREATED:20180708T172814Z
LAST-MODIFIED:20180708T172814Z
UID:12661-1532264400-1532277000@soulofca.org
SUMMARY:Blues in the Park
DESCRIPTION:Again this summer the city of Seaside is presenting fine music in Laguna Grande Park\, absolutely free. Yes\, there is food and drink along with lots of sun and friendly people. Bring a blanket or a chair\, a mellow attitude and have a great afternoon. http://www.ci.seaside.ca.us  This week the music is provided by Back Together Again and the warm up act is Beaufunk. Sounds like fun!
URL:https://soulofca.org/event/blues-in-the-park-8-2/
LOCATION:Laguna Grande Park\, Canyon Del Rey Blvd.\, Seaside\, CA\, United States
END:VEVENT
BEGIN:VEVENT
DTSTART;TZID=America/Los_Angeles:20180722T133000
DTEND;TZID=America/Los_Angeles:20180722T143000
DTSTAMP:20260422T185326
CREATED:20180625T214108Z
LAST-MODIFIED:20180625T214156Z
UID:6870-1532266200-1532269800@soulofca.org
SUMMARY:Watsonville Nature Walks
DESCRIPTION:In Watsonville they take their natural world very seriously. They also like to share their love  of the land. Come over and have a look at some of the wonderful sights. Every Sunday til the end of the year. http://http.cityofwatsonville.org/
URL:https://soulofca.org/event/watsonville-nature-walks-3/
LOCATION:Watsonville Nature Center\, 30 Harkins Slough Road\, Watsonville \, CA\, United States
END:VEVENT
BEGIN:VEVENT
DTSTART;TZID=America/Los_Angeles:20180722T133000
DTEND;TZID=America/Los_Angeles:20180722T143000
DTSTAMP:20260422T185326
CREATED:20180625T214108Z
LAST-MODIFIED:20180625T214108Z
UID:12632-1532266200-1532269800@soulofca.org
SUMMARY:Watsonville Nature Walks
DESCRIPTION:In Watsonville they take their natural world very seriously. They also like to share their love  of the land. Come over and have a look at some of the wonderful sights. Every Sunday til the end of the year. http://http.cityofwatsonville.org/
URL:https://soulofca.org/event/watsonville-nature-walks-3-2/
LOCATION:Watsonville Nature Center\, 30 Harkins Slough Road\, Watsonville \, CA\, United States
END:VEVENT
BEGIN:VEVENT
DTSTART;TZID=America/Los_Angeles:20180722T160000
DTEND;TZID=America/Los_Angeles:20180722T183000
DTSTAMP:20260422T185326
CREATED:20180716T181957Z
LAST-MODIFIED:20180716T181957Z
UID:7049-1532275200-1532284200@soulofca.org
SUMMARY:Live Jazz  (East Village Coffehouse)
DESCRIPTION:Every Sunday through the rest of the year this coffehouse will be presenting live jazz music. The best of local jazz performers will be doing what they do best. Come in for a lovely late afternoon espresso and music.
URL:https://soulofca.org/event/live-jazz-east-village-coffehouse/
LOCATION:East Village Coffee Lounge\, 498 Washington St.\, Monterey\, CA\, 93940\, United States
END:VEVENT
BEGIN:VEVENT
DTSTART;TZID=America/Los_Angeles:20180722T160000
DTEND;TZID=America/Los_Angeles:20180722T183000
DTSTAMP:20260422T185326
CREATED:20180716T181957Z
LAST-MODIFIED:20180716T181957Z
UID:12701-1532275200-1532284200@soulofca.org
SUMMARY:Live Jazz  (East Village Coffehouse)
DESCRIPTION:Every Sunday through the rest of the year this coffehouse will be presenting live jazz music. The best of local jazz performers will be doing what they do best. Come in for a lovely late afternoon espresso and music.
URL:https://soulofca.org/event/live-jazz-east-village-coffehouse-2/
LOCATION:East Village Coffee Lounge\, 498 Washington St.\, Monterey\, CA\, 93940\, United States
END:VEVENT
BEGIN:VEVENT
DTSTART;TZID=America/Los_Angeles:20180723T080000
DTEND;TZID=America/Los_Angeles:20180723T080000
DTSTAMP:20260422T185326
CREATED:20180618T184336Z
LAST-MODIFIED:20180618T184358Z
UID:6774-1532332800-1532332800@soulofca.org
SUMMARY:Silhouette Era and more
DESCRIPTION:An interesting evening of bands from our area and the Bay Area. They have received some wonderful reviews and their music reflects the many influences available in S.F. and its environs.
URL:https://soulofca.org/event/silhouette-era-and-more/
LOCATION:East Village Coffee Lounge\, 498 Washington St.\, Monterey\, CA\, 93940\, United States
END:VEVENT
BEGIN:VEVENT
DTSTART;TZID=America/Los_Angeles:20180723T080000
DTEND;TZID=America/Los_Angeles:20180723T080000
DTSTAMP:20260422T185326
CREATED:20180618T184336Z
LAST-MODIFIED:20180618T184336Z
UID:12592-1532332800-1532332800@soulofca.org
SUMMARY:Silhouette Era and more
DESCRIPTION:An interesting evening of bands from our area and the Bay Area. They have received some wonderful reviews and their music reflects the many influences available in S.F. and its environs.
URL:https://soulofca.org/event/silhouette-era-and-more-2/
LOCATION:East Village Coffee Lounge\, 498 Washington St.\, Monterey\, CA\, 93940\, United States
END:VEVENT
END:VCALENDAR