BEGIN:VCALENDAR
VERSION:2.0
PRODID:-//Soul of CA - ECPv6.15.17//NONSGML v1.0//EN
CALSCALE:GREGORIAN
METHOD:PUBLISH
X-WR-CALNAME:Soul of CA
X-ORIGINAL-URL:https://soulofca.org
X-WR-CALDESC:Events for Soul of CA
REFRESH-INTERVAL;VALUE=DURATION:PT1H
X-Robots-Tag:noindex
X-PUBLISHED-TTL:PT1H
BEGIN:VTIMEZONE
TZID:America/Los_Angeles
BEGIN:DAYLIGHT
TZOFFSETFROM:-0800
TZOFFSETTO:-0700
TZNAME:PDT
DTSTART:20250309T100000
END:DAYLIGHT
BEGIN:STANDARD
TZOFFSETFROM:-0700
TZOFFSETTO:-0800
TZNAME:PST
DTSTART:20251102T090000
END:STANDARD
BEGIN:DAYLIGHT
TZOFFSETFROM:-0800
TZOFFSETTO:-0700
TZNAME:PDT
DTSTART:20260308T100000
END:DAYLIGHT
BEGIN:STANDARD
TZOFFSETFROM:-0700
TZOFFSETTO:-0800
TZNAME:PST
DTSTART:20261101T090000
END:STANDARD
BEGIN:DAYLIGHT
TZOFFSETFROM:-0800
TZOFFSETTO:-0700
TZNAME:PDT
DTSTART:20270314T100000
END:DAYLIGHT
BEGIN:STANDARD
TZOFFSETFROM:-0700
TZOFFSETTO:-0800
TZNAME:PST
DTSTART:20271107T090000
END:STANDARD
END:VTIMEZONE
BEGIN:VEVENT
DTSTART;VALUE=DATE:20260416
DTEND;VALUE=DATE:20260420
DTSTAMP:20260419T055731
CREATED:20251105T211205Z
LAST-MODIFIED:20251105T211205Z
UID:23620-1776297600-1776643199@soulofca.org
SUMMARY:Sea Otter Classic
DESCRIPTION:For years this has been the premier bicycle event on the West Coast\, maybe in the country. For three days the races\, fun runs\, and other activities will keep everyone occupied and engaged. From the youngest to most seasoned bike enthusiast will find something to participate in. There are also an incredible array of products\, devices\, and bikes for viewing and purchase. Come see for yourself what the future of biking looks like. More info is at https://www.seaotter.com
URL:https://soulofca.org/event/sea-otter-classic-9/
LOCATION:Weather Tech Laguna Seca Raceway\, 1021 Monterey Salinas Highway\, Salinas\, CA\, United States
END:VEVENT
BEGIN:VEVENT
DTSTART;TZID=America/Los_Angeles:20260417T193000
DTEND;TZID=America/Los_Angeles:20260419T163000
DTSTAMP:20260419T055731
CREATED:20260318T192118Z
LAST-MODIFIED:20260318T192118Z
UID:24867-1776454200-1776616200@soulofca.org
SUMMARY:Songs in the Night
DESCRIPTION:One of the premier\, longtime choral groups in the area is presenting their spring selection of beautiful choral music. There are three concerts over the weekend. On the 17th in Salinas (7:30) @St. Paul’s on Pajaro St.\, on the 18th at First Presbyterian in Monterey (7:30)on El Dorado and on Sunday the 19th at First Presbyterian (2:30). More details and ticket information at https://www.camerata-singers.org
URL:https://soulofca.org/event/songs-in-the-night/
LOCATION:CA
END:VEVENT
BEGIN:VEVENT
DTSTART;TZID=America/Los_Angeles:20260419T090000
DTEND;TZID=America/Los_Angeles:20260419T130000
DTSTAMP:20260419T055731
CREATED:20260311T214202Z
LAST-MODIFIED:20260311T214202Z
UID:24697-1776589200-1776603600@soulofca.org
SUMMARY:Farmers Market Live Oak
DESCRIPTION:The various Spring holidays are passed and we are left with the good weather and lengthening days. That tells us that the selection at the markets is getting better and better. Soon we will be looking at those stone fruits but for now there is a great selection of vegetables and often strawberries. Come out and find them and much more. Booths with locally made items beckon to you and there are many prepped foods that will appeal to you. you’ll have to come out to find them.  More markets are listed at this sitehttps://www.montereycfb.com
URL:https://soulofca.org/event/farmers-market-live-oak-46/
LOCATION:Mission St & Western\, Santa Cruz\, CA\, United States
END:VEVENT
BEGIN:VEVENT
DTSTART;TZID=America/Los_Angeles:20260419T090000
DTEND;TZID=America/Los_Angeles:20260419T173000
DTSTAMP:20260419T055731
CREATED:20260306T205126Z
LAST-MODIFIED:20260306T205126Z
UID:24432-1776589200-1776619800@soulofca.org
SUMMARY:Monterey Bay Mapathon & Half Mapathon
DESCRIPTION:No\, that’s not a typo. This is a unique athletic/mental effort. You find clues (from a special map) along the way and use them to continue in your successful completion of the marathon. Looking for a new challenge\, as if running all those miles isn’t enough?  Try this out\, probably will be fun and exciting.  Go to https://www.go-terraloco.blogspot.com for lots more info.
URL:https://soulofca.org/event/monterey-bay-mapathon-half-mapathon/
LOCATION:Jewell Park\, Central & Grand Ave.\, Pacific Grove\, CA\, 93950\, United States
END:VEVENT
BEGIN:VEVENT
DTSTART;TZID=America/Los_Angeles:20260419T100000
DTEND;TZID=America/Los_Angeles:20260419T140000
DTSTAMP:20260419T055731
CREATED:20260311T213147Z
LAST-MODIFIED:20260311T213147Z
UID:24693-1776592800-1776607200@soulofca.org
SUMMARY:Farmers Market Marina
DESCRIPTION:The various Spring holidays are passed and we are left with the good weather and lengthening days. That tells us that the selection at the markets is getting better and better. Soon we will be looking at those stone fruits but for now there is a great selection of vegetables and often strawberries. Come out and find them and much more. Booths with locally made items beckon to you and there are many prepped foods that will appeal to you. you’ll have to come out to find them.  More markets are listed at this sitehttps://www.montereycfb.com
URL:https://soulofca.org/event/farmers-market-marina-49/
LOCATION:Marina Village Shopping Center\, Marina
END:VEVENT
BEGIN:VEVENT
DTSTART;TZID=America/Los_Angeles:20260419T100000
DTEND;TZID=America/Los_Angeles:20260419T140000
DTSTAMP:20260419T055731
CREATED:20260311T213504Z
LAST-MODIFIED:20260311T213504Z
UID:24695-1776592800-1776607200@soulofca.org
SUMMARY:Farmers Market Carmel Valley
DESCRIPTION:The various Spring holidays are passed and we are left with the good weather and lengthening days. That tells us that the selection at the markets is getting better and better. Soon we will be looking at those stone fruits but for now there is a great selection of vegetables and often strawberries. Come out and find them and much more. Booths with locally made items beckon to you and there are many prepped foods that will appeal to you. you’ll have to come out to find them.  More markets are listed at this sitehttps://www.montereycfb.com
URL:https://soulofca.org/event/farmers-market-carmel-valley-47/
LOCATION:Carmel Valley Community Center\, 25 Ford Rd.\, Carmel Valley\, CA\, 93924\, United States
END:VEVENT
BEGIN:VEVENT
DTSTART;TZID=America/Los_Angeles:20260419T150000
DTEND;TZID=America/Los_Angeles:20260419T190000
DTSTAMP:20260419T055731
CREATED:20260306T205948Z
LAST-MODIFIED:20260306T205948Z
UID:24434-1776610800-1776625200@soulofca.org
SUMMARY:Farmworker Reality Tour
DESCRIPTION:What about the people who work in the fields to produce the food we enjoy in our homes? How do they do it? How do they live? These and more questions can be answered can be answered by attending this tour. The long hours\, work and living conditions\, and small triumphs will be shared with the participants. It starts at 40 Zils Rd. in Watsonville. More details can be found at https://www.farmworkerfamily.org
URL:https://soulofca.org/event/farmworker-reality-tour/
LOCATION:CA
END:VEVENT
END:VCALENDAR