BEGIN:VCALENDAR
VERSION:2.0
PRODID:-//Soul of CA - ECPv6.15.17//NONSGML v1.0//EN
CALSCALE:GREGORIAN
METHOD:PUBLISH
X-WR-CALNAME:Soul of CA
X-ORIGINAL-URL:https://soulofca.org
X-WR-CALDESC:Events for Soul of CA
REFRESH-INTERVAL;VALUE=DURATION:PT1H
X-Robots-Tag:noindex
X-PUBLISHED-TTL:PT1H
BEGIN:VTIMEZONE
TZID:America/Los_Angeles
BEGIN:DAYLIGHT
TZOFFSETFROM:-0800
TZOFFSETTO:-0700
TZNAME:PDT
DTSTART:20250309T100000
END:DAYLIGHT
BEGIN:STANDARD
TZOFFSETFROM:-0700
TZOFFSETTO:-0800
TZNAME:PST
DTSTART:20251102T090000
END:STANDARD
BEGIN:DAYLIGHT
TZOFFSETFROM:-0800
TZOFFSETTO:-0700
TZNAME:PDT
DTSTART:20260308T100000
END:DAYLIGHT
BEGIN:STANDARD
TZOFFSETFROM:-0700
TZOFFSETTO:-0800
TZNAME:PST
DTSTART:20261101T090000
END:STANDARD
BEGIN:DAYLIGHT
TZOFFSETFROM:-0800
TZOFFSETTO:-0700
TZNAME:PDT
DTSTART:20270314T100000
END:DAYLIGHT
BEGIN:STANDARD
TZOFFSETFROM:-0700
TZOFFSETTO:-0800
TZNAME:PST
DTSTART:20271107T090000
END:STANDARD
END:VTIMEZONE
BEGIN:VEVENT
DTSTART;VALUE=DATE:20260416
DTEND;VALUE=DATE:20260420
DTSTAMP:20260422T071907
CREATED:20251105T211205Z
LAST-MODIFIED:20251105T211205Z
UID:23620-1776297600-1776643199@soulofca.org
SUMMARY:Sea Otter Classic
DESCRIPTION:For years this has been the premier bicycle event on the West Coast\, maybe in the country. For three days the races\, fun runs\, and other activities will keep everyone occupied and engaged. From the youngest to most seasoned bike enthusiast will find something to participate in. There are also an incredible array of products\, devices\, and bikes for viewing and purchase. Come see for yourself what the future of biking looks like. More info is at https://www.seaotter.com
URL:https://soulofca.org/event/sea-otter-classic-9/
LOCATION:Weather Tech Laguna Seca Raceway\, 1021 Monterey Salinas Highway\, Salinas\, CA\, United States
END:VEVENT
BEGIN:VEVENT
DTSTART;TZID=America/Los_Angeles:20260417T120000
DTEND;TZID=America/Los_Angeles:20260417T170000
DTSTAMP:20260422T071907
CREATED:20260311T211651Z
LAST-MODIFIED:20260311T211651Z
UID:24679-1776427200-1776445200@soulofca.org
SUMMARY:Farmers Market Salinas Valley Memorial Hospital
DESCRIPTION:The various Spring holidays are passed and we are left with the good weather and lengthening days. That tells us that the selection at the markets is getting better and better. Soon we will be looking at those stone fruits but for now there is a great selection of vegetables and often strawberries. Come out and find them and much more. Booths with locally made items beckon to you and there are many prepped foods that will appeal to you. you’ll have to come out to find them.  More markets are listed at this sitehttps://www.montereycfb.com
URL:https://soulofca.org/event/farmers-market-salinas-valley-memorial-hospital-43/
LOCATION:Salinas Valley Memorial Hospital\, Romie Lane \, Salinas \, CA\, United States
END:VEVENT
BEGIN:VEVENT
DTSTART;TZID=America/Los_Angeles:20260417T140000
DTEND;TZID=America/Los_Angeles:20260417T190000
DTSTAMP:20260422T071907
CREATED:20260311T212054Z
LAST-MODIFIED:20260311T212054Z
UID:24685-1776434400-1776452400@soulofca.org
SUMMARY:Farmers Market  Watsonville
DESCRIPTION:The various Spring holidays are passed and we are left with the good weather and lengthening days. That tells us that the selection at the markets is getting better and better. Soon we will be looking at those stone fruits but for now there is a great selection of vegetables and often strawberries. Come out and find them and much more. Booths with locally made items beckon to you and there are many prepped foods that will appeal to you. you’ll have to come out to find them.  More markets are listed at this sitehttps://www.montereycfb.com
URL:https://soulofca.org/event/farmers-market-watsonville-42/
LOCATION:Downtown Watsonville\, Downtown Plaza\, Watsonville\, CA\, 95076\, United States
END:VEVENT
BEGIN:VEVENT
DTSTART;TZID=America/Los_Angeles:20260417T160000
DTEND;TZID=America/Los_Angeles:20260417T210000
DTSTAMP:20260422T071907
CREATED:20260311T211857Z
LAST-MODIFIED:20260311T211857Z
UID:24682-1776441600-1776459600@soulofca.org
SUMMARY:Mercado Popular Salinas Sports Complex
DESCRIPTION:The various Spring holidays are passed and we are left with the good weather and lengthening days. That tells us that the selection at the markets is getting better and better. Soon we will be looking at those stone fruits but for now there is a great selection of vegetables and often strawberries. Come out and find them and much more. Booths with locally made items beckon to you and there are many prepped foods that will appeal to you. you’ll have to come out to find them.  More markets are listed at this sitehttps://www.montereycfb.com
URL:https://soulofca.org/event/mercado-popular-salinas-sports-complex-46/
LOCATION:Salinas Sports Complex\, N. Main Street\, Salinas \, CA\, United States
END:VEVENT
BEGIN:VEVENT
DTSTART;TZID=America/Los_Angeles:20260417T190000
DTEND;TZID=America/Los_Angeles:20260417T203000
DTSTAMP:20260422T071907
CREATED:20251231T202124Z
LAST-MODIFIED:20251231T202124Z
UID:24128-1776452400-1776457800@soulofca.org
SUMMARY:Emerson\, Lake & Palmer
DESCRIPTION:Think back to the early seventies and you’ll remember the chart topping tunes of this group. They were the darlings of AOR at the time. Should be a wonderful time for all. The Golden State Theatre is one of the best venues for entertainment in the Monterey Bay area.  Go to their website for more information and tickets. It’s at https://www.goldenstatetheatre.com
URL:https://soulofca.org/event/emerson-lake-palmer/
LOCATION:Golden State Theater\, 417 Alvarado St.\, Monterey\, CA\, 93940\, United States
END:VEVENT
BEGIN:VEVENT
DTSTART;TZID=America/Los_Angeles:20260417T193000
DTEND;TZID=America/Los_Angeles:20260419T163000
DTSTAMP:20260422T071907
CREATED:20260318T192118Z
LAST-MODIFIED:20260318T192118Z
UID:24867-1776454200-1776616200@soulofca.org
SUMMARY:Songs in the Night
DESCRIPTION:One of the premier\, longtime choral groups in the area is presenting their spring selection of beautiful choral music. There are three concerts over the weekend. On the 17th in Salinas (7:30) @St. Paul’s on Pajaro St.\, on the 18th at First Presbyterian in Monterey (7:30)on El Dorado and on Sunday the 19th at First Presbyterian (2:30). More details and ticket information at https://www.camerata-singers.org
URL:https://soulofca.org/event/songs-in-the-night/
LOCATION:CA
END:VEVENT
END:VCALENDAR