BEGIN:VCALENDAR
VERSION:2.0
PRODID:-//Soul of CA - ECPv6.15.17//NONSGML v1.0//EN
CALSCALE:GREGORIAN
METHOD:PUBLISH
X-ORIGINAL-URL:https://soulofca.org
X-WR-CALDESC:Events for Soul of CA
REFRESH-INTERVAL;VALUE=DURATION:PT1H
X-Robots-Tag:noindex
X-PUBLISHED-TTL:PT1H
BEGIN:VTIMEZONE
TZID:America/Los_Angeles
BEGIN:DAYLIGHT
TZOFFSETFROM:-0800
TZOFFSETTO:-0700
TZNAME:PDT
DTSTART:20240310T100000
END:DAYLIGHT
BEGIN:STANDARD
TZOFFSETFROM:-0700
TZOFFSETTO:-0800
TZNAME:PST
DTSTART:20241103T090000
END:STANDARD
BEGIN:DAYLIGHT
TZOFFSETFROM:-0800
TZOFFSETTO:-0700
TZNAME:PDT
DTSTART:20250309T100000
END:DAYLIGHT
BEGIN:STANDARD
TZOFFSETFROM:-0700
TZOFFSETTO:-0800
TZNAME:PST
DTSTART:20251102T090000
END:STANDARD
BEGIN:DAYLIGHT
TZOFFSETFROM:-0800
TZOFFSETTO:-0700
TZNAME:PDT
DTSTART:20260308T100000
END:DAYLIGHT
BEGIN:STANDARD
TZOFFSETFROM:-0700
TZOFFSETTO:-0800
TZNAME:PST
DTSTART:20261101T090000
END:STANDARD
END:VTIMEZONE
BEGIN:VEVENT
DTSTART;TZID=America/Los_Angeles:20251014T110000
DTEND;TZID=America/Los_Angeles:20251014T160000
DTSTAMP:20260422T185042
CREATED:20250820T204156Z
LAST-MODIFIED:20250820T204156Z
UID:22849-1760439600-1760457600@soulofca.org
SUMMARY:Farmers Market E. Alisal
DESCRIPTION:Warm days\, cool nights and the subtle feeling of autumn in the air. That’s the indication that the freshest and best produce is at the farmers markets around the Central Coast. Nothing can compare to the scent of the apples in the displays. Lots more beautiful produce in the other bins. Come out and see for yourself. There are many market locations around the area. Check out the list at https://www.montereycfb.com
URL:https://soulofca.org/event/farmers-market-e-alisal-21/
LOCATION:WIC Office\, 632 E. Alisal St.\, Salinas\, CA\, United States
END:VEVENT
BEGIN:VEVENT
DTSTART;TZID=America/Los_Angeles:20251014T160000
DTEND;TZID=America/Los_Angeles:20251014T190000
DTSTAMP:20260422T185042
CREATED:20250820T203938Z
LAST-MODIFIED:20250820T203938Z
UID:22847-1760457600-1760468400@soulofca.org
SUMMARY:Farmers Market Monterey
DESCRIPTION:Warm days\, cool nights and the subtle feeling of autumn in the air. That’s the indication that the freshest and best produce is at the farmers markets around the Central Coast. Nothing can compare to the scent of the apples in the displays. Lots more beautiful produce in the other bins. Come out and see for yourself. There are many market locations around the area. Check out the list at https://www.montereycfb.com
URL:https://soulofca.org/event/farmers-market-monterey-21/
LOCATION:Downtown Monterey\, Monterey\, CA\, United States
END:VEVENT
BEGIN:VEVENT
DTSTART;TZID=America/Los_Angeles:20251014T200000
DTEND;TZID=America/Los_Angeles:20251014T213000
DTSTAMP:20260422T185042
CREATED:20250827T192209Z
LAST-MODIFIED:20250827T192209Z
UID:23001-1760472000-1760477400@soulofca.org
SUMMARY:Malcolm Gladwell
DESCRIPTION:You may remember his book\, The Tipping Point. Now Malcolm is touring and lecturing about the points he makes in his recent book\, Revenge of the Tipping Point. Check out this public thinker and his thoughts on our current times and events. More info is at https://www.riotheatre.com
URL:https://soulofca.org/event/malcolm-gladwell/
LOCATION:Rio Theater\, 1205 Soquel Ave.\, Santa Cruz\, CA\, 95062\, United States
END:VEVENT
END:VCALENDAR