BEGIN:VCALENDAR
VERSION:2.0
PRODID:-//Soul of CA - ECPv6.15.17//NONSGML v1.0//EN
CALSCALE:GREGORIAN
METHOD:PUBLISH
X-ORIGINAL-URL:https://soulofca.org
X-WR-CALDESC:Events for Soul of CA
REFRESH-INTERVAL;VALUE=DURATION:PT1H
X-Robots-Tag:noindex
X-PUBLISHED-TTL:PT1H
BEGIN:VTIMEZONE
TZID:America/Los_Angeles
BEGIN:DAYLIGHT
TZOFFSETFROM:-0800
TZOFFSETTO:-0700
TZNAME:PDT
DTSTART:20240310T100000
END:DAYLIGHT
BEGIN:STANDARD
TZOFFSETFROM:-0700
TZOFFSETTO:-0800
TZNAME:PST
DTSTART:20241103T090000
END:STANDARD
BEGIN:DAYLIGHT
TZOFFSETFROM:-0800
TZOFFSETTO:-0700
TZNAME:PDT
DTSTART:20250309T100000
END:DAYLIGHT
BEGIN:STANDARD
TZOFFSETFROM:-0700
TZOFFSETTO:-0800
TZNAME:PST
DTSTART:20251102T090000
END:STANDARD
BEGIN:DAYLIGHT
TZOFFSETFROM:-0800
TZOFFSETTO:-0700
TZNAME:PDT
DTSTART:20260308T100000
END:DAYLIGHT
BEGIN:STANDARD
TZOFFSETFROM:-0700
TZOFFSETTO:-0800
TZNAME:PST
DTSTART:20261101T090000
END:STANDARD
END:VTIMEZONE
BEGIN:VEVENT
DTSTART;TZID=America/Los_Angeles:20251013T150000
DTEND;TZID=America/Los_Angeles:20251013T180000
DTSTAMP:20260422T185202
CREATED:20250820T203815Z
LAST-MODIFIED:20250820T203815Z
UID:22845-1760367600-1760378400@soulofca.org
SUMMARY:Farmers Market Pacific Grove
DESCRIPTION:Warm days\, cool nights and the subtle feeling of autumn in the air. That’s the indication that the freshest and best produce is at the farmers markets around the Central Coast. Nothing can compare to the scent of the apples in the displays. Lots more beautiful produce in the other bins. Come out and see for yourself. There are many market locations around the area. Check out the list at https://www.montereycfb.com
URL:https://soulofca.org/event/farmers-market-pacific-grove-23/
LOCATION:Downtown Pacific Grove\, Lighthouse Avenue\, Pacific Grove \, CA\, 93950\, United States
END:VEVENT
END:VCALENDAR