BEGIN:VCALENDAR
VERSION:2.0
PRODID:-//Soul of CA - ECPv6.15.17//NONSGML v1.0//EN
CALSCALE:GREGORIAN
METHOD:PUBLISH
X-WR-CALNAME:Soul of CA
X-ORIGINAL-URL:https://soulofca.org
X-WR-CALDESC:Events for Soul of CA
REFRESH-INTERVAL;VALUE=DURATION:PT1H
X-Robots-Tag:noindex
X-PUBLISHED-TTL:PT1H
BEGIN:VTIMEZONE
TZID:America/Los_Angeles
BEGIN:DAYLIGHT
TZOFFSETFROM:-0800
TZOFFSETTO:-0700
TZNAME:PDT
DTSTART:20240310T100000
END:DAYLIGHT
BEGIN:STANDARD
TZOFFSETFROM:-0700
TZOFFSETTO:-0800
TZNAME:PST
DTSTART:20241103T090000
END:STANDARD
BEGIN:DAYLIGHT
TZOFFSETFROM:-0800
TZOFFSETTO:-0700
TZNAME:PDT
DTSTART:20250309T100000
END:DAYLIGHT
BEGIN:STANDARD
TZOFFSETFROM:-0700
TZOFFSETTO:-0800
TZNAME:PST
DTSTART:20251102T090000
END:STANDARD
BEGIN:DAYLIGHT
TZOFFSETFROM:-0800
TZOFFSETTO:-0700
TZNAME:PDT
DTSTART:20260308T100000
END:DAYLIGHT
BEGIN:STANDARD
TZOFFSETFROM:-0700
TZOFFSETTO:-0800
TZNAME:PST
DTSTART:20261101T090000
END:STANDARD
END:VTIMEZONE
BEGIN:VEVENT
DTSTART;TZID=America/Los_Angeles:20251010T080000
DTEND;TZID=America/Los_Angeles:20251012T170000
DTSTAMP:20260422T071924
CREATED:20250917T195400Z
LAST-MODIFIED:20250917T195400Z
UID:23154-1760083200-1760288400@soulofca.org
SUMMARY:Festival of Birds
DESCRIPTION:The Monterey Bay is one of the best places in the world to view birds and this time of year it is even better. There will be over 300 species of birds passing through the area during the autumnal migration. You can be part of the scientific survey measuring the population or just come and learn more about the birds who live their lives in the area. More details are at https://www.birdschoolproject.org
URL:https://soulofca.org/event/festival-of-birds-2/
LOCATION:CA
END:VEVENT
BEGIN:VEVENT
DTSTART;VALUE=DATE:20251011
DTEND;VALUE=DATE:20251013
DTSTAMP:20260422T071924
CREATED:20251001T180007Z
LAST-MODIFIED:20251001T180007Z
UID:23259-1760140800-1760313599@soulofca.org
SUMMARY:Open Art Studios (Monterey County)
DESCRIPTION:Since our country is the size of Rhode Island you will need to consult their website or map to figure out how to see the maximum number of artists’ studios. So go to https://www.arts4mc.org There will be lots of talented people with wonderful exhibits and unique creations.
URL:https://soulofca.org/event/open-art-studios-monterey-county/
LOCATION:Monterey County
END:VEVENT
BEGIN:VEVENT
DTSTART;TZID=America/Los_Angeles:20251012T080000
DTEND;TZID=America/Los_Angeles:20251012T100000
DTSTAMP:20260422T071924
CREATED:20251006T181552Z
LAST-MODIFIED:20251006T181552Z
UID:23331-1760256000-1760263200@soulofca.org
SUMMARY:Salinas Cars & Coffee
DESCRIPTION:Looking for other automobile fans? You will find them here. That is the parking lot adjacent to the Lucky Supermarket on S. Main is Salinas. They will be the people drinking coffee and talking about cars while standing in the midst of classic vehicles. Need more info? Ask your questions at https://www.carsandcoffeeevents.com
URL:https://soulofca.org/event/salinas-cars-coffee-2/
LOCATION:Lucky Supermarket Lot\, 1186 S. Main St\, Salinas\, CA\, 93901\, United States
END:VEVENT
BEGIN:VEVENT
DTSTART;TZID=America/Los_Angeles:20251012T090000
DTEND;TZID=America/Los_Angeles:20251012T130000
DTSTAMP:20260422T071924
CREATED:20250813T222153Z
LAST-MODIFIED:20250813T222153Z
UID:22816-1760259600-1760274000@soulofca.org
SUMMARY:Farmers Market Live Oak
DESCRIPTION:Even though autumn is in the air\, we are still able to enjoy the freshest of the available produce.  And the best places to find this delicious variety is in the local farmers markets. Fall fruit is abundant and fresh. You probably enjoy the crisp apples and much more. Come out to the local market and see for yourself; there is one close to you. Check this website for more choices. https://www.montereycfb.com
URL:https://soulofca.org/event/farmers-market-live-oak-19/
LOCATION:Mission St & Western\, Santa Cruz\, CA\, United States
END:VEVENT
BEGIN:VEVENT
DTSTART;TZID=America/Los_Angeles:20251012T100000
DTEND;TZID=America/Los_Angeles:20251012T140000
DTSTAMP:20260422T071924
CREATED:20250813T221859Z
LAST-MODIFIED:20250813T221859Z
UID:22812-1760263200-1760277600@soulofca.org
SUMMARY:Farmers Market Marina
DESCRIPTION:Even though autumn is in the air\, we are still able to enjoy the freshest of the available produce.  And the best places to find this delicious variety is in the local farmers markets. Fall fruit is abundant and fresh. You probably enjoy the crisp apples and much more. Come out to the local market and see for yourself; there is one close to you. Check this website for more choices. https://www.montereycfb.com
URL:https://soulofca.org/event/farmers-market-marina-22/
LOCATION:Marina Village Shopping Center\, Marina
END:VEVENT
BEGIN:VEVENT
DTSTART;TZID=America/Los_Angeles:20251012T100000
DTEND;TZID=America/Los_Angeles:20251012T140000
DTSTAMP:20260422T071924
CREATED:20250813T222020Z
LAST-MODIFIED:20250813T222020Z
UID:22814-1760263200-1760277600@soulofca.org
SUMMARY:Farmers Market Carmel Valley
DESCRIPTION:Even though autumn is in the air\, we are still able to enjoy the freshest of the available produce.  And the best places to find this delicious variety is in the local farmers markets. Fall fruit is abundant and fresh. You probably enjoy the crisp apples and much more. Come out to the local market and see for yourself; there is one close to you. Check this website for more choices. https://www.montereycfb.com
URL:https://soulofca.org/event/farmers-market-carmel-valley-20/
LOCATION:Carmel Valley Community Center\, 25 Ford Rd.\, Carmel Valley\, CA\, 93924\, United States
END:VEVENT
BEGIN:VEVENT
DTSTART;TZID=America/Los_Angeles:20251012T100000
DTEND;TZID=America/Los_Angeles:20251012T170000
DTSTAMP:20260422T071924
CREATED:20251006T181005Z
LAST-MODIFIED:20251006T181005Z
UID:23328-1760263200-1760288400@soulofca.org
SUMMARY:MPAPALOOZA
DESCRIPTION:Anyone’s guess how to pronounce this but it promises to be an interesting day of music\, art\, and education. Come to the Music Hall at CSU Monterey Bay and find out for yourself.  For more definite information go to oscillatorrecords@gmail.com   and ask good questions.
URL:https://soulofca.org/event/mpapalooza/
LOCATION:CSU Monterey Bay  Music Hall\, 3220 6th Ave\, Seaside\, CA\, 93955\, United States
END:VEVENT
BEGIN:VEVENT
DTSTART;TZID=America/Los_Angeles:20251012T130000
DTEND;TZID=America/Los_Angeles:20251012T170000
DTSTAMP:20260422T071924
CREATED:20250113T193310Z
LAST-MODIFIED:20250113T193310Z
UID:20433-1760274000-1760288400@soulofca.org
SUMMARY:Monterey Wharf Birthday Celebration
DESCRIPTION:The Wharf is 180 years old! It has seen a lot of interesting people and events over the years\, explorers\, adventurers\, padres\, and those just looking for a change. Come see what all the fuss is about. There will be fun activities\, games\, and surprises. Go to https://www.montereywharf.com and get all the important info.
URL:https://soulofca.org/event/monterey-wharf-birthday-celebration/
LOCATION:Monterey Fisherman’s Wharf\, Monterey\, CA\, 93940\, United States
END:VEVENT
BEGIN:VEVENT
DTSTART;TZID=America/Los_Angeles:20251012T130000
DTEND;TZID=America/Los_Angeles:20251012T170000
DTSTAMP:20260422T071924
CREATED:20250723T180415Z
LAST-MODIFIED:20250723T180415Z
UID:22519-1760274000-1760288400@soulofca.org
SUMMARY:Fisherman's Wharf 180th Birthday
DESCRIPTION:Can you believe it? The Wharf is that old. The businesses and the city want you to know that it is still kicking and as much fun as it ever was. Come by and join in the celebration with the food\, music\, prizes and more. Check out https://www.montereywharf.com and get all the important info.
URL:https://soulofca.org/event/fishermans-wharf-180th-birthday/
LOCATION:Monterey Fisherman’s Wharf\, Monterey\, CA\, 93940\, United States
END:VEVENT
END:VCALENDAR