BEGIN:VCALENDAR
VERSION:2.0
PRODID:-//Soul of CA - ECPv6.15.17//NONSGML v1.0//EN
CALSCALE:GREGORIAN
METHOD:PUBLISH
X-ORIGINAL-URL:https://soulofca.org
X-WR-CALDESC:Events for Soul of CA
REFRESH-INTERVAL;VALUE=DURATION:PT1H
X-Robots-Tag:noindex
X-PUBLISHED-TTL:PT1H
BEGIN:VTIMEZONE
TZID:America/Los_Angeles
BEGIN:DAYLIGHT
TZOFFSETFROM:-0800
TZOFFSETTO:-0700
TZNAME:PDT
DTSTART:20240310T100000
END:DAYLIGHT
BEGIN:STANDARD
TZOFFSETFROM:-0700
TZOFFSETTO:-0800
TZNAME:PST
DTSTART:20241103T090000
END:STANDARD
BEGIN:DAYLIGHT
TZOFFSETFROM:-0800
TZOFFSETTO:-0700
TZNAME:PDT
DTSTART:20250309T100000
END:DAYLIGHT
BEGIN:STANDARD
TZOFFSETFROM:-0700
TZOFFSETTO:-0800
TZNAME:PST
DTSTART:20251102T090000
END:STANDARD
BEGIN:DAYLIGHT
TZOFFSETFROM:-0800
TZOFFSETTO:-0700
TZNAME:PDT
DTSTART:20260308T100000
END:DAYLIGHT
BEGIN:STANDARD
TZOFFSETFROM:-0700
TZOFFSETTO:-0800
TZNAME:PST
DTSTART:20261101T090000
END:STANDARD
END:VTIMEZONE
BEGIN:VEVENT
DTSTART;TZID=America/Los_Angeles:20251010T080000
DTEND;TZID=America/Los_Angeles:20251012T170000
DTSTAMP:20260422T185043
CREATED:20250917T195400Z
LAST-MODIFIED:20250917T195400Z
UID:23154-1760083200-1760288400@soulofca.org
SUMMARY:Festival of Birds
DESCRIPTION:The Monterey Bay is one of the best places in the world to view birds and this time of year it is even better. There will be over 300 species of birds passing through the area during the autumnal migration. You can be part of the scientific survey measuring the population or just come and learn more about the birds who live their lives in the area. More details are at https://www.birdschoolproject.org
URL:https://soulofca.org/event/festival-of-birds-2/
LOCATION:CA
END:VEVENT
BEGIN:VEVENT
DTSTART;TZID=America/Los_Angeles:20251010T120000
DTEND;TZID=America/Los_Angeles:20251010T170000
DTSTAMP:20260422T185043
CREATED:20250813T220957Z
LAST-MODIFIED:20250813T220957Z
UID:22800-1760097600-1760115600@soulofca.org
SUMMARY:Farmers Market Salinas Valley Memorial Hospital
DESCRIPTION:Even though autumn is in the air\, we are still able to enjoy the freshest of the available produce.  And the best places to find this delicious variety is in the local farmers markets. Fall fruit is abundant and fresh. You probably enjoy the crisp apples and much more. Come out to the local market and see for yourself; there is one close to you. Check this website for more choices. https://www.montereycfb.com
URL:https://soulofca.org/event/farmers-market-salinas-valley-memorial-hospital-18/
LOCATION:Salinas Valley Memorial Hospital\, Romie Lane \, Salinas \, CA\, United States
END:VEVENT
BEGIN:VEVENT
DTSTART;TZID=America/Los_Angeles:20251010T140000
DTEND;TZID=America/Los_Angeles:20251010T190000
DTSTAMP:20260422T185043
CREATED:20250813T221232Z
LAST-MODIFIED:20250813T221232Z
UID:22804-1760104800-1760122800@soulofca.org
SUMMARY:Farmers Market Watsonville
DESCRIPTION:Even though autumn is in the air\, we are still able to enjoy the freshest of the available produce.  And the best places to find this delicious variety is in the local farmers markets. Fall fruit is abundant and fresh. You probably enjoy the crisp apples and much more. Come out to the local market and see for yourself; there is one close to you. Check this website for more choices. https://www.montereycfb.com
URL:https://soulofca.org/event/farmers-market-watsonville-17/
LOCATION:Downtown Watsonville\, Downtown Plaza\, Watsonville\, CA\, 95076\, United States
END:VEVENT
BEGIN:VEVENT
DTSTART;TZID=America/Los_Angeles:20251010T160000
DTEND;TZID=America/Los_Angeles:20251010T210000
DTSTAMP:20260422T185043
CREATED:20250813T221112Z
LAST-MODIFIED:20250813T221112Z
UID:22802-1760112000-1760130000@soulofca.org
SUMMARY:Mercado Popular Salinas Sports Complex
DESCRIPTION:Even though autumn is in the air\, we are still able to enjoy the freshest of the available produce.  And the best places to find this delicious variety is in the local farmers markets. Fall fruit is abundant and fresh. You probably enjoy the crisp apples and much more. Come out to the local market and see for yourself; there is one close to you. Check this website for more choices. https://www.montereycfb.com
URL:https://soulofca.org/event/mercado-popular-salinas-sports-complex-22/
LOCATION:Salinas Sports Complex\, N. Main Street\, Salinas \, CA\, United States
END:VEVENT
END:VCALENDAR