BEGIN:VCALENDAR
VERSION:2.0
PRODID:-//Soul of CA - ECPv6.15.17//NONSGML v1.0//EN
CALSCALE:GREGORIAN
METHOD:PUBLISH
X-ORIGINAL-URL:https://soulofca.org
X-WR-CALDESC:Events for Soul of CA
REFRESH-INTERVAL;VALUE=DURATION:PT1H
X-Robots-Tag:noindex
X-PUBLISHED-TTL:PT1H
BEGIN:VTIMEZONE
TZID:America/Los_Angeles
BEGIN:DAYLIGHT
TZOFFSETFROM:-0800
TZOFFSETTO:-0700
TZNAME:PDT
DTSTART:20240310T100000
END:DAYLIGHT
BEGIN:STANDARD
TZOFFSETFROM:-0700
TZOFFSETTO:-0800
TZNAME:PST
DTSTART:20241103T090000
END:STANDARD
BEGIN:DAYLIGHT
TZOFFSETFROM:-0800
TZOFFSETTO:-0700
TZNAME:PDT
DTSTART:20250309T100000
END:DAYLIGHT
BEGIN:STANDARD
TZOFFSETFROM:-0700
TZOFFSETTO:-0800
TZNAME:PST
DTSTART:20251102T090000
END:STANDARD
BEGIN:DAYLIGHT
TZOFFSETFROM:-0800
TZOFFSETTO:-0700
TZNAME:PDT
DTSTART:20260308T100000
END:DAYLIGHT
BEGIN:STANDARD
TZOFFSETFROM:-0700
TZOFFSETTO:-0800
TZNAME:PST
DTSTART:20261101T090000
END:STANDARD
END:VTIMEZONE
BEGIN:VEVENT
DTSTART;TZID=America/Los_Angeles:20251008T080000
DTEND;TZID=America/Los_Angeles:20251008T170000
DTSTAMP:20260422T013154
CREATED:20251001T182939Z
LAST-MODIFIED:20251001T182939Z
UID:23270-1759910400-1759942800@soulofca.org
SUMMARY:Embracing Light
DESCRIPTION:Local photographers are bringing their best efforts to this show which features the contrast between light and dark in their photos. There will be many striking images and interesting use of chiaroscuro. The exhibit runs through the month of October so there is plenty of time but no time to waste. Details are available at https://www.pgartcenter.org
URL:https://soulofca.org/event/embracing-light/
LOCATION:Pacific Grove Art Center\, 568 Lighthouse Ave.\, Pacific Grove\, CA\, 93950\, United States
END:VEVENT
BEGIN:VEVENT
DTSTART;TZID=America/Los_Angeles:20251008T110000
DTEND;TZID=America/Los_Angeles:20251008T153000
DTSTAMP:20260422T013154
CREATED:20250813T214844Z
LAST-MODIFIED:20250813T214844Z
UID:22784-1759921200-1759937400@soulofca.org
SUMMARY:Farmers Market Natividad Hospital
DESCRIPTION:Even though autumn is in the air\, we are still able to enjoy the freshest of the available produce.  And the best places to find this delicious variety is in the local farmers markets. Fall fruit is abundant and fresh. You probably enjoy the crisp apples and much more. Come out to the local market and see for yourself; there is one close to you. Check this website for more choices. https://www.montereycfb.com
URL:https://soulofca.org/event/farmers-market-natividad-hospital-19/
LOCATION:Natividad Hospital\, E. Laurel Dr.\, Salinas\, United States
END:VEVENT
BEGIN:VEVENT
DTSTART;TZID=America/Los_Angeles:20251008T130000
DTEND;TZID=America/Los_Angeles:20251008T170000
DTSTAMP:20260422T013154
CREATED:20250813T215157Z
LAST-MODIFIED:20250813T215157Z
UID:22790-1759928400-1759942800@soulofca.org
SUMMARY:Farmers Market Santa Cruz (downtown)
DESCRIPTION:Even though autumn is in the air\, we are still able to enjoy the freshest of the available produce.  And the best places to find this delicious variety is in the local farmers markets. Fall fruit is abundant and fresh. You probably enjoy the crisp apples and much more. Come out to the local market and see for yourself; there is one close to you. Check this website for more choices. https://www.montereycfb.com
URL:https://soulofca.org/event/farmers-market-santa-cruz-downtown-16/
LOCATION:Cedar & Lincoln Sts.\, Santa Cruz\, CA\, United States
END:VEVENT
BEGIN:VEVENT
DTSTART;TZID=America/Los_Angeles:20251008T150000
DTEND;TZID=America/Los_Angeles:20251008T190000
DTSTAMP:20260422T013154
CREATED:20250813T215051Z
LAST-MODIFIED:20250813T215051Z
UID:22788-1759935600-1759950000@soulofca.org
SUMMARY:Farmers Market Hollister
DESCRIPTION:Even though autumn is in the air\, we are still able to enjoy the freshest of the available produce.  And the best places to find this delicious variety is in the local farmers markets. Fall fruit is abundant and fresh. You probably enjoy the crisp apples and much more. Come out to the local market and see for yourself; there is one close to you. Check this website for more choices. https://www.montereycfb.com
URL:https://soulofca.org/event/farmers-market-hollister-19/
LOCATION:Downtown Hollister\, Hollister\, CA\, United States
END:VEVENT
BEGIN:VEVENT
DTSTART;TZID=America/Los_Angeles:20251008T160000
DTEND;TZID=America/Los_Angeles:20251008T190000
DTSTAMP:20260422T013154
CREATED:20250813T214950Z
LAST-MODIFIED:20250813T214950Z
UID:22786-1759939200-1759950000@soulofca.org
SUMMARY:Farmers Market King City
DESCRIPTION:Even though autumn is in the air\, we are still able to enjoy the freshest of the available produce.  And the best places to find this delicious variety is in the local farmers markets. Fall fruit is abundant and fresh. You probably enjoy the crisp apples and much more. Come out to the local market and see for yourself; there is one close to you. Check this website for more choices. https://www.montereycfb.com
URL:https://soulofca.org/event/farmers-market-king-city-19/
LOCATION:Natividad Hospital\, E. Laurel Dr.\, Salinas\, United States
END:VEVENT
BEGIN:VEVENT
DTSTART;TZID=America/Los_Angeles:20251008T190000
DTEND;TZID=America/Los_Angeles:20251008T210000
DTSTAMP:20260422T013154
CREATED:20251001T183642Z
LAST-MODIFIED:20251001T183642Z
UID:23272-1759950000-1759957200@soulofca.org
SUMMARY:Wolf Gang
DESCRIPTION:Celebrating the influences on W.A. Mozart and those he\, in turn\, influenced.  From Bach’s works though to Beethoven’s the lines of genius are traceable and clear. The venue’s small size will make this an intimate experience. Check out their website at https://www.sandboxsandcity.org
URL:https://soulofca.org/event/wolf-gang/
LOCATION:Sandbox\, 440 Ortiz Ave.\, Sand City\, CA\, 93955\, United States
END:VEVENT
END:VCALENDAR