BEGIN:VCALENDAR
VERSION:2.0
PRODID:-//Soul of CA - ECPv6.15.17//NONSGML v1.0//EN
CALSCALE:GREGORIAN
METHOD:PUBLISH
X-WR-CALNAME:Soul of CA
X-ORIGINAL-URL:https://soulofca.org
X-WR-CALDESC:Events for Soul of CA
REFRESH-INTERVAL;VALUE=DURATION:PT1H
X-Robots-Tag:noindex
X-PUBLISHED-TTL:PT1H
BEGIN:VTIMEZONE
TZID:America/Los_Angeles
BEGIN:DAYLIGHT
TZOFFSETFROM:-0800
TZOFFSETTO:-0700
TZNAME:PDT
DTSTART:20240310T100000
END:DAYLIGHT
BEGIN:STANDARD
TZOFFSETFROM:-0700
TZOFFSETTO:-0800
TZNAME:PST
DTSTART:20241103T090000
END:STANDARD
BEGIN:DAYLIGHT
TZOFFSETFROM:-0800
TZOFFSETTO:-0700
TZNAME:PDT
DTSTART:20250309T100000
END:DAYLIGHT
BEGIN:STANDARD
TZOFFSETFROM:-0700
TZOFFSETTO:-0800
TZNAME:PST
DTSTART:20251102T090000
END:STANDARD
BEGIN:DAYLIGHT
TZOFFSETFROM:-0800
TZOFFSETTO:-0700
TZNAME:PDT
DTSTART:20260308T100000
END:DAYLIGHT
BEGIN:STANDARD
TZOFFSETFROM:-0700
TZOFFSETTO:-0800
TZNAME:PST
DTSTART:20261101T090000
END:STANDARD
END:VTIMEZONE
BEGIN:VEVENT
DTSTART;TZID=America/Los_Angeles:20251007T110000
DTEND;TZID=America/Los_Angeles:20251007T160000
DTSTAMP:20260422T195753
CREATED:20250813T214714Z
LAST-MODIFIED:20250813T214714Z
UID:22782-1759834800-1759852800@soulofca.org
SUMMARY:Farmers Market E. Alisal
DESCRIPTION:Even though autumn is in the air\, we are still able to enjoy the freshest of the available produce.  And the best places to find this delicious variety is in the local farmers markets. Fall fruit is abundant and fresh. You probably enjoy the crisp apples and much more. Come out to the local market and see for yourself; there is one close to you. Check this website for more choices. https://www.montereycfb.com
URL:https://soulofca.org/event/farmers-market-e-alisal-20/
LOCATION:WIC Office\, 632 E. Alisal St.\, Salinas\, CA\, United States
END:VEVENT
BEGIN:VEVENT
DTSTART;TZID=America/Los_Angeles:20251007T160000
DTEND;TZID=America/Los_Angeles:20251007T190000
DTSTAMP:20260422T195753
CREATED:20250813T213503Z
LAST-MODIFIED:20250813T213514Z
UID:22780-1759852800-1759863600@soulofca.org
SUMMARY:Farmers Market Monterey
DESCRIPTION:Even though autumn is in the air\, we are still able to enjoy the freshest of the available produce.  And the best places to find this delicious variety is in the local farmers markets. Fall fruit is abundant and fresh. You probably enjoy the crisp apples and much more. Come out to the local market and see for yourself; there is one close to you. Check this website for more choices. https://www.montereycfb.com
URL:https://soulofca.org/event/farmers-market-monterey-20/
LOCATION:Downtown Monterey\, Monterey\, CA\, United States
END:VEVENT
END:VCALENDAR