BEGIN:VCALENDAR
VERSION:2.0
PRODID:-//Soul of CA - ECPv6.15.17//NONSGML v1.0//EN
CALSCALE:GREGORIAN
METHOD:PUBLISH
X-WR-CALNAME:Soul of CA
X-ORIGINAL-URL:https://soulofca.org
X-WR-CALDESC:Events for Soul of CA
REFRESH-INTERVAL;VALUE=DURATION:PT1H
X-Robots-Tag:noindex
X-PUBLISHED-TTL:PT1H
BEGIN:VTIMEZONE
TZID:America/Los_Angeles
BEGIN:DAYLIGHT
TZOFFSETFROM:-0800
TZOFFSETTO:-0700
TZNAME:PDT
DTSTART:20240310T100000
END:DAYLIGHT
BEGIN:STANDARD
TZOFFSETFROM:-0700
TZOFFSETTO:-0800
TZNAME:PST
DTSTART:20241103T090000
END:STANDARD
BEGIN:DAYLIGHT
TZOFFSETFROM:-0800
TZOFFSETTO:-0700
TZNAME:PDT
DTSTART:20250309T100000
END:DAYLIGHT
BEGIN:STANDARD
TZOFFSETFROM:-0700
TZOFFSETTO:-0800
TZNAME:PST
DTSTART:20251102T090000
END:STANDARD
BEGIN:DAYLIGHT
TZOFFSETFROM:-0800
TZOFFSETTO:-0700
TZNAME:PDT
DTSTART:20260308T100000
END:DAYLIGHT
BEGIN:STANDARD
TZOFFSETFROM:-0700
TZOFFSETTO:-0800
TZNAME:PST
DTSTART:20261101T090000
END:STANDARD
END:VTIMEZONE
BEGIN:VEVENT
DTSTART;TZID=America/Los_Angeles:20251002T120000
DTEND;TZID=America/Los_Angeles:20251005T220000
DTSTAMP:20260422T155810
CREATED:20250618T182837Z
LAST-MODIFIED:20250618T182837Z
UID:22050-1759406400-1759701600@soulofca.org
SUMMARY:Carmel International Film Festival
DESCRIPTION:Of course\, you can go to other film fests but you’d have to travel and spend lots of money on hotels etc. So why not come to a local one? There will be films\, the artists\, and minima; paparazzi. Check out their website and see why you will want to be there. Go to https://www.ciffest.com
URL:https://soulofca.org/event/carmel-international-film-festival/
LOCATION:Carmel BTS\, Carmel
END:VEVENT
BEGIN:VEVENT
DTSTART;TZID=America/Los_Angeles:20251003T110000
DTEND;TZID=America/Los_Angeles:20251005T160000
DTSTAMP:20260422T155810
CREATED:20250113T195355Z
LAST-MODIFIED:20250113T195355Z
UID:20441-1759489200-1759680000@soulofca.org
SUMMARY:California International Airshow
DESCRIPTION:It’s been roaring over the skies of the Salinas Valley for years now and shows every sign of continuing. This year it’s the first days of October and features the Blue Angels\, the Navy’s precision flyers. More info is at https://www.salinasairshow.com
URL:https://soulofca.org/event/california-international-airshow-3/
LOCATION:Salinas Airport\, Airport Drive\, Salinas\, CA\, 93905\, United States
END:VEVENT
BEGIN:VEVENT
DTSTART;TZID=America/Los_Angeles:20251004T100000
DTEND;TZID=America/Los_Angeles:20251005T160000
DTSTAMP:20260422T155810
CREATED:20240927T220206Z
LAST-MODIFIED:20240927T220206Z
UID:19594-1759572000-1759680000@soulofca.org
SUMMARY:Railroad Days
DESCRIPTION:The first weekend of each month the members of the Monterey & Salinas Valley Railroad organization open their doors to the public. They have an extensive and detailed diorama display of the railway going through the Salinas Valley. Much more information about the local rail history than most of us have any idea about.  More information is available at their website https://www.msvrr.org
URL:https://soulofca.org/event/railroad-days-10/
LOCATION:Amtrak Station\, Market St. and Salinas St. \, Salinas\, CA\, 93901\, United States
END:VEVENT
BEGIN:VEVENT
DTSTART;TZID=America/Los_Angeles:20251005T090000
DTEND;TZID=America/Los_Angeles:20251005T120000
DTSTAMP:20260422T155810
CREATED:20250924T203016Z
LAST-MODIFIED:20250924T203046Z
UID:23215-1759654800-1759665600@soulofca.org
SUMMARY:Beginner's Birding
DESCRIPTION:The County Park District and the Audubon Society have teamed up to bring these sessions to the public. They will show proper use of binoculars (supplied) and the means to identify the many\, over 200\, birds that live in or pass through our beautiful part of the world.  The classes happen every Sunday at Laguna Grande Park in Marina from 9-12 and are free but the ages are 12- adult.
URL:https://soulofca.org/event/beginners-birding/
LOCATION:Laguna Grande Park\, Canyon Del Rey Blvd.\, Seaside\, CA\, United States
END:VEVENT
BEGIN:VEVENT
DTSTART;TZID=America/Los_Angeles:20251005T090000
DTEND;TZID=America/Los_Angeles:20251005T130000
DTSTAMP:20260422T155810
CREATED:20250806T222703Z
LAST-MODIFIED:20250806T222703Z
UID:22734-1759654800-1759669200@soulofca.org
SUMMARY:Farmers Market Live Oak
DESCRIPTION:We have reached the end of September and it is officially Fall. The produce of summer is waning and the wonderful things which mature in the Fall are rolling in. Some of the markets are closing so be sure to check (at https://www.Montereycfb.com ).  In spite of this there are still lots of really good things to eat and prepared food to sample. In addition \, you are supporting our local farmers and businesses.
URL:https://soulofca.org/event/farmers-market-live-oak-18/
LOCATION:Mission St & Western\, Santa Cruz\, CA\, United States
END:VEVENT
BEGIN:VEVENT
DTSTART;TZID=America/Los_Angeles:20251005T100000
DTEND;TZID=America/Los_Angeles:20251005T140000
DTSTAMP:20260422T155810
CREATED:20250806T222338Z
LAST-MODIFIED:20250806T222338Z
UID:22730-1759658400-1759672800@soulofca.org
SUMMARY:Farmers Market Marina
DESCRIPTION:We have reached the end of September and it is officially Fall. The produce of summer is waning and the wonderful things which mature in the Fall are rolling in. Some of the markets are closing so be sure to check (at https://www.Montereycfb.com ).  In spite of this there are still lots of really good things to eat and prepared food to sample. In addition \, you are supporting our local farmers and businesses.
URL:https://soulofca.org/event/farmers-market-marina-21/
LOCATION:Marina Village Shopping Center\, Marina
END:VEVENT
BEGIN:VEVENT
DTSTART;TZID=America/Los_Angeles:20251005T100000
DTEND;TZID=America/Los_Angeles:20251005T140000
DTSTAMP:20260422T155810
CREATED:20250806T222534Z
LAST-MODIFIED:20250806T222534Z
UID:22732-1759658400-1759672800@soulofca.org
SUMMARY:Farmers Market Carmel Valley
DESCRIPTION:We have reached the end of September and it is officially Fall. The produce of summer is waning and the wonderful things which mature in the Fall are rolling in. Some of the markets are closing so be sure to check (at https://www.Montereycfb.com ).  In spite of this there are still lots of really good things to eat and prepared food to sample. In addition \, you are supporting our local farmers and businesses.
URL:https://soulofca.org/event/farmers-market-carmel-valley-19/
LOCATION:Cachagua Community Center\, 37210 Nason Road\, Carmel Valley\, CA\, 93924\, United States
END:VEVENT
BEGIN:VEVENT
DTSTART;TZID=America/Los_Angeles:20251005T100000
DTEND;TZID=America/Los_Angeles:20251005T140000
DTSTAMP:20260422T155810
CREATED:20251001T180341Z
LAST-MODIFIED:20251001T180341Z
UID:23261-1759658400-1759672800@soulofca.org
SUMMARY:Plant Sale @ Cooper Molera Adobe
DESCRIPTION:As you wander through downtown Monterey you will be struck by the historic adobes scattered through the area. Check out this one and find a little something that’s not strictly historical. But you can use it to decorate your home or garden. Check out https://www.coopermolera.org for the details.
URL:https://soulofca.org/event/plant-sale-cooper-molera-adobe/
LOCATION:Cooper-Molera Adobe\, Downtown Monterey\, Monterey\, CA\, 93940\, United States
END:VEVENT
END:VCALENDAR