BEGIN:VCALENDAR
VERSION:2.0
PRODID:-//Soul of CA - ECPv6.15.17//NONSGML v1.0//EN
CALSCALE:GREGORIAN
METHOD:PUBLISH
X-ORIGINAL-URL:https://soulofca.org
X-WR-CALDESC:Events for Soul of CA
REFRESH-INTERVAL;VALUE=DURATION:PT1H
X-Robots-Tag:noindex
X-PUBLISHED-TTL:PT1H
BEGIN:VTIMEZONE
TZID:America/Los_Angeles
BEGIN:DAYLIGHT
TZOFFSETFROM:-0800
TZOFFSETTO:-0700
TZNAME:PDT
DTSTART:20240310T100000
END:DAYLIGHT
BEGIN:STANDARD
TZOFFSETFROM:-0700
TZOFFSETTO:-0800
TZNAME:PST
DTSTART:20241103T090000
END:STANDARD
BEGIN:DAYLIGHT
TZOFFSETFROM:-0800
TZOFFSETTO:-0700
TZNAME:PDT
DTSTART:20250309T100000
END:DAYLIGHT
BEGIN:STANDARD
TZOFFSETFROM:-0700
TZOFFSETTO:-0800
TZNAME:PST
DTSTART:20251102T090000
END:STANDARD
BEGIN:DAYLIGHT
TZOFFSETFROM:-0800
TZOFFSETTO:-0700
TZNAME:PDT
DTSTART:20260308T100000
END:DAYLIGHT
BEGIN:STANDARD
TZOFFSETFROM:-0700
TZOFFSETTO:-0800
TZNAME:PST
DTSTART:20261101T090000
END:STANDARD
END:VTIMEZONE
BEGIN:VEVENT
DTSTART;TZID=America/Los_Angeles:20251002T120000
DTEND;TZID=America/Los_Angeles:20251005T220000
DTSTAMP:20260422T185104
CREATED:20250618T182837Z
LAST-MODIFIED:20250618T182837Z
UID:22050-1759406400-1759701600@soulofca.org
SUMMARY:Carmel International Film Festival
DESCRIPTION:Of course\, you can go to other film fests but you’d have to travel and spend lots of money on hotels etc. So why not come to a local one? There will be films\, the artists\, and minima; paparazzi. Check out their website and see why you will want to be there. Go to https://www.ciffest.com
URL:https://soulofca.org/event/carmel-international-film-festival/
LOCATION:Carmel BTS\, Carmel
END:VEVENT
BEGIN:VEVENT
DTSTART;TZID=America/Los_Angeles:20251003T110000
DTEND;TZID=America/Los_Angeles:20251005T160000
DTSTAMP:20260422T185104
CREATED:20250113T195355Z
LAST-MODIFIED:20250113T195355Z
UID:20441-1759489200-1759680000@soulofca.org
SUMMARY:California International Airshow
DESCRIPTION:It’s been roaring over the skies of the Salinas Valley for years now and shows every sign of continuing. This year it’s the first days of October and features the Blue Angels\, the Navy’s precision flyers. More info is at https://www.salinasairshow.com
URL:https://soulofca.org/event/california-international-airshow-3/
LOCATION:Salinas Airport\, Airport Drive\, Salinas\, CA\, 93905\, United States
END:VEVENT
BEGIN:VEVENT
DTSTART;TZID=America/Los_Angeles:20251004T080000
DTEND;TZID=America/Los_Angeles:20251004T120000
DTSTAMP:20260422T185104
CREATED:20250806T221844Z
LAST-MODIFIED:20250806T221844Z
UID:22724-1759564800-1759579200@soulofca.org
SUMMARY:Farmers Market Aptos
DESCRIPTION:We have reached the end of September and it is officially Fall. The produce of summer is waning and the wonderful things which mature in the Fall are rolling in. Some of the markets are closing so be sure to check (at https://www.Montereycfb.com ).  In spite of this there are still lots of really good things to eat and prepared food to sample. In addition \, you are supporting our local farmers and businesses.
URL:https://soulofca.org/event/farmers-market-aptos-18/
LOCATION:Cabrillo College Aptos Campus\, Cabrillo College 6500 Soquel Ave.\, Aptos\, CA\, 95003\, United States
END:VEVENT
BEGIN:VEVENT
DTSTART;TZID=America/Los_Angeles:20251004T080000
DTEND;TZID=America/Los_Angeles:20251004T120000
DTSTAMP:20260422T185104
CREATED:20250806T222154Z
LAST-MODIFIED:20250806T222154Z
UID:22728-1759564800-1759579200@soulofca.org
SUMMARY:Farmers Market Santa Cruz  (West)
DESCRIPTION:We have reached the end of September and it is officially Fall. The produce of summer is waning and the wonderful things which mature in the Fall are rolling in. Some of the markets are closing so be sure to check (at https://www.Montereycfb.com ).  In spite of this there are still lots of really good things to eat and prepared food to sample. In addition \, you are supporting our local farmers and businesses.
URL:https://soulofca.org/event/farmers-market-santa-cruz-west-17/
LOCATION:15th & East Cliff\, Santa Cruz\, United States
END:VEVENT
BEGIN:VEVENT
DTSTART;TZID=America/Los_Angeles:20251004T080000
DTEND;TZID=America/Los_Angeles:20251004T133000
DTSTAMP:20260422T185104
CREATED:20250113T194719Z
LAST-MODIFIED:20250113T194719Z
UID:20439-1759564800-1759584600@soulofca.org
SUMMARY:Poodle Day (In Carmel)
DESCRIPTION:You read that right. It’s Poodle Day\, a show and parade dedicated to the breed. Although they have broadened it to allow some mixes of Poodle and ?. You have to register if you want to walk your dog in the parade. Otherwise just show up with your dog. More info is to be had at https://www.poodleday.com
URL:https://soulofca.org/event/poodle-day-in-carmel/
LOCATION:Crossroads Shopping Village\, Rio Road and Highway 1\, Carmel\, CA\, 93923\, United States
END:VEVENT
BEGIN:VEVENT
DTSTART;TZID=America/Los_Angeles:20251004T080000
DTEND;TZID=America/Los_Angeles:20251004T170000
DTSTAMP:20260422T185104
CREATED:20250806T221337Z
LAST-MODIFIED:20250806T221337Z
UID:22720-1759564800-1759597200@soulofca.org
SUMMARY:Farmers Market Salinas
DESCRIPTION:We have reached the end of September and it is officially Fall. The produce of summer is waning and the wonderful things which mature in the Fall are rolling in. Some of the markets are closing so be sure to check (at https://www.Montereycfb.com ).  In spite of this there are still lots of really good things to eat and prepared food to sample. In addition \, you are supporting our local farmers and businesses.
URL:https://soulofca.org/event/farmers-market-salinas-17/
LOCATION:Downtown Salinas\, 1 Main St.\, Salinas\, CA\, 93901\, United States
END:VEVENT
BEGIN:VEVENT
DTSTART;TZID=America/Los_Angeles:20251004T080000
DTEND;TZID=America/Los_Angeles:20251004T170000
DTSTAMP:20260422T185104
CREATED:20250806T221554Z
LAST-MODIFIED:20250806T221554Z
UID:22722-1759564800-1759597200@soulofca.org
SUMMARY:Farmers Market Moss Landing
DESCRIPTION:We have reached the end of September and it is officially Fall. The produce of summer is waning and the wonderful things which mature in the Fall are rolling in. Some of the markets are closing so be sure to check (at https://www.Montereycfb.com ).  In spite of this there are still lots of really good things to eat and prepared food to sample. In addition \, you are supporting our local farmers and businesses.
URL:https://soulofca.org/event/farmers-market-moss-landing-20/
LOCATION:Power Plant\, Highway One\, Moss Landing\, CA\, United States
END:VEVENT
BEGIN:VEVENT
DTSTART;TZID=America/Los_Angeles:20251004T090000
DTEND;TZID=America/Los_Angeles:20251004T110000
DTSTAMP:20260422T185104
CREATED:20250924T201419Z
LAST-MODIFIED:20250924T201419Z
UID:23207-1759568400-1759575600@soulofca.org
SUMMARY:Cars &  Coffee
DESCRIPTION:In Watsonville\, where there are many car fans\, they gather on Saturday mornings and drink good coffee and discuss the qualities of their vehicles and those of many others. Just like they do the rest of the time but this one is more organized.  Come\, with or without your ride\, and  enjoy the chat and the brew. Info is at mannyjsolano@gmail.com
URL:https://soulofca.org/event/cars-coffee-16/
LOCATION:E. Lake Village Shopping Center\, 906 E. Lake Ave.\, Watsonville\, CA\, United States
END:VEVENT
BEGIN:VEVENT
DTSTART;TZID=America/Los_Angeles:20251004T100000
DTEND;TZID=America/Los_Angeles:20251004T113000
DTSTAMP:20260422T185104
CREATED:20250813T175925Z
LAST-MODIFIED:20250813T175925Z
UID:22746-1759572000-1759577400@soulofca.org
SUMMARY:Sculpting in Sand\, Snow & More
DESCRIPTION:The artist\, Rusty Croft\, is speaking and demonstrating his skill at sculpting in a remarkable variety of media. Maybe give some insight into how the other artists give shape to those remarkable sculptures that we see during the Sand Sculpting day at Carmel Beach. MOre info is at  https://www.focvl.org/event
URL:https://soulofca.org/event/sculpting-in-sand-snow-more/
LOCATION:Carmel Valley Branch Library\, 65 W. Carmel Valley Rd.\, Carmel Valley\, CA\, 93924\, United States
END:VEVENT
BEGIN:VEVENT
DTSTART;TZID=America/Los_Angeles:20251004T100000
DTEND;TZID=America/Los_Angeles:20251004T130000
DTSTAMP:20260422T185104
CREATED:20250924T202440Z
LAST-MODIFIED:20250924T202440Z
UID:23212-1759572000-1759582800@soulofca.org
SUMMARY:Take a Kid Mountain Biking Day
DESCRIPTION:What else is there to say? If you know a young person who rides a bike (with or without pedals) and that kid likes to ride in nature\, this is your activity. There will be lots of enthusiastic\, maturer riders to support and cheer enthusiastically while your young one has a great time riding the course that has been prepared. Go to their website and get all the details. It’s at https://www.morcamtb.org
URL:https://soulofca.org/event/take-a-kid-mountain-biking-day/
LOCATION:15301 Watkins Gate Rd.\, Marina\, CA\, United States
END:VEVENT
BEGIN:VEVENT
DTSTART;TZID=America/Los_Angeles:20251004T100000
DTEND;TZID=America/Los_Angeles:20251004T153000
DTSTAMP:20260422T185104
CREATED:20240927T222508Z
LAST-MODIFIED:20240927T222508Z
UID:19619-1759572000-1759591800@soulofca.org
SUMMARY:History Fun
DESCRIPTION:The Harvey-Baker House is part of the Heritage Plaza in downtown Salinas. The knowledgeable docents there are pleased to share the story of the families who lived in this building on the first Saturday of each month. It has been a part of Salinas’ history and has many  interesting pieces in their collection. While visiting there you can also check out the other historical buildings nearby. More details are to be found at https://www.firstmayorshouse.org
URL:https://soulofca.org/event/history-fun-9/
LOCATION:Harvey Baker House\, Station Plaza\, Salinas\, CA\, 93901\, United States
END:VEVENT
BEGIN:VEVENT
DTSTART;TZID=America/Los_Angeles:20251004T100000
DTEND;TZID=America/Los_Angeles:20251005T160000
DTSTAMP:20260422T185104
CREATED:20240927T220206Z
LAST-MODIFIED:20240927T220206Z
UID:19594-1759572000-1759680000@soulofca.org
SUMMARY:Railroad Days
DESCRIPTION:The first weekend of each month the members of the Monterey & Salinas Valley Railroad organization open their doors to the public. They have an extensive and detailed diorama display of the railway going through the Salinas Valley. Much more information about the local rail history than most of us have any idea about.  More information is available at their website https://www.msvrr.org
URL:https://soulofca.org/event/railroad-days-10/
LOCATION:Amtrak Station\, Market St. and Salinas St. \, Salinas\, CA\, 93901\, United States
END:VEVENT
BEGIN:VEVENT
DTSTART;TZID=America/Los_Angeles:20251004T110000
DTEND;TZID=America/Los_Angeles:20251004T160000
DTSTAMP:20260422T185104
CREATED:20250924T201841Z
LAST-MODIFIED:20250924T201841Z
UID:23210-1759575600-1759593600@soulofca.org
SUMMARY:Living History Days @ San Juan Bautista
DESCRIPTION:Imagine that some of the people who were among the first Europeans could talk to you and answer the many questions you might have about them and their lives. Here’s the next best thing. Folks who have spent a lot of time studying and preparing for their roles as pioneers and craftspeople from the earliest times of San Juan will be on hand to give you and your family a taste of  that era. It happens the first Saturday of every month.
URL:https://soulofca.org/event/living-history-days-san-juan-bautista-11/
LOCATION:san juan bautista mission\, 406 2nd St.\, San Juan Bautista Mission\, CA\, United States
END:VEVENT
BEGIN:VEVENT
DTSTART;TZID=America/Los_Angeles:20251004T120000
DTEND;TZID=America/Los_Angeles:20251004T180000
DTSTAMP:20260422T185104
CREATED:20251001T175618Z
LAST-MODIFIED:20251001T175618Z
UID:23256-1759579200-1759600800@soulofca.org
SUMMARY:1st Annual Seaside Music Festival
DESCRIPTION:They are beginning another music tradition in the city of Seaside. This is a six hour long fest of music\, food\, and fun. Several bands will perform and you can take it all in. Go to https://www.eventbrite.com for details etc.
URL:https://soulofca.org/event/1st-annual-seaside-music-festival/
LOCATION:490 Broadway\, 490 Broadway\, Seaside\, CA\, 93955\, United States
END:VEVENT
BEGIN:VEVENT
DTSTART;TZID=America/Los_Angeles:20251004T140000
DTEND;TZID=America/Los_Angeles:20251004T190000
DTSTAMP:20260422T185104
CREATED:20250806T221153Z
LAST-MODIFIED:20250806T221153Z
UID:22718-1759586400-1759604400@soulofca.org
SUMMARY:Farmers Market Watsonville
DESCRIPTION:We have reached the end of September and it is officially Fall. The produce of summer is waning and the wonderful things which mature in the Fall are rolling in. Some of the markets are closing so be sure to check (at https://www.Montereycfb.com ).  In spite of this there are still lots of really good things to eat and prepared food to sample. In addition \, you are supporting our local farmers and businesses.
URL:https://soulofca.org/event/farmers-market-watsonville-16/
LOCATION:Downtown Watsonville\, Downtown Plaza\, Watsonville\, CA\, 95076\, United States
END:VEVENT
BEGIN:VEVENT
DTSTART;TZID=America/Los_Angeles:20251004T170000
DTEND;TZID=America/Los_Angeles:20251004T190000
DTSTAMP:20260422T185104
CREATED:20250917T184546Z
LAST-MODIFIED:20250917T184546Z
UID:23151-1759597200-1759604400@soulofca.org
SUMMARY:Sunset Celebration @ Pt. Pinos
DESCRIPTION:What a lovely setting for the sunset. In addition\, there will be music\, food\, and tours of the lighthouse\, because that is where it’s all happening. The singing group\, River Voices will be performing and Michael’s Taqueria will be supplying the food. Go to https://www.pacificgroveheritage.org for all the details.
URL:https://soulofca.org/event/sunset-celebration-pt-pinos/
LOCATION:Pt. Pinos Lighthouse\, Ocean View Blvd.\, Pacific Grove\, CA\, 93950\, United States
END:VEVENT
END:VCALENDAR