BEGIN:VCALENDAR
VERSION:2.0
PRODID:-//Soul of CA - ECPv6.15.17//NONSGML v1.0//EN
CALSCALE:GREGORIAN
METHOD:PUBLISH
X-ORIGINAL-URL:https://soulofca.org
X-WR-CALDESC:Events for Soul of CA
REFRESH-INTERVAL;VALUE=DURATION:PT1H
X-Robots-Tag:noindex
X-PUBLISHED-TTL:PT1H
BEGIN:VTIMEZONE
TZID:America/Los_Angeles
BEGIN:DAYLIGHT
TZOFFSETFROM:-0800
TZOFFSETTO:-0700
TZNAME:PDT
DTSTART:20240310T100000
END:DAYLIGHT
BEGIN:STANDARD
TZOFFSETFROM:-0700
TZOFFSETTO:-0800
TZNAME:PST
DTSTART:20241103T090000
END:STANDARD
BEGIN:DAYLIGHT
TZOFFSETFROM:-0800
TZOFFSETTO:-0700
TZNAME:PDT
DTSTART:20250309T100000
END:DAYLIGHT
BEGIN:STANDARD
TZOFFSETFROM:-0700
TZOFFSETTO:-0800
TZNAME:PST
DTSTART:20251102T090000
END:STANDARD
BEGIN:DAYLIGHT
TZOFFSETFROM:-0800
TZOFFSETTO:-0700
TZNAME:PDT
DTSTART:20260308T100000
END:DAYLIGHT
BEGIN:STANDARD
TZOFFSETFROM:-0700
TZOFFSETTO:-0800
TZNAME:PST
DTSTART:20261101T090000
END:STANDARD
END:VTIMEZONE
BEGIN:VEVENT
DTSTART;TZID=America/Los_Angeles:20251002T120000
DTEND;TZID=America/Los_Angeles:20251005T220000
DTSTAMP:20260422T185204
CREATED:20250618T182837Z
LAST-MODIFIED:20250618T182837Z
UID:22050-1759406400-1759701600@soulofca.org
SUMMARY:Carmel International Film Festival
DESCRIPTION:Of course\, you can go to other film fests but you’d have to travel and spend lots of money on hotels etc. So why not come to a local one? There will be films\, the artists\, and minima; paparazzi. Check out their website and see why you will want to be there. Go to https://www.ciffest.com
URL:https://soulofca.org/event/carmel-international-film-festival/
LOCATION:Carmel BTS\, Carmel
END:VEVENT
BEGIN:VEVENT
DTSTART;VALUE=DATE:20251003
DTEND;VALUE=DATE:20251004
DTSTAMP:20260422T185204
CREATED:20250917T181026Z
LAST-MODIFIED:20250917T181026Z
UID:23140-1759449600-1759535999@soulofca.org
SUMMARY:Pacific Grove at 150
DESCRIPTION:Like so many other entities in California Pacific Grove is getting WAY up there in years. This exhibit\, which runs through the beginning of 2026 celebrates the long history and interesting stories of PG. This is the opening celebration and is but one of many events which will fill us in on the wonderful stories of the city. More details are at https://www.pacificgrovelibrary.org
URL:https://soulofca.org/event/pacific-grove-at-150/
LOCATION:Pacific Grove Public Library\, 550 Central Ave. \, Pacific Grove\, CA\, 93950\, United States
END:VEVENT
BEGIN:VEVENT
DTSTART;TZID=America/Los_Angeles:20251003T110000
DTEND;TZID=America/Los_Angeles:20251005T160000
DTSTAMP:20260422T185204
CREATED:20250113T195355Z
LAST-MODIFIED:20250113T195355Z
UID:20441-1759489200-1759680000@soulofca.org
SUMMARY:California International Airshow
DESCRIPTION:It’s been roaring over the skies of the Salinas Valley for years now and shows every sign of continuing. This year it’s the first days of October and features the Blue Angels\, the Navy’s precision flyers. More info is at https://www.salinasairshow.com
URL:https://soulofca.org/event/california-international-airshow-3/
LOCATION:Salinas Airport\, Airport Drive\, Salinas\, CA\, 93905\, United States
END:VEVENT
BEGIN:VEVENT
DTSTART;TZID=America/Los_Angeles:20251003T120000
DTEND;TZID=America/Los_Angeles:20251003T170000
DTSTAMP:20260422T185204
CREATED:20250806T220754Z
LAST-MODIFIED:20250806T220754Z
UID:22714-1759492800-1759510800@soulofca.org
SUMMARY:Farmers Market Salinas Valley Memorial Hospital
DESCRIPTION:We have reached the end of September and it is officially Fall. The produce of summer is waning and the wonderful things which mature in the Fall are rolling in. Some of the markets are closing so be sure to check (at https://www.Montereycfb.com ).  In spite of this there are still lots of really good things to eat and prepared food to sample. In addition \, you are supporting our local farmers and businesses.
URL:https://soulofca.org/event/farmers-market-salinas-valley-memorial-hospital-17/
LOCATION:Salinas Valley Memorial Hospital\, Romie Lane \, Salinas \, CA\, United States
END:VEVENT
BEGIN:VEVENT
DTSTART;TZID=America/Los_Angeles:20251003T160000
DTEND;TZID=America/Los_Angeles:20251003T210000
DTSTAMP:20260422T185204
CREATED:20250806T220912Z
LAST-MODIFIED:20250806T220912Z
UID:22716-1759507200-1759525200@soulofca.org
SUMMARY:Mercado Popular Salinas Sports Complex
DESCRIPTION:We have reached the end of September and it is officially Fall. The produce of summer is waning and the wonderful things which mature in the Fall are rolling in. Some of the markets are closing so be sure to check (at https://www.Montereycfb.com ).  In spite of this there are still lots of really good things to eat and prepared food to sample. In addition \, you are supporting our local farmers and businesses.
URL:https://soulofca.org/event/mercado-popular-salinas-sports-complex-21/
LOCATION:Salinas Sports Complex\, N. Main Street\, Salinas \, CA\, United States
END:VEVENT
BEGIN:VEVENT
DTSTART;TZID=America/Los_Angeles:20251003T173000
DTEND;TZID=America/Los_Angeles:20251003T203000
DTSTAMP:20260422T185204
CREATED:20250924T195841Z
LAST-MODIFIED:20250924T195841Z
UID:23205-1759512600-1759523400@soulofca.org
SUMMARY:Taste of Markon
DESCRIPTION:For ten years this high end produce company has been sponsoring this event with the chefs-in-training at Rancho Cielo Youth Campus with the expressed purpose of exposing the young people to some of the best ingredients and techniques. You can sample their work at this event. Got to https://www.ranchocieloyc.org and get all the details and tickets.
URL:https://soulofca.org/event/taste-of-markon/
LOCATION:Rancho Cielo  Youth Campus\, 710 Old stage Road\, Salinas\, CA\, 93907\, United States
END:VEVENT
BEGIN:VEVENT
DTSTART;TZID=America/Los_Angeles:20251003T180000
DTEND;TZID=America/Los_Angeles:20251003T210000
DTSTAMP:20260422T185204
CREATED:20250917T181920Z
LAST-MODIFIED:20250917T181920Z
UID:23142-1759514400-1759525200@soulofca.org
SUMMARY:Butterfly Days
DESCRIPTION:Since the Monarch butterflies make a regular stop in Pacific Grove it seems only natural to celebrate their delicacy and beauty. So we have Butterfly Days. The whole of the community celebrates with specials in the restaurants and fun throughout the town. Come by and see what it’s all about.
URL:https://soulofca.org/event/butterfly-days-2/
LOCATION:Downtown Pacific Grove\, Lighthouse Avenue\, Pacific Grove \, CA\, 93950\, United States
END:VEVENT
BEGIN:VEVENT
DTSTART;TZID=America/Los_Angeles:20251003T200000
DTEND;TZID=America/Los_Angeles:20251003T213000
DTSTAMP:20260422T185204
CREATED:20250827T191838Z
LAST-MODIFIED:20250827T191838Z
UID:22999-1759521600-1759527000@soulofca.org
SUMMARY:Jake Shimabukuro
DESCRIPTION:The Ukelele virtuoso is coming to the Central Coast and getting everyone on their feet and dancing. You should too. Got to the Rio Theater website and check out the info there. https://www.riotheatre\,com
URL:https://soulofca.org/event/jake-shimabukuro-4/
LOCATION:Rio Theater\, 1205 Soquel Ave.\, Santa Cruz\, CA\, 95062\, United States
END:VEVENT
END:VCALENDAR