BEGIN:VCALENDAR
VERSION:2.0
PRODID:-//Soul of CA - ECPv6.15.17//NONSGML v1.0//EN
CALSCALE:GREGORIAN
METHOD:PUBLISH
X-ORIGINAL-URL:https://soulofca.org
X-WR-CALDESC:Events for Soul of CA
REFRESH-INTERVAL;VALUE=DURATION:PT1H
X-Robots-Tag:noindex
X-PUBLISHED-TTL:PT1H
BEGIN:VTIMEZONE
TZID:America/Los_Angeles
BEGIN:DAYLIGHT
TZOFFSETFROM:-0800
TZOFFSETTO:-0700
TZNAME:PDT
DTSTART:20240310T100000
END:DAYLIGHT
BEGIN:STANDARD
TZOFFSETFROM:-0700
TZOFFSETTO:-0800
TZNAME:PST
DTSTART:20241103T090000
END:STANDARD
BEGIN:DAYLIGHT
TZOFFSETFROM:-0800
TZOFFSETTO:-0700
TZNAME:PDT
DTSTART:20250309T100000
END:DAYLIGHT
BEGIN:STANDARD
TZOFFSETFROM:-0700
TZOFFSETTO:-0800
TZNAME:PST
DTSTART:20251102T090000
END:STANDARD
BEGIN:DAYLIGHT
TZOFFSETFROM:-0800
TZOFFSETTO:-0700
TZNAME:PDT
DTSTART:20260308T100000
END:DAYLIGHT
BEGIN:STANDARD
TZOFFSETFROM:-0700
TZOFFSETTO:-0800
TZNAME:PST
DTSTART:20261101T090000
END:STANDARD
END:VTIMEZONE
BEGIN:VEVENT
DTSTART;VALUE=DATE:20250926
DTEND;VALUE=DATE:20250929
DTSTAMP:20260422T072357
CREATED:20250113T193700Z
LAST-MODIFIED:20250113T193700Z
UID:20435-1758844800-1759103999@soulofca.org
SUMMARY:Grid Life Laguna
DESCRIPTION:The music and motor fest is back.. They are having fun with good music and fast driving. In addition there will be demonstrations of drifting\, for those of us unfamiliar with the process. Sound like fun? Check out https://www.countyofmonterey.gov for the rest of the important info.
URL:https://soulofca.org/event/grid-life-laguna/
LOCATION:Weather Tech Laguna Seca Raceway\, 1021 Monterey Salinas Highway\, Salinas\, CA\, United States
END:VEVENT
BEGIN:VEVENT
DTSTART;VALUE=DATE:20250926
DTEND;VALUE=DATE:20250929
DTSTAMP:20260422T072357
CREATED:20250124T204010Z
LAST-MODIFIED:20250124T204010Z
UID:20706-1758844800-1759103999@soulofca.org
SUMMARY:Monterey Jazz Festival
DESCRIPTION:In spite of many efforts\, this is the main reason most folks have heard about Monterey. That’s a very good reason though. It’s been happening for 66 years now and going as strong as ever. The lineups consistently have great. well known\, and lesser known performers all performing in the lovely setting of the Fairgrounds. Hard to beat\, especially when the weather is cooperating.  To get all the info go to their website https://www.montereyjazzfestival.org
URL:https://soulofca.org/event/monterey-jazz-festival-5/
LOCATION:Monterey County Fair and Event Center\, 2004 Fairground Rd\,\, Monterey Road\, 93940\, United States
END:VEVENT
BEGIN:VEVENT
DTSTART;VALUE=DATE:20250926
DTEND;VALUE=DATE:20250929
DTSTAMP:20260422T072357
CREATED:20250702T200040Z
LAST-MODIFIED:20250702T200040Z
UID:22190-1758844800-1759103999@soulofca.org
SUMMARY:Grid Life Laguna Seca
DESCRIPTION:It’s a combination of racing\, music\, lifestyle\, and much more. Grid Life seems to be a celebration of all things related to auto racing. There will be a concert\, lots of fun activities and racing. More details are available at https://www.gridlifelaguna.com
URL:https://soulofca.org/event/grid-life-laguna-seca/
LOCATION:Weather Tech Laguna Seca Raceway\, 1021 Monterey Salinas Highway\, Salinas\, CA\, United States
END:VEVENT
BEGIN:VEVENT
DTSTART;TZID=America/Los_Angeles:20250926T080000
DTEND;TZID=America/Los_Angeles:20250926T120000
DTSTAMP:20260422T072357
CREATED:20250730T212608Z
LAST-MODIFIED:20250730T212608Z
UID:22638-1758873600-1758888000@soulofca.org
SUMMARY:Farmers Market  Del Monte Mall
DESCRIPTION:They say that our best weather is in October. Maybe it is\, but it marks the end of the season for several markets. Although the number of markets is shrinking the quality of the produce is consistent and the people who sell and grow are the best. Come out and find out for yourself. There are still many markets throughout the area.  If you can’t find your favorite go to https://www.montereycfb.com for another site or day.
URL:https://soulofca.org/event/farmers-market-del-monte-mall-34/
LOCATION:Del Monte Shopping Center\, Munras Ave.\, Monterey\, CA\, 93940\, United States
END:VEVENT
BEGIN:VEVENT
DTSTART;TZID=America/Los_Angeles:20250926T120000
DTEND;TZID=America/Los_Angeles:20250926T170000
DTSTAMP:20260422T072357
CREATED:20250730T212728Z
LAST-MODIFIED:20250730T212728Z
UID:22640-1758888000-1758906000@soulofca.org
SUMMARY:Farmers Market Salinas Valley Memorial Hospital
DESCRIPTION:They say that our best weather is in October. Maybe it is\, but it marks the end of the season for several markets. Although the number of markets is shrinking the quality of the produce is consistent and the people who sell and grow are the best. Come out and find out for yourself. There are still many markets throughout the area.  If you can’t find your favorite go to https://www.montereycfb.com for another site or day.
URL:https://soulofca.org/event/farmers-market-salinas-valley-memorial-hospital-16/
LOCATION:Salinas Valley Memorial Hospital\, Romie Lane \, Salinas \, CA\, United States
END:VEVENT
BEGIN:VEVENT
DTSTART;TZID=America/Los_Angeles:20250926T140000
DTEND;TZID=America/Los_Angeles:20250926T190000
DTSTAMP:20260422T072357
CREATED:20250730T213042Z
LAST-MODIFIED:20250730T213042Z
UID:22644-1758895200-1758913200@soulofca.org
SUMMARY:Farmers Market Watsonville
DESCRIPTION:They say that our best weather is in October. Maybe it is\, but it marks the end of the season for several markets. Although the number of markets is shrinking the quality of the produce is consistent and the people who sell and grow are the best. Come out and find out for yourself. There are still many markets throughout the area.  If you can’t find your favorite go to https://www.montereycfb.com for another site or day.
URL:https://soulofca.org/event/farmers-market-watsonville-15/
LOCATION:Downtown Watsonville\, Downtown Plaza\, Watsonville\, CA\, 95076\, United States
END:VEVENT
BEGIN:VEVENT
DTSTART;TZID=America/Los_Angeles:20250926T160000
DTEND;TZID=America/Los_Angeles:20250926T210000
DTSTAMP:20260422T072357
CREATED:20250730T212907Z
LAST-MODIFIED:20250730T212907Z
UID:22642-1758902400-1758920400@soulofca.org
SUMMARY:Mercado Popular Salinas Sports Complex
DESCRIPTION:They say that our best weather is in October. Maybe it is\, but it marks the end of the season for several markets. Although the number of markets is shrinking the quality of the produce is consistent and the people who sell and grow are the best. Come out and find out for yourself. There are still many markets throughout the area.  If you can’t find your favorite go to https://www.montereycfb.com for another site or day.
URL:https://soulofca.org/event/mercado-popular-salinas-sports-complex-20/
LOCATION:Salinas Sports Complex\, N. Main Street\, Salinas \, CA\, United States
END:VEVENT
BEGIN:VEVENT
DTSTART;TZID=America/Los_Angeles:20250926T190000
DTEND;TZID=America/Los_Angeles:20250928T170000
DTSTAMP:20260422T072357
CREATED:20250924T194054Z
LAST-MODIFIED:20250924T194054Z
UID:23198-1758913200-1759078800@soulofca.org
SUMMARY:Espiritu de Mexico
DESCRIPTION:The Ballet Folklorico de Santa Cruz is presenting their 45th anniversary show. Be prepared for sophisticated dancing and music and glorious costumes. Check out the website for details and tickets https://www.elteatrocampesino.com
URL:https://soulofca.org/event/espiritu-de-mexico/
LOCATION:El Teatro Campesino\, 705 Fourth St.\, San Juan Bautista\, CA\, United States
END:VEVENT
END:VCALENDAR