BEGIN:VCALENDAR
VERSION:2.0
PRODID:-//Soul of CA - ECPv6.15.17//NONSGML v1.0//EN
CALSCALE:GREGORIAN
METHOD:PUBLISH
X-ORIGINAL-URL:https://soulofca.org
X-WR-CALDESC:Events for Soul of CA
REFRESH-INTERVAL;VALUE=DURATION:PT1H
X-Robots-Tag:noindex
X-PUBLISHED-TTL:PT1H
BEGIN:VTIMEZONE
TZID:America/Los_Angeles
BEGIN:DAYLIGHT
TZOFFSETFROM:-0800
TZOFFSETTO:-0700
TZNAME:PDT
DTSTART:20240310T100000
END:DAYLIGHT
BEGIN:STANDARD
TZOFFSETFROM:-0700
TZOFFSETTO:-0800
TZNAME:PST
DTSTART:20241103T090000
END:STANDARD
BEGIN:DAYLIGHT
TZOFFSETFROM:-0800
TZOFFSETTO:-0700
TZNAME:PDT
DTSTART:20250309T100000
END:DAYLIGHT
BEGIN:STANDARD
TZOFFSETFROM:-0700
TZOFFSETTO:-0800
TZNAME:PST
DTSTART:20251102T090000
END:STANDARD
BEGIN:DAYLIGHT
TZOFFSETFROM:-0800
TZOFFSETTO:-0700
TZNAME:PDT
DTSTART:20260308T100000
END:DAYLIGHT
BEGIN:STANDARD
TZOFFSETFROM:-0700
TZOFFSETTO:-0800
TZNAME:PST
DTSTART:20261101T090000
END:STANDARD
END:VTIMEZONE
BEGIN:VEVENT
DTSTART;VALUE=DATE:20250919
DTEND;VALUE=DATE:20250922
DTSTAMP:20260422T185156
CREATED:20250113T201219Z
LAST-MODIFIED:20250113T201219Z
UID:20443-1758240000-1758499199@soulofca.org
SUMMARY:Pure Insurance Championship
DESCRIPTION:Since the courses are so beautiful\, the scenery is magnificent\, and the people so friendly\, why not have another big golf championship in Monterey County? Here it is. Lots of very talented golfers competing for big money will make for an interesting event. Check out the details at https://www.pureinsurancechampionship.com
URL:https://soulofca.org/event/pure-insurance-championship-6/
LOCATION:Lodge at Pebble Beach\, Pebble Beach\, CA\, 93953\, United States
END:VEVENT
BEGIN:VEVENT
DTSTART;TZID=America/Los_Angeles:20250920T100000
DTEND;TZID=America/Los_Angeles:20250921T170000
DTSTAMP:20260422T185156
CREATED:20250910T180540Z
LAST-MODIFIED:20250910T180540Z
UID:23085-1758362400-1758474000@soulofca.org
SUMMARY:Carmel Valley Gem & Mineral Show
DESCRIPTION:Rockhounds be aware\, but don’t go looking for this in Carmel Valley. It’s at the Monterey County Fairgrounds. Two wonderful days of gems\, rocks\, and so much more. So much of the Earth’s history is revealed in these dazzling wonders. Come out and find out why these folks can be so passionate. Info is at https://www.cvgms.rocks
URL:https://soulofca.org/event/carmel-valley-gem-mineral-show-3/
LOCATION:Monterey County Fairgrounds\, 2004 Fairground Rd.\, Monterey\, CA\, 93940\, United States
END:VEVENT
BEGIN:VEVENT
DTSTART;TZID=America/Los_Angeles:20250921T080000
DTEND;TZID=America/Los_Angeles:20250921T120000
DTSTAMP:20260422T185156
CREATED:20250723T221118Z
LAST-MODIFIED:20250723T221118Z
UID:22578-1758441600-1758456000@soulofca.org
SUMMARY:Farmers Market  Del Monte Mall
DESCRIPTION:Cooler nights\, clear afternoons and shorter days mean that autumn is around the corner\, officially. Here on the Central Coast it is still a good time for produce. Because of the variety of vegetables and produce we grow they are still quite fresh and tasty. If you lived elsewhere the situation would be different. So take advantage of this wonderful place and check out a Market. The friendly vendors and great selection will have you coming back\, often. More sites\, days and times are available at https://www.montereycfb.com
URL:https://soulofca.org/event/farmers-market-del-monte-mall-33/
LOCATION:Del Monte Shopping Center\, Munras Ave.\, Monterey\, CA\, 93940\, United States
END:VEVENT
BEGIN:VEVENT
DTSTART;TZID=America/Los_Angeles:20250921T090000
DTEND;TZID=America/Los_Angeles:20250921T130000
DTSTAMP:20260422T185156
CREATED:20250723T221229Z
LAST-MODIFIED:20250723T221229Z
UID:22580-1758445200-1758459600@soulofca.org
SUMMARY:Farmers Market Live Oak
DESCRIPTION:Cooler nights\, clear afternoons and shorter days mean that autumn is around the corner\, officially. Here on the Central Coast it is still a good time for produce. Because of the variety of vegetables and produce we grow they are still quite fresh and tasty. If you lived elsewhere the situation would be different. So take advantage of this wonderful place and check out a Market. The friendly vendors and great selection will have you coming back\, often. More sites\, days and times are available at https://www.montereycfb.com
URL:https://soulofca.org/event/farmers-market-live-oak-16/
LOCATION:Mission St & Western\, Santa Cruz\, CA\, United States
END:VEVENT
BEGIN:VEVENT
DTSTART;TZID=America/Los_Angeles:20250921T100000
DTEND;TZID=America/Los_Angeles:20250921T140000
DTSTAMP:20260422T185156
CREATED:20250723T220903Z
LAST-MODIFIED:20250723T220903Z
UID:22574-1758448800-1758463200@soulofca.org
SUMMARY:Farmers Market Marina
DESCRIPTION:Cooler nights\, clear afternoons and shorter days mean that autumn is around the corner\, officially. Here on the Central Coast it is still a good time for produce. Because of the variety of vegetables and produce we grow they are still quite fresh and tasty. If you lived elsewhere the situation would be different. So take advantage of this wonderful place and check out a Market. The friendly vendors and great selection will have you coming back\, often. More sites\, days and times are available at https://www.montereycfb.com
URL:https://soulofca.org/event/farmers-market-marina-19/
LOCATION:Marina Village Shopping Center\, Marina
END:VEVENT
BEGIN:VEVENT
DTSTART;TZID=America/Los_Angeles:20250921T100000
DTEND;TZID=America/Los_Angeles:20250921T140000
DTSTAMP:20260422T185156
CREATED:20250723T221012Z
LAST-MODIFIED:20250723T221012Z
UID:22576-1758448800-1758463200@soulofca.org
SUMMARY:Farmers Market Carmel Valley
DESCRIPTION:Cooler nights\, clear afternoons and shorter days mean that autumn is around the corner\, officially. Here on the Central Coast it is still a good time for produce. Because of the variety of vegetables and produce we grow they are still quite fresh and tasty. If you lived elsewhere the situation would be different. So take advantage of this wonderful place and check out a Market. The friendly vendors and great selection will have you coming back\, often. More sites\, days and times are available at https://www.montereycfb.com
URL:https://soulofca.org/event/farmers-market-carmel-valley-17/
LOCATION:Carmel Valley Community Center\, 25 Ford Rd.\, Carmel Valley\, CA\, 93924\, United States
END:VEVENT
END:VCALENDAR