BEGIN:VCALENDAR
VERSION:2.0
PRODID:-//Soul of CA - ECPv6.15.17//NONSGML v1.0//EN
CALSCALE:GREGORIAN
METHOD:PUBLISH
X-ORIGINAL-URL:https://soulofca.org
X-WR-CALDESC:Events for Soul of CA
REFRESH-INTERVAL;VALUE=DURATION:PT1H
X-Robots-Tag:noindex
X-PUBLISHED-TTL:PT1H
BEGIN:VTIMEZONE
TZID:America/Los_Angeles
BEGIN:DAYLIGHT
TZOFFSETFROM:-0800
TZOFFSETTO:-0700
TZNAME:PDT
DTSTART:20240310T100000
END:DAYLIGHT
BEGIN:STANDARD
TZOFFSETFROM:-0700
TZOFFSETTO:-0800
TZNAME:PST
DTSTART:20241103T090000
END:STANDARD
BEGIN:DAYLIGHT
TZOFFSETFROM:-0800
TZOFFSETTO:-0700
TZNAME:PDT
DTSTART:20250309T100000
END:DAYLIGHT
BEGIN:STANDARD
TZOFFSETFROM:-0700
TZOFFSETTO:-0800
TZNAME:PST
DTSTART:20251102T090000
END:STANDARD
BEGIN:DAYLIGHT
TZOFFSETFROM:-0800
TZOFFSETTO:-0700
TZNAME:PDT
DTSTART:20260308T100000
END:DAYLIGHT
BEGIN:STANDARD
TZOFFSETFROM:-0700
TZOFFSETTO:-0800
TZNAME:PST
DTSTART:20261101T090000
END:STANDARD
END:VTIMEZONE
BEGIN:VEVENT
DTSTART;VALUE=DATE:20250919
DTEND;VALUE=DATE:20250922
DTSTAMP:20260422T185147
CREATED:20250113T201219Z
LAST-MODIFIED:20250113T201219Z
UID:20443-1758240000-1758499199@soulofca.org
SUMMARY:Pure Insurance Championship
DESCRIPTION:Since the courses are so beautiful\, the scenery is magnificent\, and the people so friendly\, why not have another big golf championship in Monterey County? Here it is. Lots of very talented golfers competing for big money will make for an interesting event. Check out the details at https://www.pureinsurancechampionship.com
URL:https://soulofca.org/event/pure-insurance-championship-6/
LOCATION:Lodge at Pebble Beach\, Pebble Beach\, CA\, 93953\, United States
END:VEVENT
BEGIN:VEVENT
DTSTART;TZID=America/Los_Angeles:20250920T080000
DTEND;TZID=America/Los_Angeles:20250920T120000
DTSTAMP:20260422T185147
CREATED:20250723T220447Z
LAST-MODIFIED:20250723T220447Z
UID:22570-1758355200-1758369600@soulofca.org
SUMMARY:Farmers Market Aptos
DESCRIPTION:Cooler nights\, clear afternoons and shorter days mean that autumn is around the corner\, officially. Here on the Central Coast it is still a good time for produce. Because of the variety of vegetables and produce we grow they are still quite fresh and tasty. If you lived elsewhere the situation would be different. So take advantage of this wonderful place and check out a Market. The friendly vendors and great selection will have you coming back\, often. More sites\, days and times are available at https://www.montereycfb.com
URL:https://soulofca.org/event/farmers-market-aptos-16/
LOCATION:Cabrillo College Aptos Campus\, Cabrillo College 6500 Soquel Ave.\, Aptos\, CA\, 95003\, United States
END:VEVENT
BEGIN:VEVENT
DTSTART;TZID=America/Los_Angeles:20250920T090000
DTEND;TZID=America/Los_Angeles:20250920T130000
DTSTAMP:20260422T185147
CREATED:20250723T220643Z
LAST-MODIFIED:20250723T220643Z
UID:22572-1758358800-1758373200@soulofca.org
SUMMARY:Farmers Market Santa Cruz (West)
DESCRIPTION:Cooler nights\, clear afternoons and shorter days mean that autumn is around the corner\, officially. Here on the Central Coast it is still a good time for produce. Because of the variety of vegetables and produce we grow they are still quite fresh and tasty. If you lived elsewhere the situation would be different. So take advantage of this wonderful place and check out a Market. The friendly vendors and great selection will have you coming back\, often. More sites\, days and times are available at https://www.montereycfb.com
URL:https://soulofca.org/event/farmers-market-santa-cruz-west-15/
LOCATION:15th & East Cliff\, Santa Cruz\, United States
END:VEVENT
BEGIN:VEVENT
DTSTART;TZID=America/Los_Angeles:20250920T090000
DTEND;TZID=America/Los_Angeles:20250920T140000
DTSTAMP:20260422T185147
CREATED:20250723T220231Z
LAST-MODIFIED:20250723T220231Z
UID:22566-1758358800-1758376800@soulofca.org
SUMMARY:Farmers Market Salinas (downtown)
DESCRIPTION:Cooler nights\, clear afternoons and shorter days mean that autumn is around the corner\, officially. Here on the Central Coast it is still a good time for produce. Because of the variety of vegetables and produce we grow they are still quite fresh and tasty. If you lived elsewhere the situation would be different. So take advantage of this wonderful place and check out a Market. The friendly vendors and great selection will have you coming back\, often. More sites\, days and times are available at https://www.montereycfb.com
URL:https://soulofca.org/event/farmers-market-salinas-downtown-2/
LOCATION:Downtown Salinas\, 1 Main St.\, Salinas\, CA\, 93901\, United States
END:VEVENT
BEGIN:VEVENT
DTSTART;TZID=America/Los_Angeles:20250920T100000
DTEND;TZID=America/Los_Angeles:20250920T140000
DTSTAMP:20260422T185147
CREATED:20250723T220340Z
LAST-MODIFIED:20250723T220340Z
UID:22568-1758362400-1758376800@soulofca.org
SUMMARY:Farmers Market Moss Landing
DESCRIPTION:Cooler nights\, clear afternoons and shorter days mean that autumn is around the corner\, officially. Here on the Central Coast it is still a good time for produce. Because of the variety of vegetables and produce we grow they are still quite fresh and tasty. If you lived elsewhere the situation would be different. So take advantage of this wonderful place and check out a Market. The friendly vendors and great selection will have you coming back\, often. More sites\, days and times are available at https://www.montereycfb.com
URL:https://soulofca.org/event/farmers-market-moss-landing-18/
LOCATION:Power Plant\, Highway One\, Moss Landing\, CA\, United States
END:VEVENT
BEGIN:VEVENT
DTSTART;TZID=America/Los_Angeles:20250920T100000
DTEND;TZID=America/Los_Angeles:20250921T170000
DTSTAMP:20260422T185147
CREATED:20250910T180540Z
LAST-MODIFIED:20250910T180540Z
UID:23085-1758362400-1758474000@soulofca.org
SUMMARY:Carmel Valley Gem & Mineral Show
DESCRIPTION:Rockhounds be aware\, but don’t go looking for this in Carmel Valley. It’s at the Monterey County Fairgrounds. Two wonderful days of gems\, rocks\, and so much more. So much of the Earth’s history is revealed in these dazzling wonders. Come out and find out why these folks can be so passionate. Info is at https://www.cvgms.rocks
URL:https://soulofca.org/event/carmel-valley-gem-mineral-show-3/
LOCATION:Monterey County Fairgrounds\, 2004 Fairground Rd.\, Monterey\, CA\, 93940\, United States
END:VEVENT
BEGIN:VEVENT
DTSTART;TZID=America/Los_Angeles:20250920T110000
DTEND;TZID=America/Los_Angeles:20250920T150000
DTSTAMP:20260422T185147
CREATED:20250917T180614Z
LAST-MODIFIED:20250917T180614Z
UID:23137-1758366000-1758380400@soulofca.org
SUMMARY:Repair Cafe Monterey
DESCRIPTION:Actually\, the Repair Cafe is happening in Del Rey Oaks’ Old Town Hall. Bring your broken\, but salvageable items to be inspected and repaired by people who know how it’s done. Check their website for the types of things that will be worked on. Probably that non-working clock or whatever might be helped.  The website is https://www.repaircafe.org
URL:https://soulofca.org/event/repair-cafe-monterey/
LOCATION:old town hall\, 999 Angelus Way\, Del Rey Oaks\, CA\, United States
END:VEVENT
BEGIN:VEVENT
DTSTART;TZID=America/Los_Angeles:20250920T130000
DTEND;TZID=America/Los_Angeles:20250920T170000
DTSTAMP:20260422T185147
CREATED:20250903T174537Z
LAST-MODIFIED:20250903T174537Z
UID:23052-1758373200-1758387600@soulofca.org
SUMMARY:Oktoberfest
DESCRIPTION:Alvarado Street Brewery is holding their Oktoberfest celebration at Colton Hall’s lawn. You can taste their lovely autumnal brews and enjoy a lovely late summer afternoon.  (Actually\, the last one.) The expected things like food and music will be available and will add to the festive mood.
URL:https://soulofca.org/event/oktoberfest-4/
LOCATION:Colton Hall\, 570 Pacific St.\, Monterey\, CA\, 93940\, United States
END:VEVENT
BEGIN:VEVENT
DTSTART;TZID=America/Los_Angeles:20250920T160000
DTEND;TZID=America/Los_Angeles:20250920T183000
DTSTAMP:20260422T185147
CREATED:20250813T175533Z
LAST-MODIFIED:20250813T175533Z
UID:22743-1758384000-1758393000@soulofca.org
SUMMARY:Siembra Latinos Celebration
DESCRIPTION:In an effort to make sure that the Latino Community has the means of support to improve the economic and social position in their area this group points out and recognizes their leaders. Ms. Maria Elena Manzo is this year’s leader.  Likely to sell out so go to https://www.give.cfmco.org/event and get info and tickets.
URL:https://soulofca.org/event/siembra-latinos-celebration/
LOCATION:CRU Winery\, 37500 Foothill Rd.\, Soledad\, CA\, 93960\, United States
END:VEVENT
BEGIN:VEVENT
DTSTART;TZID=America/Los_Angeles:20250920T160000
DTEND;TZID=America/Los_Angeles:20250920T210000
DTSTAMP:20260422T185147
CREATED:20250806T182006Z
LAST-MODIFIED:20250806T182006Z
UID:22681-1758384000-1758402000@soulofca.org
SUMMARY:Relay for Life
DESCRIPTION:You know what this is\, a long walk to help the American Cancer Society. According to their website this relay is the second most successful one in the country. They raised almost $650K last year. and their goal is more than that this year. You can help. Or you can support their efforts. Either way\, it will be in downtown Salinas and easily watched. You can shout your support from the sidewalks. More info is available at
URL:https://soulofca.org/event/relay-for-life/
LOCATION:Downtown Salinas\, 1 Main St.\, Salinas\, CA\, 93901\, United States
END:VEVENT
BEGIN:VEVENT
DTSTART;TZID=America/Los_Angeles:20250920T190000
DTEND;TZID=America/Los_Angeles:20250920T213000
DTSTAMP:20260422T185147
CREATED:20250712T220158Z
LAST-MODIFIED:20250712T220158Z
UID:22364-1758394800-1758403800@soulofca.org
SUMMARY:Monterey Bay Football Club v. New Mexico
DESCRIPTION:Lots of enthusiasm has been building over at Cardinale Stadium on the CSUMB campus. You too can catch some of the fun that the Union develops. Come out to the stadium (bring a coat) and cheer for the Crisp and Kelp against New Mexico. They have several nicknames. But that doesn’t take away from the excitement and fun that watching them play can bring. Info about tickets\, parking etc. is at  https://www.montereyfc.com
URL:https://soulofca.org/event/monterey-bay-football-club-v-new-mexico/
LOCATION:Cardinale Stadium\, CSUMB campus\, Marina\, CA\, United States
END:VEVENT
END:VCALENDAR