BEGIN:VCALENDAR
VERSION:2.0
PRODID:-//Soul of CA - ECPv6.15.17//NONSGML v1.0//EN
CALSCALE:GREGORIAN
METHOD:PUBLISH
X-ORIGINAL-URL:https://soulofca.org
X-WR-CALDESC:Events for Soul of CA
REFRESH-INTERVAL;VALUE=DURATION:PT1H
X-Robots-Tag:noindex
X-PUBLISHED-TTL:PT1H
BEGIN:VTIMEZONE
TZID:America/Los_Angeles
BEGIN:DAYLIGHT
TZOFFSETFROM:-0800
TZOFFSETTO:-0700
TZNAME:PDT
DTSTART:20240310T100000
END:DAYLIGHT
BEGIN:STANDARD
TZOFFSETFROM:-0700
TZOFFSETTO:-0800
TZNAME:PST
DTSTART:20241103T090000
END:STANDARD
BEGIN:DAYLIGHT
TZOFFSETFROM:-0800
TZOFFSETTO:-0700
TZNAME:PDT
DTSTART:20250309T100000
END:DAYLIGHT
BEGIN:STANDARD
TZOFFSETFROM:-0700
TZOFFSETTO:-0800
TZNAME:PST
DTSTART:20251102T090000
END:STANDARD
BEGIN:DAYLIGHT
TZOFFSETFROM:-0800
TZOFFSETTO:-0700
TZNAME:PDT
DTSTART:20260308T100000
END:DAYLIGHT
BEGIN:STANDARD
TZOFFSETFROM:-0700
TZOFFSETTO:-0800
TZNAME:PST
DTSTART:20261101T090000
END:STANDARD
END:VTIMEZONE
BEGIN:VEVENT
DTSTART;VALUE=DATE:20250919
DTEND;VALUE=DATE:20250922
DTSTAMP:20260425T044347
CREATED:20250113T201219Z
LAST-MODIFIED:20250113T201219Z
UID:20443-1758240000-1758499199@soulofca.org
SUMMARY:Pure Insurance Championship
DESCRIPTION:Since the courses are so beautiful\, the scenery is magnificent\, and the people so friendly\, why not have another big golf championship in Monterey County? Here it is. Lots of very talented golfers competing for big money will make for an interesting event. Check out the details at https://www.pureinsurancechampionship.com
URL:https://soulofca.org/event/pure-insurance-championship-6/
LOCATION:Lodge at Pebble Beach\, Pebble Beach\, CA\, 93953\, United States
END:VEVENT
BEGIN:VEVENT
DTSTART;TZID=America/Los_Angeles:20250919T080000
DTEND;TZID=America/Los_Angeles:20250919T120000
DTSTAMP:20260425T044348
CREATED:20250723T215419Z
LAST-MODIFIED:20250723T215419Z
UID:22558-1758268800-1758283200@soulofca.org
SUMMARY:Farmers Market Del Monte Mall
DESCRIPTION:Cooler nights\, clear afternoons and shorter days mean that autumn is around the corner\, officially. Here on the Central Coast it is still a good time for produce. Because of the variety of vegetables and produce we grow they are still quite fresh and tasty. If you lived elsewhere the situation would be different. So take advantage of this wonderful place and check out a Market. The friendly vendors and great selection will have you coming back\, often. More sites\, days and times are available at https://www.montereycfb.com
URL:https://soulofca.org/event/farmers-market-del-monte-mall-32/
LOCATION:Del Monte Shopping Center\, Munras Ave.\, Monterey\, CA\, 93940\, United States
END:VEVENT
BEGIN:VEVENT
DTSTART;TZID=America/Los_Angeles:20250919T100000
DTEND;TZID=America/Los_Angeles:20250919T143000
DTSTAMP:20260425T044348
CREATED:20250910T180029Z
LAST-MODIFIED:20250910T180029Z
UID:23083-1758276000-1758292200@soulofca.org
SUMMARY:Parking Day
DESCRIPTION:It sure sounds like a unique occurrence\, and it is. It’s a celebration of parking spots but they are used for anything but parking. It could be a mini park\, a restaurant table\, or a city service truck\,an art display etc. You get the idea. Alvarado St in Monterey is the site of all this unusual parking. Come see what it’s all about.
URL:https://soulofca.org/event/parking-day/
LOCATION:Downtown Monterey\, Monterey\, CA\, United States
END:VEVENT
BEGIN:VEVENT
DTSTART;TZID=America/Los_Angeles:20250919T120000
DTEND;TZID=America/Los_Angeles:20250919T170000
DTSTAMP:20260425T044348
CREATED:20250723T215606Z
LAST-MODIFIED:20250723T215606Z
UID:22560-1758283200-1758301200@soulofca.org
SUMMARY:Farmers Market Salinas Valley Memorial Hospital
DESCRIPTION:Cooler nights\, clear afternoons and shorter days mean that autumn is around the corner\, officially. Here on the Central Coast it is still a good time for produce. Because of the variety of vegetables and produce we grow they are still quite fresh and tasty. If you lived elsewhere the situation would be different. So take advantage of this wonderful place and check out a Market. The friendly vendors and great selection will have you coming back\, often. More sites\, days and times are available at https://www.montereycfb.com
URL:https://soulofca.org/event/farmers-market-salinas-valley-memorial-hospital-15/
LOCATION:Salinas Valley Memorial Hospital\, Romie Lane \, Salinas \, CA\, United States
END:VEVENT
BEGIN:VEVENT
DTSTART;TZID=America/Los_Angeles:20250919T140000
DTEND;TZID=America/Los_Angeles:20250919T190000
DTSTAMP:20260425T044348
CREATED:20250723T220050Z
LAST-MODIFIED:20250723T220050Z
UID:22564-1758290400-1758308400@soulofca.org
SUMMARY:Farmers Market Watsonville
DESCRIPTION:Cooler nights\, clear afternoons and shorter days mean that autumn is around the corner\, officially. Here on the Central Coast it is still a good time for produce. Because of the variety of vegetables and produce we grow they are still quite fresh and tasty. If you lived elsewhere the situation would be different. So take advantage of this wonderful place and check out a Market. The friendly vendors and great selection will have you coming back\, often. More sites\, days and times are available at https://www.montereycfb.com
URL:https://soulofca.org/event/farmers-market-watsonville-14/
LOCATION:Downtown Watsonville\, Downtown Plaza\, Watsonville\, CA\, 95076\, United States
END:VEVENT
BEGIN:VEVENT
DTSTART;TZID=America/Los_Angeles:20250919T160000
DTEND;TZID=America/Los_Angeles:20250919T210000
DTSTAMP:20260425T044348
CREATED:20250723T215833Z
LAST-MODIFIED:20250723T215833Z
UID:22562-1758297600-1758315600@soulofca.org
SUMMARY:Mercado Popular @ Salinas Sports Complex
DESCRIPTION:Cooler nights\, clear afternoons and shorter days mean that autumn is around the corner\, officially. Here on the Central Coast it is still a good time for produce. Because of the variety of vegetables and produce we grow they are still quite fresh and tasty. If you lived elsewhere the situation would be different. So take advantage of this wonderful place and check out a Market. The friendly vendors and great selection will have you coming back\, often. More sites\, days and times are available at https://www.montereycfb.com
URL:https://soulofca.org/event/mercado-popular-salinas-sports-complex-19/
LOCATION:Salinas Sports Complex\, N. Main Street\, Salinas \, CA\, United States
END:VEVENT
BEGIN:VEVENT
DTSTART;TZID=America/Los_Angeles:20250919T180000
DTEND;TZID=America/Los_Angeles:20250919T203000
DTSTAMP:20260425T044348
CREATED:20250917T172215Z
LAST-MODIFIED:20250917T172215Z
UID:23135-1758304800-1758313800@soulofca.org
SUMMARY:Beatles Night @ The Stanton
DESCRIPTION:The Stanton Cdnter is hosting a Beatles night sponsored by the High Tea people at Rosemary & Thyme. The primary musician is David Holodiloff\, a local treasure. Certainly you can expect the best of music\, tea\, and crumpets (maybe).  More info is at https://www.rosemaryandthymehighteas.com
URL:https://soulofca.org/event/beatles-night-the-stanton/
LOCATION:Monterey History and Art at Stanton Center\, 5 Custom House Plaza\, Monterey\, CA\, 93940\, United States
END:VEVENT
BEGIN:VEVENT
DTSTART;TZID=America/Los_Angeles:20250919T200000
DTEND;TZID=America/Los_Angeles:20250919T213000
DTSTAMP:20260425T044348
CREATED:20250827T191543Z
LAST-MODIFIED:20250827T191543Z
UID:22997-1758312000-1758317400@soulofca.org
SUMMARY:Paula Poundstone
DESCRIPTION:The comedian and frequent guest on NPR’s Wait Wait Don’t Tell Me is coming to the Central Coast and you can come out and listen to her insights into modern life and the people who live it. More info at https://www.riotheatre.com
URL:https://soulofca.org/event/paula-poundstone-5/
LOCATION:Rio Theater\, 1205 Soquel Ave.\, Santa Cruz\, CA\, 95062\, United States
END:VEVENT
END:VCALENDAR