BEGIN:VCALENDAR
VERSION:2.0
PRODID:-//Soul of CA - ECPv6.15.17//NONSGML v1.0//EN
CALSCALE:GREGORIAN
METHOD:PUBLISH
X-ORIGINAL-URL:https://soulofca.org
X-WR-CALDESC:Events for Soul of CA
REFRESH-INTERVAL;VALUE=DURATION:PT1H
X-Robots-Tag:noindex
X-PUBLISHED-TTL:PT1H
BEGIN:VTIMEZONE
TZID:America/Los_Angeles
BEGIN:DAYLIGHT
TZOFFSETFROM:-0800
TZOFFSETTO:-0700
TZNAME:PDT
DTSTART:20240310T100000
END:DAYLIGHT
BEGIN:STANDARD
TZOFFSETFROM:-0700
TZOFFSETTO:-0800
TZNAME:PST
DTSTART:20241103T090000
END:STANDARD
BEGIN:DAYLIGHT
TZOFFSETFROM:-0800
TZOFFSETTO:-0700
TZNAME:PDT
DTSTART:20250309T100000
END:DAYLIGHT
BEGIN:STANDARD
TZOFFSETFROM:-0700
TZOFFSETTO:-0800
TZNAME:PST
DTSTART:20251102T090000
END:STANDARD
BEGIN:DAYLIGHT
TZOFFSETFROM:-0800
TZOFFSETTO:-0700
TZNAME:PDT
DTSTART:20260308T100000
END:DAYLIGHT
BEGIN:STANDARD
TZOFFSETFROM:-0700
TZOFFSETTO:-0800
TZNAME:PST
DTSTART:20261101T090000
END:STANDARD
END:VTIMEZONE
BEGIN:VEVENT
DTSTART;TZID=America/Los_Angeles:20250905T100000
DTEND;TZID=America/Los_Angeles:20250907T210000
DTSTAMP:20260422T185143
CREATED:20250124T203324Z
LAST-MODIFIED:20250124T203324Z
UID:20702-1757066400-1757278800@soulofca.org
SUMMARY:Festa Italia
DESCRIPTION:If you like Italian culture\, food wine\, or music this is the place to be they know how to do it\, they’ve been at it for 92 years. It’s all here\, and it lasts for three days. Check out their website for details about the performers and other attractions. Go to https://www.festaitaliamonterey.org
URL:https://soulofca.org/event/festa-italia-7/
LOCATION:Custom House Plaza\, 5 Custom House Plaza\, Monterey\, CA\, 93940\, United States
END:VEVENT
BEGIN:VEVENT
DTSTART;TZID=America/Los_Angeles:20250906T080000
DTEND;TZID=America/Los_Angeles:20250907T170000
DTSTAMP:20260422T185143
CREATED:20250813T181715Z
LAST-MODIFIED:20250813T181715Z
UID:22753-1757145600-1757264400@soulofca.org
SUMMARY:50th Walker Cup Competition
DESCRIPTION:Most of us don’t know about this. But some of the best young golfers in the USA\, against their peers Great Britain and Ireland are playing in this celebrated competition. It takes place at the Cypress Golf Club in Pebble Beach and promises to be as interesting and compelling as the better known golf events.  Go to https://www.championships.usga.org for lots of information and tickets.
URL:https://soulofca.org/event/50th-walker-cup-competition/
LOCATION:Cypress Golf Club\, 3150 17 Mile Dr.\, Pebble Beach\, United States
END:VEVENT
BEGIN:VEVENT
DTSTART;TZID=America/Los_Angeles:20250906T100000
DTEND;TZID=America/Los_Angeles:20250907T160000
DTSTAMP:20260422T185143
CREATED:20240927T220046Z
LAST-MODIFIED:20240927T220046Z
UID:19592-1757152800-1757260800@soulofca.org
SUMMARY:Railroad Days
DESCRIPTION:The first weekend of each month the members of the Monterey & Salinas Valley Railroad organization open their doors to the public. They have an extensive and detailed diorama display of the railway going through the Salinas Valley. Much more information about the local rail history than most of us have any idea about.  More information is available at their website https://www.msvrr.org
URL:https://soulofca.org/event/railroad-days-9/
LOCATION:Amtrak Station\, Market St. and Salinas St. \, Salinas\, CA\, 93901\, United States
END:VEVENT
BEGIN:VEVENT
DTSTART;TZID=America/Los_Angeles:20250907T080000
DTEND;TZID=America/Los_Angeles:20250907T120000
DTSTAMP:20260422T185143
CREATED:20250716T165904Z
LAST-MODIFIED:20250716T165904Z
UID:22419-1757232000-1757246400@soulofca.org
SUMMARY:Farmers Market  Del Monte Mall
DESCRIPTION:Well it’s official the “end” of summer is here. But here in the Central Coast the growing season is still rolling along. That means there are still lots of good\, fresh produce to be had at good prices. You will also find delicious food from various vendors that is ready to eat or to take home for a tasty meal. But you won’t know unless you come out and see for yourself.  Many more markets\, on different days\, are listed at https://www.montereycfb.com
URL:https://soulofca.org/event/farmers-market-del-monte-mall-29/
LOCATION:Del Monte Shopping Center\, Munras Ave.\, Monterey\, CA\, 93940\, United States
END:VEVENT
BEGIN:VEVENT
DTSTART;TZID=America/Los_Angeles:20250907T090000
DTEND;TZID=America/Los_Angeles:20250907T130000
DTSTAMP:20260422T185143
CREATED:20250716T170036Z
LAST-MODIFIED:20250716T170036Z
UID:22422-1757235600-1757250000@soulofca.org
SUMMARY:Farmers Market Live Oak
DESCRIPTION:Well it’s official the “end” of summer is here. But here in the Central Coast the growing season is still rolling along. That means there are still lots of good\, fresh produce to be had at good prices. You will also find delicious food from various vendors that is ready to eat or to take home for a tasty meal. But you won’t know unless you come out and see for yourself.  Many more markets\, on different days\, are listed at https://www.montereycfb.com
URL:https://soulofca.org/event/farmers-market-live-oak-14/
LOCATION:Mission St & Western\, Santa Cruz\, CA\, United States
END:VEVENT
BEGIN:VEVENT
DTSTART;TZID=America/Los_Angeles:20250907T100000
DTEND;TZID=America/Los_Angeles:20250907T140000
DTSTAMP:20260422T185143
CREATED:20250716T165624Z
LAST-MODIFIED:20250716T165624Z
UID:22415-1757239200-1757253600@soulofca.org
SUMMARY:Farmers Market Marina
DESCRIPTION:Well it’s official the “end” of summer is here. But here in the Central Coast the growing season is still rolling along. That means there are still lots of good\, fresh produce to be had at good prices. You will also find delicious food from various vendors that is ready to eat or to take home for a tasty meal. But you won’t know unless you come out and see for yourself.  Many more markets\, on different days\, are listed at https://www.montereycfb.com
URL:https://soulofca.org/event/farmers-market-marina-18/
LOCATION:Marina Village Shopping Center\, Marina
END:VEVENT
BEGIN:VEVENT
DTSTART;TZID=America/Los_Angeles:20250907T100000
DTEND;TZID=America/Los_Angeles:20250907T150000
DTSTAMP:20260422T185143
CREATED:20250716T165737Z
LAST-MODIFIED:20250716T165737Z
UID:22417-1757239200-1757257200@soulofca.org
SUMMARY:Farmers Market Carmel Valley
DESCRIPTION:Well it’s official the “end” of summer is here. But here in the Central Coast the growing season is still rolling along. That means there are still lots of good\, fresh produce to be had at good prices. You will also find delicious food from various vendors that is ready to eat or to take home for a tasty meal. But you won’t know unless you come out and see for yourself.  Many more markets\, on different days\, are listed at https://www.montereycfb.com
URL:https://soulofca.org/event/farmers-market-carmel-valley-15/
LOCATION:Carmel Valley Community Center\, 25 Ford Rd.\, Carmel Valley\, CA\, 93924\, United States
END:VEVENT
BEGIN:VEVENT
DTSTART;TZID=America/Los_Angeles:20250907T120000
DTEND;TZID=America/Los_Angeles:20250907T160000
DTSTAMP:20260422T185143
CREATED:20250618T180556Z
LAST-MODIFIED:20250618T180556Z
UID:22042-1757246400-1757260800@soulofca.org
SUMMARY:Touch-A-Truck Salinas
DESCRIPTION:If you have a youngster who likes trucks\, large vehicles\, or just needs a reason to get out of the house on a nice day\, here is a destination. Come down and get very close to a wide variety of wheeled vehicles. (And some others.) It supports local charities and is a lot of fun for all\, even the adults. More info is at https://www.givebutter.com/TATSalinasTickets
URL:https://soulofca.org/event/touch-a-truck-salinas/
LOCATION:Salinas Sports Complex\, N. Main Street\, Salinas \, CA\, United States
END:VEVENT
BEGIN:VEVENT
DTSTART;TZID=America/Los_Angeles:20250907T183000
DTEND;TZID=America/Los_Angeles:20250907T213000
DTSTAMP:20260422T185143
CREATED:20250806T174925Z
LAST-MODIFIED:20250806T174925Z
UID:22668-1757269800-1757280600@soulofca.org
SUMMARY:Point Sur Lighthouse Moonlight Tours
DESCRIPTION:One of the historic landmarks of the Central Coast is made even more appealing by moonlight. But then almost everything is made better by moonlight\, right? Come out and hear the tales of the people who lived and worked there and appreciate the isolation that was part of their lives. More details and ticket info (no reservations) are at https://www.pointsur.org
URL:https://soulofca.org/event/point-sur-lighthouse-moonlight-tours-2/
LOCATION:Point Sur Lighthouse\, Highway One \, CA\, United States
END:VEVENT
END:VCALENDAR