BEGIN:VCALENDAR
VERSION:2.0
PRODID:-//Soul of CA - ECPv6.15.17//NONSGML v1.0//EN
CALSCALE:GREGORIAN
METHOD:PUBLISH
X-ORIGINAL-URL:https://soulofca.org
X-WR-CALDESC:Events for Soul of CA
REFRESH-INTERVAL;VALUE=DURATION:PT1H
X-Robots-Tag:noindex
X-PUBLISHED-TTL:PT1H
BEGIN:VTIMEZONE
TZID:America/Los_Angeles
BEGIN:DAYLIGHT
TZOFFSETFROM:-0800
TZOFFSETTO:-0700
TZNAME:PDT
DTSTART:20240310T100000
END:DAYLIGHT
BEGIN:STANDARD
TZOFFSETFROM:-0700
TZOFFSETTO:-0800
TZNAME:PST
DTSTART:20241103T090000
END:STANDARD
BEGIN:DAYLIGHT
TZOFFSETFROM:-0800
TZOFFSETTO:-0700
TZNAME:PDT
DTSTART:20250309T100000
END:DAYLIGHT
BEGIN:STANDARD
TZOFFSETFROM:-0700
TZOFFSETTO:-0800
TZNAME:PST
DTSTART:20251102T090000
END:STANDARD
BEGIN:DAYLIGHT
TZOFFSETFROM:-0800
TZOFFSETTO:-0700
TZNAME:PDT
DTSTART:20260308T100000
END:DAYLIGHT
BEGIN:STANDARD
TZOFFSETFROM:-0700
TZOFFSETTO:-0800
TZNAME:PST
DTSTART:20261101T090000
END:STANDARD
END:VTIMEZONE
BEGIN:VEVENT
DTSTART;TZID=America/Los_Angeles:20250905T100000
DTEND;TZID=America/Los_Angeles:20250907T210000
DTSTAMP:20260422T185150
CREATED:20250124T203324Z
LAST-MODIFIED:20250124T203324Z
UID:20702-1757066400-1757278800@soulofca.org
SUMMARY:Festa Italia
DESCRIPTION:If you like Italian culture\, food wine\, or music this is the place to be they know how to do it\, they’ve been at it for 92 years. It’s all here\, and it lasts for three days. Check out their website for details about the performers and other attractions. Go to https://www.festaitaliamonterey.org
URL:https://soulofca.org/event/festa-italia-7/
LOCATION:Custom House Plaza\, 5 Custom House Plaza\, Monterey\, CA\, 93940\, United States
END:VEVENT
BEGIN:VEVENT
DTSTART;TZID=America/Los_Angeles:20250906T080000
DTEND;TZID=America/Los_Angeles:20250906T120000
DTSTAMP:20260422T185150
CREATED:20250716T165243Z
LAST-MODIFIED:20250716T165243Z
UID:22411-1757145600-1757160000@soulofca.org
SUMMARY:Farmers Market Aptos
DESCRIPTION:Well it’s official the “end” of summer is here. But here in the Central Coast the growing season is still rolling along. That means there are still lots of good\, fresh produce to be had at good prices. You will also find delicious food from various vendors that is ready to eat or to take home for a tasty meal. But you won’t know unless you come out and see for yourself.  Many more markets\, on different days\, are listed at https://www.montereycfb.com
URL:https://soulofca.org/event/farmers-market-aptos-14/
LOCATION:Cabrillo College Aptos Campus\, Cabrillo College 6500 Soquel Ave.\, Aptos\, CA\, 95003\, United States
END:VEVENT
BEGIN:VEVENT
DTSTART;TZID=America/Los_Angeles:20250906T080000
DTEND;TZID=America/Los_Angeles:20250906T170000
DTSTAMP:20260422T185150
CREATED:20250827T191031Z
LAST-MODIFIED:20250827T191031Z
UID:22995-1757145600-1757178000@soulofca.org
SUMMARY:Afternoon With the Curator
DESCRIPTION:Some of us wonder how it is that decisions are made about the art that gets displayed in galleries and museums. Here’s a chance to get a “behind the scenes” look at a curator’s work. Casey Madden\, the Executive director of the Monterey Museum of Art is appearing at the Pacific Grove Art Center ND talking about the show currently displayed there. More info can be found at  https://www.pgartcenter.org or https://www.imagemakers.photo
URL:https://soulofca.org/event/afternoon-with-the-curator/
LOCATION:Pacific Grove Art Center\, 568 Lighthouse Ave.\, Pacific Grove\, CA\, 93950\, United States
END:VEVENT
BEGIN:VEVENT
DTSTART;TZID=America/Los_Angeles:20250906T080000
DTEND;TZID=America/Los_Angeles:20250907T170000
DTSTAMP:20260422T185150
CREATED:20250813T181715Z
LAST-MODIFIED:20250813T181715Z
UID:22753-1757145600-1757264400@soulofca.org
SUMMARY:50th Walker Cup Competition
DESCRIPTION:Most of us don’t know about this. But some of the best young golfers in the USA\, against their peers Great Britain and Ireland are playing in this celebrated competition. It takes place at the Cypress Golf Club in Pebble Beach and promises to be as interesting and compelling as the better known golf events.  Go to https://www.championships.usga.org for lots of information and tickets.
URL:https://soulofca.org/event/50th-walker-cup-competition/
LOCATION:Cypress Golf Club\, 3150 17 Mile Dr.\, Pebble Beach\, United States
END:VEVENT
BEGIN:VEVENT
DTSTART;TZID=America/Los_Angeles:20250906T090000
DTEND;TZID=America/Los_Angeles:20250906T130000
DTSTAMP:20260422T185150
CREATED:20250716T165409Z
LAST-MODIFIED:20250716T165409Z
UID:22413-1757149200-1757163600@soulofca.org
SUMMARY:Farmers Market Santa Cruz (West)
DESCRIPTION:Well it’s official the “end” of summer is here. But here in the Central Coast the growing season is still rolling along. That means there are still lots of good\, fresh produce to be had at good prices. You will also find delicious food from various vendors that is ready to eat or to take home for a tasty meal. But you won’t know unless you come out and see for yourself.  Many more markets\, on different days\, are listed at https://www.montereycfb.com
URL:https://soulofca.org/event/farmers-market-santa-cruz-west-13/
LOCATION:15th & East Cliff\, Santa Cruz\, United States
END:VEVENT
BEGIN:VEVENT
DTSTART;TZID=America/Los_Angeles:20250906T090000
DTEND;TZID=America/Los_Angeles:20250906T140000
DTSTAMP:20260422T185150
CREATED:20250716T165022Z
LAST-MODIFIED:20250716T165022Z
UID:22407-1757149200-1757167200@soulofca.org
SUMMARY:Farmers Market Salinas
DESCRIPTION:Well it’s official the “end” of summer is here. But here in the Central Coast the growing season is still rolling along. That means there are still lots of good\, fresh produce to be had at good prices. You will also find delicious food from various vendors that is ready to eat or to take home for a tasty meal. But you won’t know unless you come out and see for yourself.  Many more markets\, on different days\, are listed at https://www.montereycfb.com
URL:https://soulofca.org/event/farmers-market-salinas-15/
LOCATION:Downtown Salinas\, 1 Main St.\, Salinas\, CA\, 93901\, United States
END:VEVENT
BEGIN:VEVENT
DTSTART;TZID=America/Los_Angeles:20250906T100000
DTEND;TZID=America/Los_Angeles:20250906T140000
DTSTAMP:20260422T185150
CREATED:20250716T165121Z
LAST-MODIFIED:20250716T165121Z
UID:22409-1757152800-1757167200@soulofca.org
SUMMARY:Farmers Market Moss Landing
DESCRIPTION:Well it’s official the “end” of summer is here. But here in the Central Coast the growing season is still rolling along. That means there are still lots of good\, fresh produce to be had at good prices. You will also find delicious food from various vendors that is ready to eat or to take home for a tasty meal. But you won’t know unless you come out and see for yourself.  Many more markets\, on different days\, are listed at https://www.montereycfb.com
URL:https://soulofca.org/event/farmers-market-moss-landing-16/
LOCATION:Power Plant\, Highway One\, Moss Landing\, CA\, United States
END:VEVENT
BEGIN:VEVENT
DTSTART;TZID=America/Los_Angeles:20250906T100000
DTEND;TZID=America/Los_Angeles:20250906T150000
DTSTAMP:20260422T185150
CREATED:20240927T222355Z
LAST-MODIFIED:20240927T222355Z
UID:19617-1757152800-1757170800@soulofca.org
SUMMARY:History Fun
DESCRIPTION:The Harvey-Baker House is part of the Heritage Plaza in downtown Salinas. The knowledgeable docents there are pleased to share the story of the families who lived in this building on the first Saturday of each month. It has been a part of Salinas’ history and has many  interesting pieces in their collection. While visiting there you can also check out the other historical buildings nearby. More details are to be found at https://www.firstmayorshouse.org
URL:https://soulofca.org/event/history-fun-8/
LOCATION:Harvey Baker House\, Station Plaza\, Salinas\, CA\, 93901\, United States
END:VEVENT
BEGIN:VEVENT
DTSTART;TZID=America/Los_Angeles:20250906T100000
DTEND;TZID=America/Los_Angeles:20250907T160000
DTSTAMP:20260422T185150
CREATED:20240927T220046Z
LAST-MODIFIED:20240927T220046Z
UID:19592-1757152800-1757260800@soulofca.org
SUMMARY:Railroad Days
DESCRIPTION:The first weekend of each month the members of the Monterey & Salinas Valley Railroad organization open their doors to the public. They have an extensive and detailed diorama display of the railway going through the Salinas Valley. Much more information about the local rail history than most of us have any idea about.  More information is available at their website https://www.msvrr.org
URL:https://soulofca.org/event/railroad-days-9/
LOCATION:Amtrak Station\, Market St. and Salinas St. \, Salinas\, CA\, 93901\, United States
END:VEVENT
END:VCALENDAR