BEGIN:VCALENDAR
VERSION:2.0
PRODID:-//Soul of CA - ECPv6.15.17//NONSGML v1.0//EN
CALSCALE:GREGORIAN
METHOD:PUBLISH
X-ORIGINAL-URL:https://soulofca.org
X-WR-CALDESC:Events for Soul of CA
REFRESH-INTERVAL;VALUE=DURATION:PT1H
X-Robots-Tag:noindex
X-PUBLISHED-TTL:PT1H
BEGIN:VTIMEZONE
TZID:America/Los_Angeles
BEGIN:DAYLIGHT
TZOFFSETFROM:-0800
TZOFFSETTO:-0700
TZNAME:PDT
DTSTART:20240310T100000
END:DAYLIGHT
BEGIN:STANDARD
TZOFFSETFROM:-0700
TZOFFSETTO:-0800
TZNAME:PST
DTSTART:20241103T090000
END:STANDARD
BEGIN:DAYLIGHT
TZOFFSETFROM:-0800
TZOFFSETTO:-0700
TZNAME:PDT
DTSTART:20250309T100000
END:DAYLIGHT
BEGIN:STANDARD
TZOFFSETFROM:-0700
TZOFFSETTO:-0800
TZNAME:PST
DTSTART:20251102T090000
END:STANDARD
BEGIN:DAYLIGHT
TZOFFSETFROM:-0800
TZOFFSETTO:-0700
TZNAME:PDT
DTSTART:20260308T100000
END:DAYLIGHT
BEGIN:STANDARD
TZOFFSETFROM:-0700
TZOFFSETTO:-0800
TZNAME:PST
DTSTART:20261101T090000
END:STANDARD
END:VTIMEZONE
BEGIN:VEVENT
DTSTART;TZID=America/Los_Angeles:20250903T110000
DTEND;TZID=America/Los_Angeles:20250903T153000
DTSTAMP:20260422T072349
CREATED:20250716T162758Z
LAST-MODIFIED:20250716T162758Z
UID:22382-1756897200-1756913400@soulofca.org
SUMMARY:Farmers Market Natividad Hospital
DESCRIPTION:Well it’s official the “end” of summer is here. But here in the Central Coast the growing season is still rolling along. That means there are still lots of good\, fresh produce to be had at good prices. You will also find delicious food from various vendors that is ready to eat or to take home for a tasty meal. But you won’t know unless you come out and see for yourself.  Many more markets\, on different days\, are listed at https://www.montereycfb.com
URL:https://soulofca.org/event/farmers-market-natividad-hospital-14/
LOCATION:Natividad Hospital\, E. Laurel Dr.\, Salinas\, United States
END:VEVENT
BEGIN:VEVENT
DTSTART;TZID=America/Los_Angeles:20250903T130000
DTEND;TZID=America/Los_Angeles:20250903T170000
DTSTAMP:20260422T072349
CREATED:20250716T163208Z
LAST-MODIFIED:20250716T163208Z
UID:22388-1756904400-1756918800@soulofca.org
SUMMARY:Farmers Market Santa Cruz (downtown)
DESCRIPTION:Well it’s official the “end” of summer is here. But here in the Central Coast the growing season is still rolling along. That means there are still lots of good\, fresh produce to be had at good prices. You will also find delicious food from various vendors that is ready to eat or to take home for a tasty meal. But you won’t know unless you come out and see for yourself.  Many more markets\, on different days\, are listed at https://www.montereycfb.com
URL:https://soulofca.org/event/farmers-market-santa-cruz-downtown-11/
LOCATION:Cedar & Lincoln Sts.\, Santa Cruz\, CA\, United States
END:VEVENT
BEGIN:VEVENT
DTSTART;TZID=America/Los_Angeles:20250903T150000
DTEND;TZID=America/Los_Angeles:20250903T190000
DTSTAMP:20260422T072349
CREATED:20250716T163036Z
LAST-MODIFIED:20250716T163036Z
UID:22386-1756911600-1756926000@soulofca.org
SUMMARY:Farmers Market Hollister
DESCRIPTION:Well it’s official the “end” of summer is here. But here in the Central Coast the growing season is still rolling along. That means there are still lots of good\, fresh produce to be had at good prices. You will also find delicious food from various vendors that is ready to eat or to take home for a tasty meal. But you won’t know unless you come out and see for yourself.  Many more markets\, on different days\, are listed at https://www.montereycfb.com
URL:https://soulofca.org/event/farmers-market-hollister-14/
LOCATION:Downtown Hollister\, Hollister\, CA\, United States
END:VEVENT
BEGIN:VEVENT
DTSTART;TZID=America/Los_Angeles:20250903T160000
DTEND;TZID=America/Los_Angeles:20250903T190000
DTSTAMP:20260422T072350
CREATED:20250716T162919Z
LAST-MODIFIED:20250716T162919Z
UID:22384-1756915200-1756926000@soulofca.org
SUMMARY:Farmers Market King City
DESCRIPTION:Well it’s official the “end” of summer is here. But here in the Central Coast the growing season is still rolling along. That means there are still lots of good\, fresh produce to be had at good prices. You will also find delicious food from various vendors that is ready to eat or to take home for a tasty meal. But you won’t know unless you come out and see for yourself.  Many more markets\, on different days\, are listed at https://www.montereycfb.com
URL:https://soulofca.org/event/farmers-market-king-city-14/
LOCATION:Downtown King City\, King City\, CA\, United States
END:VEVENT
END:VCALENDAR