BEGIN:VCALENDAR
VERSION:2.0
PRODID:-//Soul of CA - ECPv6.15.17//NONSGML v1.0//EN
CALSCALE:GREGORIAN
METHOD:PUBLISH
X-ORIGINAL-URL:https://soulofca.org
X-WR-CALDESC:Events for Soul of CA
REFRESH-INTERVAL;VALUE=DURATION:PT1H
X-Robots-Tag:noindex
X-PUBLISHED-TTL:PT1H
BEGIN:VTIMEZONE
TZID:America/Los_Angeles
BEGIN:DAYLIGHT
TZOFFSETFROM:-0800
TZOFFSETTO:-0700
TZNAME:PDT
DTSTART:20240310T100000
END:DAYLIGHT
BEGIN:STANDARD
TZOFFSETFROM:-0700
TZOFFSETTO:-0800
TZNAME:PST
DTSTART:20241103T090000
END:STANDARD
BEGIN:DAYLIGHT
TZOFFSETFROM:-0800
TZOFFSETTO:-0700
TZNAME:PDT
DTSTART:20250309T100000
END:DAYLIGHT
BEGIN:STANDARD
TZOFFSETFROM:-0700
TZOFFSETTO:-0800
TZNAME:PST
DTSTART:20251102T090000
END:STANDARD
BEGIN:DAYLIGHT
TZOFFSETFROM:-0800
TZOFFSETTO:-0700
TZNAME:PDT
DTSTART:20260308T100000
END:DAYLIGHT
BEGIN:STANDARD
TZOFFSETFROM:-0700
TZOFFSETTO:-0800
TZNAME:PST
DTSTART:20261101T090000
END:STANDARD
END:VTIMEZONE
BEGIN:VEVENT
DTSTART;TZID=America/Los_Angeles:20250902T090000
DTEND;TZID=America/Los_Angeles:20250902T130000
DTSTAMP:20260422T185158
CREATED:20250716T162625Z
LAST-MODIFIED:20250716T162625Z
UID:22380-1756803600-1756818000@soulofca.org
SUMMARY:Farmers Market Barnyard
DESCRIPTION:Well it’s official the “end” of summer is here. But here in the Central Coast the growing season is still rolling along. That means there are still lots of good\, fresh produce to be had at good prices. You will also find delicious food from various vendors that is ready to eat or to take home for a tasty meal. But you won’t know unless you come out and see for yourself.  Many more markets\, on different days\, are listed at https://www.montereycfb.com
URL:https://soulofca.org/event/farmers-market-barnyard-14/
LOCATION:The Barnyard\, Barnyard Shopping Center\, Carmel by the Sea\, CA\, United States
END:VEVENT
BEGIN:VEVENT
DTSTART;TZID=America/Los_Angeles:20250902T110000
DTEND;TZID=America/Los_Angeles:20250902T160000
DTSTAMP:20260422T185158
CREATED:20250716T162510Z
LAST-MODIFIED:20250716T162510Z
UID:22378-1756810800-1756828800@soulofca.org
SUMMARY:Farmers Market E. Alisal
DESCRIPTION:Well it’s official the “end” of summer is here. But here in the Central Coast the growing season is still rolling along. That means there are still lots of good\, fresh produce to be had at good prices. You will also find delicious food from various vendors that is ready to eat or to take home for a tasty meal. But you won’t know unless you come out and see for yourself.  Many more markets\, on different days\, are listed at https://www.montereycfb.com
URL:https://soulofca.org/event/farmers-market-e-alisal-15/
LOCATION:WIC Office\, 632 E. Alisal St.\, Salinas\, CA\, United States
END:VEVENT
BEGIN:VEVENT
DTSTART;TZID=America/Los_Angeles:20250902T160000
DTEND;TZID=America/Los_Angeles:20250902T190000
DTSTAMP:20260422T185158
CREATED:20250716T162327Z
LAST-MODIFIED:20250716T162327Z
UID:22376-1756828800-1756839600@soulofca.org
SUMMARY:Farmers Market Monterey
DESCRIPTION:Well it’s official the “end” of summer is here. But here in the Central Coast the growing season is still rolling along. That means there are still lots of good\, fresh produce to be had at good prices. You will also find delicious food from various vendors that is ready to eat or to take home for a tasty meal. But you won’t know unless you come out and see for yourself.  Many more markets\, on different days\, are listed at https://www.montereycfb.com
URL:https://soulofca.org/event/farmers-market-monterey-15/
LOCATION:Downtown Monterey\, Monterey\, CA\, United States
END:VEVENT
END:VCALENDAR