BEGIN:VCALENDAR
VERSION:2.0
PRODID:-//Soul of CA - ECPv6.15.17//NONSGML v1.0//EN
CALSCALE:GREGORIAN
METHOD:PUBLISH
X-ORIGINAL-URL:https://soulofca.org
X-WR-CALDESC:Events for Soul of CA
REFRESH-INTERVAL;VALUE=DURATION:PT1H
X-Robots-Tag:noindex
X-PUBLISHED-TTL:PT1H
BEGIN:VTIMEZONE
TZID:America/Los_Angeles
BEGIN:DAYLIGHT
TZOFFSETFROM:-0800
TZOFFSETTO:-0700
TZNAME:PDT
DTSTART:20240310T100000
END:DAYLIGHT
BEGIN:STANDARD
TZOFFSETFROM:-0700
TZOFFSETTO:-0800
TZNAME:PST
DTSTART:20241103T090000
END:STANDARD
BEGIN:DAYLIGHT
TZOFFSETFROM:-0800
TZOFFSETTO:-0700
TZNAME:PDT
DTSTART:20250309T100000
END:DAYLIGHT
BEGIN:STANDARD
TZOFFSETFROM:-0700
TZOFFSETTO:-0800
TZNAME:PST
DTSTART:20251102T090000
END:STANDARD
BEGIN:DAYLIGHT
TZOFFSETFROM:-0800
TZOFFSETTO:-0700
TZNAME:PDT
DTSTART:20260308T100000
END:DAYLIGHT
BEGIN:STANDARD
TZOFFSETFROM:-0700
TZOFFSETTO:-0800
TZNAME:PST
DTSTART:20261101T090000
END:STANDARD
END:VTIMEZONE
BEGIN:VEVENT
DTSTART;VALUE=DATE:20250828
DTEND;VALUE=DATE:20250902
DTSTAMP:20260422T155840
CREATED:20250813T174339Z
LAST-MODIFIED:20250813T174339Z
UID:22738-1756339200-1756771199@soulofca.org
SUMMARY:Monterey County Fair
DESCRIPTION:It’s back. And the theme is Surfin’ Safari. The regular activities and amusements are in place and all the wonderful food and exhibits are also. The only thing missing is you and your family.  So check out their website and see which day or days would be best for you and get over there. It’s at https://www.montereycountyfair.com
URL:https://soulofca.org/event/monterey-county-fair-8/
LOCATION:Monterey County Fairgrounds\, 2004 Fairground Rd.\, Monterey\, CA\, 93940\, United States
END:VEVENT
BEGIN:VEVENT
DTSTART;TZID=America/Los_Angeles:20250901T150000
DTEND;TZID=America/Los_Angeles:20250901T180000
DTSTAMP:20260422T155840
CREATED:20250716T162137Z
LAST-MODIFIED:20250716T162137Z
UID:22374-1756738800-1756749600@soulofca.org
SUMMARY:Farmers Market Pacific Grove
DESCRIPTION:Well it’s official the “end” of summer is here. But here in the Central Coast the growing season is still rolling along. That means there are still lots of good\, fresh produce to be had at good prices. You will also find delicious food from various vendors that is ready to eat or to take home for a tasty meal. But you won’t know unless you come out and see for yourself.  Many more markets\, on different days\, are listed at https://www.montereycfb.com
URL:https://soulofca.org/event/farmers-market-pacific-grove-17/
LOCATION:Downtown Pacific Grove\, Lighthouse Avenue\, Pacific Grove \, CA\, 93950\, United States
END:VEVENT
END:VCALENDAR