BEGIN:VCALENDAR
VERSION:2.0
PRODID:-//Soul of CA - ECPv6.15.17//NONSGML v1.0//EN
CALSCALE:GREGORIAN
METHOD:PUBLISH
X-ORIGINAL-URL:https://soulofca.org
X-WR-CALDESC:Events for Soul of CA
REFRESH-INTERVAL;VALUE=DURATION:PT1H
X-Robots-Tag:noindex
X-PUBLISHED-TTL:PT1H
BEGIN:VTIMEZONE
TZID:America/Los_Angeles
BEGIN:DAYLIGHT
TZOFFSETFROM:-0800
TZOFFSETTO:-0700
TZNAME:PDT
DTSTART:20240310T100000
END:DAYLIGHT
BEGIN:STANDARD
TZOFFSETFROM:-0700
TZOFFSETTO:-0800
TZNAME:PST
DTSTART:20241103T090000
END:STANDARD
BEGIN:DAYLIGHT
TZOFFSETFROM:-0800
TZOFFSETTO:-0700
TZNAME:PDT
DTSTART:20250309T100000
END:DAYLIGHT
BEGIN:STANDARD
TZOFFSETFROM:-0700
TZOFFSETTO:-0800
TZNAME:PST
DTSTART:20251102T090000
END:STANDARD
BEGIN:DAYLIGHT
TZOFFSETFROM:-0800
TZOFFSETTO:-0700
TZNAME:PDT
DTSTART:20260308T100000
END:DAYLIGHT
BEGIN:STANDARD
TZOFFSETFROM:-0700
TZOFFSETTO:-0800
TZNAME:PST
DTSTART:20261101T090000
END:STANDARD
END:VTIMEZONE
BEGIN:VEVENT
DTSTART;VALUE=DATE:20250828
DTEND;VALUE=DATE:20250902
DTSTAMP:20260422T212518
CREATED:20250813T174339Z
LAST-MODIFIED:20250813T174339Z
UID:22738-1756339200-1756771199@soulofca.org
SUMMARY:Monterey County Fair
DESCRIPTION:It’s back. And the theme is Surfin’ Safari. The regular activities and amusements are in place and all the wonderful food and exhibits are also. The only thing missing is you and your family.  So check out their website and see which day or days would be best for you and get over there. It’s at https://www.montereycountyfair.com
URL:https://soulofca.org/event/monterey-county-fair-8/
LOCATION:Monterey County Fairgrounds\, 2004 Fairground Rd.\, Monterey\, CA\, 93940\, United States
END:VEVENT
BEGIN:VEVENT
DTSTART;TZID=America/Los_Angeles:20250829T080000
DTEND;TZID=America/Los_Angeles:20250829T120000
DTSTAMP:20260422T212518
CREATED:20250712T212250Z
LAST-MODIFIED:20250712T212250Z
UID:22332-1756454400-1756468800@soulofca.org
SUMMARY:Farmers Market Del Monte Mall
DESCRIPTION:You’ll want to get some really good produce for the upcoming Labor Day picnic\, right? Check out the Farmers Market in your area. There are 24 of them throughout the Monterey Bay region. Not only are they nearby but the people are friendly and helpful. Spend an hour or two checking out your nearby market. If you’d like a list of the other markets go to https://www.montereycfb.com
URL:https://soulofca.org/event/farmers-market-del-monte-mall-26/
LOCATION:Del Monte Shopping Center\, Munras Ave.\, Monterey\, CA\, 93940\, United States
END:VEVENT
BEGIN:VEVENT
DTSTART;TZID=America/Los_Angeles:20250829T120000
DTEND;TZID=America/Los_Angeles:20250829T170000
DTSTAMP:20260422T212518
CREATED:20250712T212412Z
LAST-MODIFIED:20250712T212412Z
UID:22334-1756468800-1756486800@soulofca.org
SUMMARY:Farmers Market Salinas Valley Memorial Hospital
DESCRIPTION:You’ll want to get some really good produce for the upcoming Labor Day picnic\, right? Check out the Farmers Market in your area. There are 24 of them throughout the Monterey Bay region. Not only are they nearby but the people are friendly and helpful. Spend an hour or two checking out your nearby market. If you’d like a list of the other markets go to https://www.montereycfb.com
URL:https://soulofca.org/event/farmers-market-salinas-valley-memorial-hospital-12/
LOCATION:Salinas Valley Memorial Hospital\, Romie Lane \, Salinas \, CA\, United States
END:VEVENT
BEGIN:VEVENT
DTSTART;TZID=America/Los_Angeles:20250829T140000
DTEND;TZID=America/Los_Angeles:20250829T190000
DTSTAMP:20260422T212518
CREATED:20250712T212908Z
LAST-MODIFIED:20250712T212908Z
UID:22338-1756476000-1756494000@soulofca.org
SUMMARY:Farmers Market Watsonville
DESCRIPTION:You’ll want to get some really good produce for the upcoming Labor Day picnic\, right? Check out the Farmers Market in your area. There are 24 of them throughout the Monterey Bay region. Not only are they nearby but the people are friendly and helpful. Spend an hour or two checking out your nearby market. If you’d like a list of the other markets go to https://www.montereycfb.com
URL:https://soulofca.org/event/farmers-market-watsonville-11/
LOCATION:Downtown Watsonville\, Downtown Plaza\, Watsonville\, CA\, 95076\, United States
END:VEVENT
BEGIN:VEVENT
DTSTART;TZID=America/Los_Angeles:20250829T170000
DTEND;TZID=America/Los_Angeles:20250829T203000
DTSTAMP:20260422T212518
CREATED:20250813T185638Z
LAST-MODIFIED:20250813T185638Z
UID:22772-1756486800-1756499400@soulofca.org
SUMMARY:Summer Block Party
DESCRIPTION:For the remainder of summer’s Fridays\, the Mid Town area of Santa Cruz comes to life with their block party. The center of activity is The Lot\, it’s at 1111 Soquel Ave. Go to https://www.eventssantacruz.com  for more details.
URL:https://soulofca.org/event/summer-block-party/
LOCATION:The Lot\, 1111 Soquel Ave.\, Santa Cruz\, CA\, 95060\, United States
END:VEVENT
BEGIN:VEVENT
DTSTART;TZID=America/Los_Angeles:20250829T180000
DTEND;TZID=America/Los_Angeles:20250829T210000
DTSTAMP:20260422T212518
CREATED:20250820T182403Z
LAST-MODIFIED:20250820T182403Z
UID:22837-1756490400-1756501200@soulofca.org
SUMMARY:Friday Night Sunset @ Asilomar
DESCRIPTION:Yes\, the sun sets everywhere. Most of those places do not have the Pacific Ocean on the horizon. But Asilomar does. and they have music and a cafe immediately available. You can come out and enjoy the beauty that is Asilomar and the sunset from the comfort of a deck chair.  They are waiting for you.
URL:https://soulofca.org/event/friday-night-sunset-asilomar/
LOCATION:Asilomar Conference Center\, 800 Asilomar Ave.\, Pacific Grove\, CA\, 93950\, United States
END:VEVENT
BEGIN:VEVENT
DTSTART;TZID=America/Los_Angeles:20250829T190000
DTEND;TZID=America/Los_Angeles:20250830T213000
DTSTAMP:20260422T212518
CREATED:20250827T181858Z
LAST-MODIFIED:20250827T181858Z
UID:22989-1756494000-1756589400@soulofca.org
SUMMARY:Neil Diamond SuperStar
DESCRIPTION:Mr. Diamond is indeed a superstar and worthy of his own tribute show. This is just the thing for those who can’t get enough of HS Hot August Nights etc…  The show just happens to be here for two of those nights. Go to the Lighthouse Theater’s website for information on tickets and more. https://www.lightcinema4events.com
URL:https://soulofca.org/event/neil-diamond-superstar/
LOCATION:lighthouse cinema\, 525 Lighthouse Ave.\, Pacific Grove\, CA\, 93950\, United States
END:VEVENT
END:VCALENDAR