BEGIN:VCALENDAR
VERSION:2.0
PRODID:-//Soul of CA - ECPv6.15.17//NONSGML v1.0//EN
CALSCALE:GREGORIAN
METHOD:PUBLISH
X-ORIGINAL-URL:https://soulofca.org
X-WR-CALDESC:Events for Soul of CA
REFRESH-INTERVAL;VALUE=DURATION:PT1H
X-Robots-Tag:noindex
X-PUBLISHED-TTL:PT1H
BEGIN:VTIMEZONE
TZID:America/Los_Angeles
BEGIN:DAYLIGHT
TZOFFSETFROM:-0800
TZOFFSETTO:-0700
TZNAME:PDT
DTSTART:20240310T100000
END:DAYLIGHT
BEGIN:STANDARD
TZOFFSETFROM:-0700
TZOFFSETTO:-0800
TZNAME:PST
DTSTART:20241103T090000
END:STANDARD
BEGIN:DAYLIGHT
TZOFFSETFROM:-0800
TZOFFSETTO:-0700
TZNAME:PDT
DTSTART:20250309T100000
END:DAYLIGHT
BEGIN:STANDARD
TZOFFSETFROM:-0700
TZOFFSETTO:-0800
TZNAME:PST
DTSTART:20251102T090000
END:STANDARD
BEGIN:DAYLIGHT
TZOFFSETFROM:-0800
TZOFFSETTO:-0700
TZNAME:PDT
DTSTART:20260308T100000
END:DAYLIGHT
BEGIN:STANDARD
TZOFFSETFROM:-0700
TZOFFSETTO:-0800
TZNAME:PST
DTSTART:20261101T090000
END:STANDARD
END:VTIMEZONE
BEGIN:VEVENT
DTSTART;VALUE=DATE:20250828
DTEND;VALUE=DATE:20250902
DTSTAMP:20260422T212503
CREATED:20250813T174339Z
LAST-MODIFIED:20250813T174339Z
UID:22738-1756339200-1756771199@soulofca.org
SUMMARY:Monterey County Fair
DESCRIPTION:It’s back. And the theme is Surfin’ Safari. The regular activities and amusements are in place and all the wonderful food and exhibits are also. The only thing missing is you and your family.  So check out their website and see which day or days would be best for you and get over there. It’s at https://www.montereycountyfair.com
URL:https://soulofca.org/event/monterey-county-fair-8/
LOCATION:Monterey County Fairgrounds\, 2004 Fairground Rd.\, Monterey\, CA\, 93940\, United States
END:VEVENT
BEGIN:VEVENT
DTSTART;TZID=America/Los_Angeles:20250828T100000
DTEND;TZID=America/Los_Angeles:20250828T140000
DTSTAMP:20260422T212503
CREATED:20250712T211655Z
LAST-MODIFIED:20250712T211655Z
UID:22324-1756375200-1756389600@soulofca.org
SUMMARY:Farmers Market Carmel BTS
DESCRIPTION:You’ll want to get some really good produce for the upcoming Labor Day picnic\, right? Check out the Farmers Market in your area. There are 24 of them throughout the Monterey Bay region. Not only are they nearby but the people are friendly and helpful. Spend an hour or two checking out your nearby market. If you’d like a list of the other markets go to https://www.montereycfb.com
URL:https://soulofca.org/event/farmers-market-carmel-bts-17/
LOCATION:Carmel BTS\, Carmel
END:VEVENT
BEGIN:VEVENT
DTSTART;TZID=America/Los_Angeles:20250828T140000
DTEND;TZID=America/Los_Angeles:20250828T180000
DTSTAMP:20260422T212503
CREATED:20250712T211944Z
LAST-MODIFIED:20250712T211944Z
UID:22328-1756389600-1756404000@soulofca.org
SUMMARY:Farmers Market CSU Monterey Bay
DESCRIPTION:You’ll want to get some really good produce for the upcoming Labor Day picnic\, right? Check out the Farmers Market in your area. There are 24 of them throughout the Monterey Bay region. Not only are they nearby but the people are friendly and helpful. Spend an hour or two checking out your nearby market. If you’d like a list of the other markets go to https://www.montereycfb.com
URL:https://soulofca.org/event/farmers-market-csu-monterey-bay-17/
LOCATION:CSUMB University Center\, 4314 6th St.\, Marina\, CA\, United States
END:VEVENT
BEGIN:VEVENT
DTSTART;TZID=America/Los_Angeles:20250828T150000
DTEND;TZID=America/Los_Angeles:20250828T190000
DTSTAMP:20260422T212503
CREATED:20250712T212137Z
LAST-MODIFIED:20250712T212137Z
UID:22330-1756393200-1756407600@soulofca.org
SUMMARY:Farmers Market Seaside
DESCRIPTION:You’ll want to get some really good produce for the upcoming Labor Day picnic\, right? Check out the Farmers Market in your area. There are 24 of them throughout the Monterey Bay region. Not only are they nearby but the people are friendly and helpful. Spend an hour or two checking out your nearby market. If you’d like a list of the other markets go to https://www.montereycfb.com
URL:https://soulofca.org/event/farmers-market-seaside-13/
LOCATION:Laguna Grande Park\, Canyon Del Rey Blvd.\, Seaside\, CA\, United States
END:VEVENT
BEGIN:VEVENT
DTSTART;TZID=America/Los_Angeles:20250828T160000
DTEND;TZID=America/Los_Angeles:20250828T200000
DTSTAMP:20260422T212503
CREATED:20250712T211834Z
LAST-MODIFIED:20250712T211834Z
UID:22326-1756396800-1756411200@soulofca.org
SUMMARY:Farmers Market Soledad
DESCRIPTION:You’ll want to get some really good produce for the upcoming Labor Day picnic\, right? Check out the Farmers Market in your area. There are 24 of them throughout the Monterey Bay region. Not only are they nearby but the people are friendly and helpful. Spend an hour or two checking out your nearby market. If you’d like a list of the other markets go to https://www.montereycfb.com
URL:https://soulofca.org/event/farmers-market-soledad-15/
LOCATION:Downtown Soledad\, Soledad\, United States
END:VEVENT
END:VCALENDAR