BEGIN:VCALENDAR
VERSION:2.0
PRODID:-//Soul of CA - ECPv6.15.17//NONSGML v1.0//EN
CALSCALE:GREGORIAN
METHOD:PUBLISH
X-ORIGINAL-URL:https://soulofca.org
X-WR-CALDESC:Events for Soul of CA
REFRESH-INTERVAL;VALUE=DURATION:PT1H
X-Robots-Tag:noindex
X-PUBLISHED-TTL:PT1H
BEGIN:VTIMEZONE
TZID:America/Los_Angeles
BEGIN:DAYLIGHT
TZOFFSETFROM:-0800
TZOFFSETTO:-0700
TZNAME:PDT
DTSTART:20240310T100000
END:DAYLIGHT
BEGIN:STANDARD
TZOFFSETFROM:-0700
TZOFFSETTO:-0800
TZNAME:PST
DTSTART:20241103T090000
END:STANDARD
BEGIN:DAYLIGHT
TZOFFSETFROM:-0800
TZOFFSETTO:-0700
TZNAME:PDT
DTSTART:20250309T100000
END:DAYLIGHT
BEGIN:STANDARD
TZOFFSETFROM:-0700
TZOFFSETTO:-0800
TZNAME:PST
DTSTART:20251102T090000
END:STANDARD
BEGIN:DAYLIGHT
TZOFFSETFROM:-0800
TZOFFSETTO:-0700
TZNAME:PDT
DTSTART:20260308T100000
END:DAYLIGHT
BEGIN:STANDARD
TZOFFSETFROM:-0700
TZOFFSETTO:-0800
TZNAME:PST
DTSTART:20261101T090000
END:STANDARD
END:VTIMEZONE
BEGIN:VEVENT
DTSTART;TZID=America/Los_Angeles:20250827T110000
DTEND;TZID=America/Los_Angeles:20250827T153000
DTSTAMP:20260422T212442
CREATED:20250712T210837Z
LAST-MODIFIED:20250712T210938Z
UID:22315-1756292400-1756308600@soulofca.org
SUMMARY:Farmers Market Natividad Hospital
DESCRIPTION:You’ll want to get some really good produce for the upcoming Labor Day picnic\, right? Check out the Farmers Market in your area. There are 24 of them throughout the Monterey Bay region. Not only are they nearby but the people are friendly and helpful. Spend an hour or two checking out your nearby market. If you’d like a list of the other markets go to https://www.montereycfb.com \nIn addition\, there will be a professional chef\, Goi Yujaroen\, to guide you through the potato dish being highlighted. This happens from 10-2 on the 27th of July.
URL:https://soulofca.org/event/farmers-market-natividad-hospital-13/
LOCATION:Natividad Hospital\, E. Laurel Dr.\, Salinas\, United States
END:VEVENT
BEGIN:VEVENT
DTSTART;TZID=America/Los_Angeles:20250827T130000
DTEND;TZID=America/Los_Angeles:20250827T170000
DTSTAMP:20260422T212442
CREATED:20250712T211543Z
LAST-MODIFIED:20250712T211543Z
UID:22322-1756299600-1756314000@soulofca.org
SUMMARY:Farmers Market Santa Cruz (downtown)
DESCRIPTION:You’ll want to get some really good produce for the upcoming Labor Day picnic\, right? Check out the Farmers Market in your area. There are 24 of them throughout the Monterey Bay region. Not only are they nearby but the people are friendly and helpful. Spend an hour or two checking out your nearby market. If you’d like a list of the other markets go to https://www.montereycfb.com
URL:https://soulofca.org/event/farmers-market-santa-cruz-downtown-10/
LOCATION:Cedar & Lincoln Sts.\, Santa Cruz\, CA\, United States
END:VEVENT
BEGIN:VEVENT
DTSTART;TZID=America/Los_Angeles:20250827T150000
DTEND;TZID=America/Los_Angeles:20250827T190000
DTSTAMP:20260422T212442
CREATED:20250712T211421Z
LAST-MODIFIED:20250712T211421Z
UID:22319-1756306800-1756321200@soulofca.org
SUMMARY:Farmers Market Hollister
DESCRIPTION:You’ll want to get some really good produce for the upcoming Labor Day picnic\, right? Check out the Farmers Market in your area. There are 24 of them throughout the Monterey Bay region. Not only are they nearby but the people are friendly and helpful. Spend an hour or two checking out your nearby market. If you’d like a list of the other markets go to https://www.montereycfb.com
URL:https://soulofca.org/event/farmers-market-hollister-13/
LOCATION:Downtown Hollister\, Hollister\, CA\, United States
END:VEVENT
BEGIN:VEVENT
DTSTART;TZID=America/Los_Angeles:20250827T160000
DTEND;TZID=America/Los_Angeles:20250827T190000
DTSTAMP:20260422T212442
CREATED:20250712T211053Z
LAST-MODIFIED:20250712T211053Z
UID:22317-1756310400-1756321200@soulofca.org
SUMMARY:Farmers Market King City
DESCRIPTION:You’ll want to get some really good produce for the upcoming Labor Day picnic\, right? Check out the Farmers Market in your area. There are 24 of them throughout the Monterey Bay region. Not only are they nearby but the people are friendly and helpful. Spend an hour or two checking out your nearby market. If you’d like a list of the other markets go to https://www.montereycfb.com
URL:https://soulofca.org/event/farmers-market-king-city-13/
LOCATION:Downtown King City\, King City\, CA\, United States
END:VEVENT
END:VCALENDAR