BEGIN:VCALENDAR
VERSION:2.0
PRODID:-//Soul of CA - ECPv6.15.17//NONSGML v1.0//EN
CALSCALE:GREGORIAN
METHOD:PUBLISH
X-ORIGINAL-URL:https://soulofca.org
X-WR-CALDESC:Events for Soul of CA
REFRESH-INTERVAL;VALUE=DURATION:PT1H
X-Robots-Tag:noindex
X-PUBLISHED-TTL:PT1H
BEGIN:VTIMEZONE
TZID:America/Los_Angeles
BEGIN:DAYLIGHT
TZOFFSETFROM:-0800
TZOFFSETTO:-0700
TZNAME:PDT
DTSTART:20240310T100000
END:DAYLIGHT
BEGIN:STANDARD
TZOFFSETFROM:-0700
TZOFFSETTO:-0800
TZNAME:PST
DTSTART:20241103T090000
END:STANDARD
BEGIN:DAYLIGHT
TZOFFSETFROM:-0800
TZOFFSETTO:-0700
TZNAME:PDT
DTSTART:20250309T100000
END:DAYLIGHT
BEGIN:STANDARD
TZOFFSETFROM:-0700
TZOFFSETTO:-0800
TZNAME:PST
DTSTART:20251102T090000
END:STANDARD
BEGIN:DAYLIGHT
TZOFFSETFROM:-0800
TZOFFSETTO:-0700
TZNAME:PDT
DTSTART:20260308T100000
END:DAYLIGHT
BEGIN:STANDARD
TZOFFSETFROM:-0700
TZOFFSETTO:-0800
TZNAME:PST
DTSTART:20261101T090000
END:STANDARD
END:VTIMEZONE
BEGIN:VEVENT
DTSTART;TZID=America/Los_Angeles:20250819T090000
DTEND;TZID=America/Los_Angeles:20250819T130000
DTSTAMP:20260422T212456
CREATED:20250712T175206Z
LAST-MODIFIED:20250712T175206Z
UID:22264-1755594000-1755608400@soulofca.org
SUMMARY:Farmers Market Barnyard
DESCRIPTION:Summer is rapidly moving along\, kids are returning to school and the days are shrinking but the produce at the markets is still abundant and fresh. There are still wonderful fruits and veggies on display and helpful vendors to help you find interesting new recipes for their preparation. You can find lots of prepped food and interesting vendors with crafty items that may help discover that one of a kind gift. More locations and dates are available at https://www.montereycfb.com
URL:https://soulofca.org/event/farmers-market-barnyard-12/
LOCATION:The Barnyard\, Barnyard Shopping Center\, Carmel by the Sea\, CA\, United States
END:VEVENT
BEGIN:VEVENT
DTSTART;TZID=America/Los_Angeles:20250819T110000
DTEND;TZID=America/Los_Angeles:20250819T160000
DTSTAMP:20260422T212456
CREATED:20250712T175055Z
LAST-MODIFIED:20250712T175055Z
UID:22262-1755601200-1755619200@soulofca.org
SUMMARY:Farmers Market E. Alisal
DESCRIPTION:Summer is rapidly moving along\, kids are returning to school and the days are shrinking but the produce at the markets is still abundant and fresh. There are still wonderful fruits and veggies on display and helpful vendors to help you find interesting new recipes for their preparation. You can find lots of prepped food and interesting vendors with crafty items that may help discover that one of a kind gift. More locations and dates are available at https://www.montereycfb.com
URL:https://soulofca.org/event/farmers-market-e-alisal-13/
LOCATION:WIC Office\, 632 E. Alisal St.\, Salinas\, CA\, United States
END:VEVENT
BEGIN:VEVENT
DTSTART;TZID=America/Los_Angeles:20250819T160000
DTEND;TZID=America/Los_Angeles:20250819T190000
DTSTAMP:20260422T212456
CREATED:20250712T174933Z
LAST-MODIFIED:20250712T174933Z
UID:22260-1755619200-1755630000@soulofca.org
SUMMARY:Farmers Market  Monterey
DESCRIPTION:Summer is rapidly moving along\, kids are returning to school and the days are shrinking but the produce at the markets is still abundant and fresh. There are still wonderful fruits and veggies on display and helpful vendors to help you find interesting new recipes for their preparation. You can find lots of prepped food and interesting vendors with crafty items that may help discover that one of a kind gift. More locations and dates are available at https://www.montereycfb.com
URL:https://soulofca.org/event/farmers-market-monterey-13/
LOCATION:Downtown Monterey\, Monterey\, CA\, United States
END:VEVENT
END:VCALENDAR