BEGIN:VCALENDAR
VERSION:2.0
PRODID:-//Soul of CA - ECPv6.15.17//NONSGML v1.0//EN
CALSCALE:GREGORIAN
METHOD:PUBLISH
X-ORIGINAL-URL:https://soulofca.org
X-WR-CALDESC:Events for Soul of CA
REFRESH-INTERVAL;VALUE=DURATION:PT1H
X-Robots-Tag:noindex
X-PUBLISHED-TTL:PT1H
BEGIN:VTIMEZONE
TZID:America/Los_Angeles
BEGIN:DAYLIGHT
TZOFFSETFROM:-0800
TZOFFSETTO:-0700
TZNAME:PDT
DTSTART:20240310T100000
END:DAYLIGHT
BEGIN:STANDARD
TZOFFSETFROM:-0700
TZOFFSETTO:-0800
TZNAME:PST
DTSTART:20241103T090000
END:STANDARD
BEGIN:DAYLIGHT
TZOFFSETFROM:-0800
TZOFFSETTO:-0700
TZNAME:PDT
DTSTART:20250309T100000
END:DAYLIGHT
BEGIN:STANDARD
TZOFFSETFROM:-0700
TZOFFSETTO:-0800
TZNAME:PST
DTSTART:20251102T090000
END:STANDARD
BEGIN:DAYLIGHT
TZOFFSETFROM:-0800
TZOFFSETTO:-0700
TZNAME:PDT
DTSTART:20260308T100000
END:DAYLIGHT
BEGIN:STANDARD
TZOFFSETFROM:-0700
TZOFFSETTO:-0800
TZNAME:PST
DTSTART:20261101T090000
END:STANDARD
END:VTIMEZONE
BEGIN:VEVENT
DTSTART;TZID=America/Los_Angeles:20250808T170000
DTEND;TZID=America/Los_Angeles:20250818T210000
DTSTAMP:20260422T212451
CREATED:20250730T183540Z
LAST-MODIFIED:20250730T183540Z
UID:22609-1754672400-1755550800@soulofca.org
SUMMARY:Marinelli Brothers Circus
DESCRIPTION:It’s a classic circus with lots of dangerous and thrilling acts and others which simply amuse and make us laugh. They will be in town for ten days and then gone. This is your chance to “run away with the circus” or just go see the exciting things they offer. You can see the performers and more at their website https://www.marinellibroscircus.com
URL:https://soulofca.org/event/marinelli-brothers-circus/
LOCATION:Northridge Mall\, N. Main St.\, Salinas\, CA\, 93906\, United States
END:VEVENT
BEGIN:VEVENT
DTSTART;TZID=America/Los_Angeles:20250818T150000
DTEND;TZID=America/Los_Angeles:20250818T180000
DTSTAMP:20260422T212451
CREATED:20250712T174718Z
LAST-MODIFIED:20250712T174718Z
UID:22258-1755529200-1755540000@soulofca.org
SUMMARY:Farmers Market Pacific Grove
DESCRIPTION:Summer is rapidly moving along\, kids are returning to school and the days are shrinking but the produce at the markets is still abundant and fresh. There are still wonderful fruits and veggies on display and helpful vendors to help you find interesting new recipes for their preparation. You can find lots of prepped food and interesting vendors with crafty items that may help discover that one of a kind gift. More locations and dates are available at https://www.montereycfb.com
URL:https://soulofca.org/event/farmers-market-pacific-grove-15/
LOCATION:Downtown Pacific Grove\, Lighthouse Avenue\, Pacific Grove \, CA\, 93950\, United States
END:VEVENT
END:VCALENDAR