BEGIN:VCALENDAR
VERSION:2.0
PRODID:-//Soul of CA - ECPv6.15.17//NONSGML v1.0//EN
CALSCALE:GREGORIAN
METHOD:PUBLISH
X-ORIGINAL-URL:https://soulofca.org
X-WR-CALDESC:Events for Soul of CA
REFRESH-INTERVAL;VALUE=DURATION:PT1H
X-Robots-Tag:noindex
X-PUBLISHED-TTL:PT1H
BEGIN:VTIMEZONE
TZID:America/Los_Angeles
BEGIN:DAYLIGHT
TZOFFSETFROM:-0800
TZOFFSETTO:-0700
TZNAME:PDT
DTSTART:20240310T100000
END:DAYLIGHT
BEGIN:STANDARD
TZOFFSETFROM:-0700
TZOFFSETTO:-0800
TZNAME:PST
DTSTART:20241103T090000
END:STANDARD
BEGIN:DAYLIGHT
TZOFFSETFROM:-0800
TZOFFSETTO:-0700
TZNAME:PDT
DTSTART:20250309T100000
END:DAYLIGHT
BEGIN:STANDARD
TZOFFSETFROM:-0700
TZOFFSETTO:-0800
TZNAME:PST
DTSTART:20251102T090000
END:STANDARD
BEGIN:DAYLIGHT
TZOFFSETFROM:-0800
TZOFFSETTO:-0700
TZNAME:PDT
DTSTART:20260308T100000
END:DAYLIGHT
BEGIN:STANDARD
TZOFFSETFROM:-0700
TZOFFSETTO:-0800
TZNAME:PST
DTSTART:20261101T090000
END:STANDARD
END:VTIMEZONE
BEGIN:VEVENT
DTSTART;VALUE=DATE:20250808
DTEND;VALUE=DATE:20250816
DTSTAMP:20260422T212503
CREATED:20250521T204912Z
LAST-MODIFIED:20250521T204912Z
UID:21940-1754611200-1755302399@soulofca.org
SUMMARY:Monterey Car Week
DESCRIPTION:This is one of the outstanding gatherings centered around automobiles. People from around the world come to look at\, buy\, sell\, and get information about cars from every era and continent. There are so many events\,times\, and sites the calendar would be clogged with entries. So go to these websites for more particular information. Of course\, some of the organizations and activities have their own websites. But you can start here. \nhttps://www.seemonterey.com  or https://.www;whatsupmonterey.com
URL:https://soulofca.org/event/monterey-car-week-2/
LOCATION:CA
END:VEVENT
BEGIN:VEVENT
DTSTART;TZID=America/Los_Angeles:20250808T170000
DTEND;TZID=America/Los_Angeles:20250818T210000
DTSTAMP:20260422T212503
CREATED:20250730T183540Z
LAST-MODIFIED:20250730T183540Z
UID:22609-1754672400-1755550800@soulofca.org
SUMMARY:Marinelli Brothers Circus
DESCRIPTION:It’s a classic circus with lots of dangerous and thrilling acts and others which simply amuse and make us laugh. They will be in town for ten days and then gone. This is your chance to “run away with the circus” or just go see the exciting things they offer. You can see the performers and more at their website https://www.marinellibroscircus.com
URL:https://soulofca.org/event/marinelli-brothers-circus/
LOCATION:Northridge Mall\, N. Main St.\, Salinas\, CA\, 93906\, United States
END:VEVENT
BEGIN:VEVENT
DTSTART;TZID=America/Los_Angeles:20250810T080000
DTEND;TZID=America/Los_Angeles:20250810T120000
DTSTAMP:20260422T212503
CREATED:20250625T215020Z
LAST-MODIFIED:20250625T215020Z
UID:22162-1754812800-1754827200@soulofca.org
SUMMARY:Farmers Market Del Monte Mall
DESCRIPTION:The signs of the end of summer are approaching. Things like school supplies are being featured in ads. So it must be time to really get out to the markets just like you may have promised yourself you were going to  do. What better time? Lots of fresh produce and friendly people. Keep an eye out for special food demos and recipes for new foods. Lots to see and do besides check out the delicious foods fresh and prepared. are available. Go to https://www.montereycfb.com for other days\, times \, and sites.
URL:https://soulofca.org/event/farmers-market-del-monte-mall-21/
LOCATION:Del Monte Shopping Center\, Munras Ave.\, Monterey\, CA\, 93940\, United States
END:VEVENT
BEGIN:VEVENT
DTSTART;TZID=America/Los_Angeles:20250810T090000
DTEND;TZID=America/Los_Angeles:20250810T130000
DTSTAMP:20260422T212503
CREATED:20250625T215131Z
LAST-MODIFIED:20250625T215131Z
UID:22164-1754816400-1754830800@soulofca.org
SUMMARY:Farmers Market Live Oak
DESCRIPTION:The signs of the end of summer are approaching. Things like school supplies are being featured in ads. So it must be time to really get out to the markets just like you may have promised yourself you were going to  do. What better time? Lots of fresh produce and friendly people. Keep an eye out for special food demos and recipes for new foods. Lots to see and do besides check out the delicious foods fresh and prepared. are available. Go to https://www.montereycfb.com for other days\, times \, and sites.
URL:https://soulofca.org/event/farmers-market-live-oak-10/
LOCATION:Mission St & Western\, Santa Cruz\, CA\, United States
END:VEVENT
BEGIN:VEVENT
DTSTART;TZID=America/Los_Angeles:20250810T100000
DTEND;TZID=America/Los_Angeles:20250810T140000
DTSTAMP:20260422T212503
CREATED:20250625T214737Z
LAST-MODIFIED:20250625T214737Z
UID:22158-1754820000-1754834400@soulofca.org
SUMMARY:Farmers Market Marina
DESCRIPTION:The signs of the end of summer are approaching. Things like school supplies are being featured in ads. So it must be time to really get out to the markets just like you may have promised yourself you were going to  do. What better time? Lots of fresh produce and friendly people. Keep an eye out for special food demos and recipes for new foods. Lots to see and do besides check out the delicious foods fresh and prepared. are available. Go to https://www.montereycfb.com for other days\, times \, and sites.
URL:https://soulofca.org/event/farmers-market-marina-14/
LOCATION:Marina Village Shopping Center\, Marina
END:VEVENT
BEGIN:VEVENT
DTSTART;TZID=America/Los_Angeles:20250810T100000
DTEND;TZID=America/Los_Angeles:20250810T150000
DTSTAMP:20260422T212503
CREATED:20250625T214852Z
LAST-MODIFIED:20250625T214852Z
UID:22160-1754820000-1754838000@soulofca.org
SUMMARY:Farmers Market Carmel Valley
DESCRIPTION:The signs of the end of summer are approaching. Things like school supplies are being featured in ads. So it must be time to really get out to the markets just like you may have promised yourself you were going to  do. What better time? Lots of fresh produce and friendly people. Keep an eye out for special food demos and recipes for new foods. Lots to see and do besides check out the delicious foods fresh and prepared. are available. Go to https://www.montereycfb.com for other days\, times \, and sites.
URL:https://soulofca.org/event/farmers-market-carmel-valley-11/
LOCATION:Carmel Valley Community Center\, 25 Ford Rd.\, Carmel Valley\, CA\, 93924\, United States
END:VEVENT
BEGIN:VEVENT
DTSTART;TZID=America/Los_Angeles:20250810T130000
DTEND;TZID=America/Los_Angeles:20250810T163000
DTSTAMP:20260422T212503
CREATED:20250712T172858Z
LAST-MODIFIED:20250712T172858Z
UID:22252-1754830800-1754843400@soulofca.org
SUMMARY:Blues in the Park
DESCRIPTION:Every Sunday afternoon through July and August the City of Seaside sponsors a blues concert in Laguna Grande Park. Great music\, usually good weather\, and enthusiastic listeners make for a relaxing\, fun afternoon.  This week the bands are Kaye Red Beans & Rice and Anthony Paule Soul Orchestra. More listings and info are at https://www.ci.seaside.ca.usa
URL:https://soulofca.org/event/blues-in-the-park-23/
LOCATION:Laguna Grande Park\, Canyon Del Rey Blvd.\, Seaside\, CA\, United States
END:VEVENT
END:VCALENDAR