BEGIN:VCALENDAR
VERSION:2.0
PRODID:-//Soul of CA - ECPv6.15.17//NONSGML v1.0//EN
CALSCALE:GREGORIAN
METHOD:PUBLISH
X-ORIGINAL-URL:https://soulofca.org
X-WR-CALDESC:Events for Soul of CA
REFRESH-INTERVAL;VALUE=DURATION:PT1H
X-Robots-Tag:noindex
X-PUBLISHED-TTL:PT1H
BEGIN:VTIMEZONE
TZID:America/Los_Angeles
BEGIN:DAYLIGHT
TZOFFSETFROM:-0800
TZOFFSETTO:-0700
TZNAME:PDT
DTSTART:20240310T100000
END:DAYLIGHT
BEGIN:STANDARD
TZOFFSETFROM:-0700
TZOFFSETTO:-0800
TZNAME:PST
DTSTART:20241103T090000
END:STANDARD
BEGIN:DAYLIGHT
TZOFFSETFROM:-0800
TZOFFSETTO:-0700
TZNAME:PDT
DTSTART:20250309T100000
END:DAYLIGHT
BEGIN:STANDARD
TZOFFSETFROM:-0700
TZOFFSETTO:-0800
TZNAME:PST
DTSTART:20251102T090000
END:STANDARD
BEGIN:DAYLIGHT
TZOFFSETFROM:-0800
TZOFFSETTO:-0700
TZNAME:PDT
DTSTART:20260308T100000
END:DAYLIGHT
BEGIN:STANDARD
TZOFFSETFROM:-0700
TZOFFSETTO:-0800
TZNAME:PST
DTSTART:20261101T090000
END:STANDARD
END:VTIMEZONE
BEGIN:VEVENT
DTSTART;VALUE=DATE:20250808
DTEND;VALUE=DATE:20250816
DTSTAMP:20260424T030138
CREATED:20250521T204912Z
LAST-MODIFIED:20250521T204912Z
UID:21940-1754611200-1755302399@soulofca.org
SUMMARY:Monterey Car Week
DESCRIPTION:This is one of the outstanding gatherings centered around automobiles. People from around the world come to look at\, buy\, sell\, and get information about cars from every era and continent. There are so many events\,times\, and sites the calendar would be clogged with entries. So go to these websites for more particular information. Of course\, some of the organizations and activities have their own websites. But you can start here. \nhttps://www.seemonterey.com  or https://.www;whatsupmonterey.com
URL:https://soulofca.org/event/monterey-car-week-2/
LOCATION:CA
END:VEVENT
BEGIN:VEVENT
DTSTART;TZID=America/Los_Angeles:20250808T170000
DTEND;TZID=America/Los_Angeles:20250818T210000
DTSTAMP:20260424T030138
CREATED:20250730T183540Z
LAST-MODIFIED:20250730T183540Z
UID:22609-1754672400-1755550800@soulofca.org
SUMMARY:Marinelli Brothers Circus
DESCRIPTION:It’s a classic circus with lots of dangerous and thrilling acts and others which simply amuse and make us laugh. They will be in town for ten days and then gone. This is your chance to “run away with the circus” or just go see the exciting things they offer. You can see the performers and more at their website https://www.marinellibroscircus.com
URL:https://soulofca.org/event/marinelli-brothers-circus/
LOCATION:Northridge Mall\, N. Main St.\, Salinas\, CA\, 93906\, United States
END:VEVENT
BEGIN:VEVENT
DTSTART;TZID=America/Los_Angeles:20250809T080000
DTEND;TZID=America/Los_Angeles:20250809T120000
DTSTAMP:20260424T030138
CREATED:20250625T214417Z
LAST-MODIFIED:20250625T214417Z
UID:22154-1754726400-1754740800@soulofca.org
SUMMARY:Farmers Market Aptos
DESCRIPTION:The signs of the end of summer are approaching. Things like school supplies are being featured in ads. So it must be time to really get out to the markets just like you may have promised yourself you were going to  do. What better time? Lots of fresh produce and friendly people. Keep an eye out for special food demos and recipes for new foods. Lots to see and do besides check out the delicious foods fresh and prepared. are available. Go to https://www.montereycfb.com for other days\, times \, and sites.
URL:https://soulofca.org/event/farmers-market-aptos-10/
LOCATION:Cabrillo College Aptos Campus\, Cabrillo College 6500 Soquel Ave.\, Aptos\, CA\, 95003\, United States
END:VEVENT
BEGIN:VEVENT
DTSTART;TZID=America/Los_Angeles:20250809T090000
DTEND;TZID=America/Los_Angeles:20250809T130000
DTSTAMP:20260424T030138
CREATED:20250625T214550Z
LAST-MODIFIED:20250625T214550Z
UID:22156-1754730000-1754744400@soulofca.org
SUMMARY:Farmers Market Santa Cruz (West)
DESCRIPTION:The signs of the end of summer are approaching. Things like school supplies are being featured in ads. So it must be time to really get out to the markets just like you may have promised yourself you were going to  do. What better time? Lots of fresh produce and friendly people. Keep an eye out for special food demos and recipes for new foods. Lots to see and do besides check out the delicious foods fresh and prepared. are available. Go to https://www.montereycfb.com for other days\, times \, and sites.
URL:https://soulofca.org/event/farmers-market-santa-cruz-west-9/
LOCATION:15th & East Cliff\, Santa Cruz\, United States
END:VEVENT
BEGIN:VEVENT
DTSTART;TZID=America/Los_Angeles:20250809T090000
DTEND;TZID=America/Los_Angeles:20250809T140000
DTSTAMP:20260424T030138
CREATED:20250625T214109Z
LAST-MODIFIED:20250625T214109Z
UID:22150-1754730000-1754748000@soulofca.org
SUMMARY:Farmers Market Salinas
DESCRIPTION:The signs of the end of summer are approaching. Things like school supplies are being featured in ads. So it must be time to really get out to the markets just like you may have promised yourself you were going to  do. What better time? Lots of fresh produce and friendly people. Keep an eye out for special food demos and recipes for new foods. Lots to see and do besides check out the delicious foods fresh and prepared. are available. Go to https://www.montereycfb.com for other days\, times \, and sites.
URL:https://soulofca.org/event/farmers-market-salinas-11/
LOCATION:Downtown Salinas\, 1 Main St.\, Salinas\, CA\, 93901\, United States
END:VEVENT
BEGIN:VEVENT
DTSTART;TZID=America/Los_Angeles:20250809T100000
DTEND;TZID=America/Los_Angeles:20250809T120000
DTSTAMP:20260424T030138
CREATED:20250730T181937Z
LAST-MODIFIED:20250730T181937Z
UID:22600-1754733600-1754740800@soulofca.org
SUMMARY:Dads Read
DESCRIPTION:Marina Library’s program is encouraging families’ reading experiences while having a lot of fun. There will be a Food Bank truck and a clothing exchange as well as entertainment and\, of course\, a dad reading children’s books. More at https://www.friendsofmarinalibrary.org
URL:https://soulofca.org/event/dads-read-2/
LOCATION:Marina Public Library\, 190 Seaside Circle\, Marina \, CA\, 93933\, United States
END:VEVENT
BEGIN:VEVENT
DTSTART;TZID=America/Los_Angeles:20250809T100000
DTEND;TZID=America/Los_Angeles:20250809T140000
DTSTAMP:20260424T030138
CREATED:20250625T214225Z
LAST-MODIFIED:20250625T214225Z
UID:22152-1754733600-1754748000@soulofca.org
SUMMARY:Farmers Market Moss Landing
DESCRIPTION:The signs of the end of summer are approaching. Things like school supplies are being featured in ads. So it must be time to really get out to the markets just like you may have promised yourself you were going to  do. What better time? Lots of fresh produce and friendly people. Keep an eye out for special food demos and recipes for new foods. Lots to see and do besides check out the delicious foods fresh and prepared. are available. Go to https://www.montereycfb.com for other days\, times \, and sites.
URL:https://soulofca.org/event/farmers-market-moss-landing-12/
LOCATION:Power Plant\, Highway One\, Moss Landing\, CA\, United States
END:VEVENT
BEGIN:VEVENT
DTSTART;TZID=America/Los_Angeles:20250809T100000
DTEND;TZID=America/Los_Angeles:20250809T160000
DTSTAMP:20260424T030138
CREATED:20250723T174047Z
LAST-MODIFIED:20250723T174047Z
UID:22511-1754733600-1754755200@soulofca.org
SUMMARY:Asliomar's 112th Birthday
DESCRIPTION:There will be celebrating in the dunes! You can join in. Walks\, talks\, and refreshments will help you get a better sense of the role that this marvelous space has played in the history of the Peninsula. More info is at https://www.parks.ca.gov/EventDetails
URL:https://soulofca.org/event/asliomars-112th-birthday/
LOCATION:Asilomar Conference Center\, 800 Asilomar Ave.\, Pacific Grove\, CA\, 93950\, United States
END:VEVENT
BEGIN:VEVENT
DTSTART;TZID=America/Los_Angeles:20250809T140000
DTEND;TZID=America/Los_Angeles:20250809T160000
DTSTAMP:20260424T030138
CREATED:20250806T175305Z
LAST-MODIFIED:20250806T175305Z
UID:22670-1754748000-1754755200@soulofca.org
SUMMARY:Ukulele Melee
DESCRIPTION:If you like ukelele music\, this is the place to be this weekend.  For many years this group has been gathering to share songs\, techniques\, and fun. You can join in even if you have no ukelele. Go to https://www.carlcherrycenter.org for more details.
URL:https://soulofca.org/event/ukulele-melee-2/
LOCATION:Carl Cherry Center\, 4th and Guadalupe\, Carmel \, CA\, 93921\, United States
END:VEVENT
BEGIN:VEVENT
DTSTART;TZID=America/Los_Angeles:20250809T190000
DTEND;TZID=America/Los_Angeles:20250809T220000
DTSTAMP:20260424T030138
CREATED:20250806T174448Z
LAST-MODIFIED:20250806T174448Z
UID:22666-1754766000-1754776800@soulofca.org
SUMMARY:Point Sur Lighthouse  Moonlight Tours
DESCRIPTION:One of the historic landmarks of the Central Coast is made even more appealing by moonlight. But then almost everything is made better by moonlight\, right? Come out and hear the tales of the people who lived and worked there and appreciate the isolation that was part of their lives. More details and ticket info (no reservations) are at https://www.pointsur.org
URL:https://soulofca.org/event/point-sur-lighthouse-moonlight-tours/
LOCATION:Point Sur Lighthouse\, Highway One \, CA\, United States
END:VEVENT
END:VCALENDAR