BEGIN:VCALENDAR
VERSION:2.0
PRODID:-//Soul of CA - ECPv6.15.17//NONSGML v1.0//EN
CALSCALE:GREGORIAN
METHOD:PUBLISH
X-ORIGINAL-URL:https://soulofca.org
X-WR-CALDESC:Events for Soul of CA
REFRESH-INTERVAL;VALUE=DURATION:PT1H
X-Robots-Tag:noindex
X-PUBLISHED-TTL:PT1H
BEGIN:VTIMEZONE
TZID:America/Los_Angeles
BEGIN:DAYLIGHT
TZOFFSETFROM:-0800
TZOFFSETTO:-0700
TZNAME:PDT
DTSTART:20240310T100000
END:DAYLIGHT
BEGIN:STANDARD
TZOFFSETFROM:-0700
TZOFFSETTO:-0800
TZNAME:PST
DTSTART:20241103T090000
END:STANDARD
BEGIN:DAYLIGHT
TZOFFSETFROM:-0800
TZOFFSETTO:-0700
TZNAME:PDT
DTSTART:20250309T100000
END:DAYLIGHT
BEGIN:STANDARD
TZOFFSETFROM:-0700
TZOFFSETTO:-0800
TZNAME:PST
DTSTART:20251102T090000
END:STANDARD
BEGIN:DAYLIGHT
TZOFFSETFROM:-0800
TZOFFSETTO:-0700
TZNAME:PDT
DTSTART:20260308T100000
END:DAYLIGHT
BEGIN:STANDARD
TZOFFSETFROM:-0700
TZOFFSETTO:-0800
TZNAME:PST
DTSTART:20261101T090000
END:STANDARD
END:VTIMEZONE
BEGIN:VEVENT
DTSTART;VALUE=DATE:20250808
DTEND;VALUE=DATE:20250809
DTSTAMP:20260422T212517
CREATED:20250730T181401Z
LAST-MODIFIED:20250730T181401Z
UID:22598-1754611200-1754697599@soulofca.org
SUMMARY:Cars\, Cocktails\, Calamari
DESCRIPTION:During the upcoming Car Week the Fisherman’s Wharf will be hosting several events and this ongoing one. Come to the Wharf and enjoy many interesting events and special deals on food and drink at several restaurants. Lots of details at https://www.montereywharf.com
URL:https://soulofca.org/event/cars-cocktails-calamari/
LOCATION:Fisherman’s Wharf\, Monterey\, CA\, 93940\, United States
END:VEVENT
BEGIN:VEVENT
DTSTART;VALUE=DATE:20250808
DTEND;VALUE=DATE:20250816
DTSTAMP:20260422T212517
CREATED:20250521T204912Z
LAST-MODIFIED:20250521T204912Z
UID:21940-1754611200-1755302399@soulofca.org
SUMMARY:Monterey Car Week
DESCRIPTION:This is one of the outstanding gatherings centered around automobiles. People from around the world come to look at\, buy\, sell\, and get information about cars from every era and continent. There are so many events\,times\, and sites the calendar would be clogged with entries. So go to these websites for more particular information. Of course\, some of the organizations and activities have their own websites. But you can start here. \nhttps://www.seemonterey.com  or https://.www;whatsupmonterey.com
URL:https://soulofca.org/event/monterey-car-week-2/
LOCATION:CA
END:VEVENT
BEGIN:VEVENT
DTSTART;TZID=America/Los_Angeles:20250808T080000
DTEND;TZID=America/Los_Angeles:20250808T120000
DTSTAMP:20260422T212518
CREATED:20250625T213600Z
LAST-MODIFIED:20250625T213600Z
UID:22142-1754640000-1754654400@soulofca.org
SUMMARY:Farmers Market Del Monte Mall
DESCRIPTION:The signs of the end of summer are approaching. Things like school supplies are being featured in ads. So it must be time to really get out to the markets just like you may have promised yourself you were going to  do. What better time? Lots of fresh produce and friendly people. Keep an eye out for special food demos and recipes for new foods. Lots to see and do besides check out the delicious foods fresh and prepared. are available. Go to https://www.montereycfb.com for other days\, times \, and sites.
URL:https://soulofca.org/event/farmers-market-del-monte-mall-20/
LOCATION:Del Monte Shopping Center\, Munras Ave.\, Monterey\, CA\, 93940\, United States
END:VEVENT
BEGIN:VEVENT
DTSTART;TZID=America/Los_Angeles:20250808T120000
DTEND;TZID=America/Los_Angeles:20250808T170000
DTSTAMP:20260422T212518
CREATED:20250625T213718Z
LAST-MODIFIED:20250625T213718Z
UID:22144-1754654400-1754672400@soulofca.org
SUMMARY:Salinas Valley Memorial Hospital
DESCRIPTION:The signs of the end of summer are approaching. Things like school supplies are being featured in ads. So it must be time to really get out to the markets just like you may have promised yourself you were going to  do. What better time? Lots of fresh produce and friendly people. Keep an eye out for special food demos and recipes for new foods. Lots to see and do besides check out the delicious foods fresh and prepared. are available. Go to https://www.montereycfb.com for other days\, times \, and sites.
URL:https://soulofca.org/event/salinas-valley-memorial-hospital/
LOCATION:Salinas Valley Memorial Hospital\, Romie Lane \, Salinas \, CA\, United States
END:VEVENT
BEGIN:VEVENT
DTSTART;TZID=America/Los_Angeles:20250808T140000
DTEND;TZID=America/Los_Angeles:20250808T190000
DTSTAMP:20260422T212518
CREATED:20250625T214001Z
LAST-MODIFIED:20250625T214001Z
UID:22148-1754661600-1754679600@soulofca.org
SUMMARY:Farmers Market Watsonville
DESCRIPTION:The signs of the end of summer are approaching. Things like school supplies are being featured in ads. So it must be time to really get out to the markets just like you may have promised yourself you were going to  do. What better time? Lots of fresh produce and friendly people. Keep an eye out for special food demos and recipes for new foods. Lots to see and do besides check out the delicious foods fresh and prepared. are available. Go to https://www.montereycfb.com for other days\, times \, and sites.
URL:https://soulofca.org/event/farmers-market-watsonville-8/
LOCATION:Downtown Watsonville\, Downtown Plaza\, Watsonville\, CA\, 95076\, United States
END:VEVENT
BEGIN:VEVENT
DTSTART;TZID=America/Los_Angeles:20250808T160000
DTEND;TZID=America/Los_Angeles:20250808T210000
DTSTAMP:20260422T212518
CREATED:20250625T213836Z
LAST-MODIFIED:20250625T213836Z
UID:22146-1754668800-1754686800@soulofca.org
SUMMARY:Mercado Popular Salinas Sports Complex
DESCRIPTION:The signs of the end of summer are approaching. Things like school supplies are being featured in ads. So it must be time to really get out to the markets just like you may have promised yourself you were going to  do. What better time? Lots of fresh produce and friendly people. Keep an eye out for special food demos and recipes for new foods. Lots to see and do besides check out the delicious foods fresh and prepared. are available. Go to https://www.montereycfb.com for other days\, times \, and sites.
URL:https://soulofca.org/event/mercado-popular-salinas-sports-complex-13/
LOCATION:Salinas Sports Complex\, N. Main Street\, Salinas \, CA\, United States
END:VEVENT
BEGIN:VEVENT
DTSTART;TZID=America/Los_Angeles:20250808T170000
DTEND;TZID=America/Los_Angeles:20250818T210000
DTSTAMP:20260422T212518
CREATED:20250730T183540Z
LAST-MODIFIED:20250730T183540Z
UID:22609-1754672400-1755550800@soulofca.org
SUMMARY:Marinelli Brothers Circus
DESCRIPTION:It’s a classic circus with lots of dangerous and thrilling acts and others which simply amuse and make us laugh. They will be in town for ten days and then gone. This is your chance to “run away with the circus” or just go see the exciting things they offer. You can see the performers and more at their website https://www.marinellibroscircus.com
URL:https://soulofca.org/event/marinelli-brothers-circus/
LOCATION:Northridge Mall\, N. Main St.\, Salinas\, CA\, 93906\, United States
END:VEVENT
BEGIN:VEVENT
DTSTART;TZID=America/Los_Angeles:20250808T180000
DTEND;TZID=America/Los_Angeles:20250808T200000
DTSTAMP:20260422T212518
CREATED:20250613T181710Z
LAST-MODIFIED:20250613T181710Z
UID:22012-1754676000-1754683200@soulofca.org
SUMMARY:Soledad Music in the Park
DESCRIPTION:Through the summer the City of Soledad is sponsoring a music program with talented local professional musicians. Check out their website for the featured musicians. It’s at https://www.cityofsoledad.com
URL:https://soulofca.org/event/soledad-music-in-the-park-2/
LOCATION:soledad Park\, 555 Front St\, Soledad\, CA\, United States
END:VEVENT
BEGIN:VEVENT
DTSTART;TZID=America/Los_Angeles:20250808T210000
DTEND;TZID=America/Los_Angeles:20250808T223000
DTSTAMP:20260422T212518
CREATED:20250613T210545Z
LAST-MODIFIED:20250613T210545Z
UID:22025-1754686800-1754692200@soulofca.org
SUMMARY:Turn the Beat Around
DESCRIPTION:Gabie Lopez is the lead singer of this Gloria Estefan tribute band.  She is said to have a dynamic stage presence and marvelous voice.Find out how to attend by going to https://www.foxtheatersalinas.com
URL:https://soulofca.org/event/turn-the-beat-around/
LOCATION:Fox Theater\, 239 Main St.\, Salinas\, CA\, 93901\, United States
END:VEVENT
END:VCALENDAR