BEGIN:VCALENDAR
VERSION:2.0
PRODID:-//Soul of CA - ECPv6.15.17//NONSGML v1.0//EN
CALSCALE:GREGORIAN
METHOD:PUBLISH
X-ORIGINAL-URL:https://soulofca.org
X-WR-CALDESC:Events for Soul of CA
REFRESH-INTERVAL;VALUE=DURATION:PT1H
X-Robots-Tag:noindex
X-PUBLISHED-TTL:PT1H
BEGIN:VTIMEZONE
TZID:America/Los_Angeles
BEGIN:DAYLIGHT
TZOFFSETFROM:-0800
TZOFFSETTO:-0700
TZNAME:PDT
DTSTART:20240310T100000
END:DAYLIGHT
BEGIN:STANDARD
TZOFFSETFROM:-0700
TZOFFSETTO:-0800
TZNAME:PST
DTSTART:20241103T090000
END:STANDARD
BEGIN:DAYLIGHT
TZOFFSETFROM:-0800
TZOFFSETTO:-0700
TZNAME:PDT
DTSTART:20250309T100000
END:DAYLIGHT
BEGIN:STANDARD
TZOFFSETFROM:-0700
TZOFFSETTO:-0800
TZNAME:PST
DTSTART:20251102T090000
END:STANDARD
BEGIN:DAYLIGHT
TZOFFSETFROM:-0800
TZOFFSETTO:-0700
TZNAME:PDT
DTSTART:20260308T100000
END:DAYLIGHT
BEGIN:STANDARD
TZOFFSETFROM:-0700
TZOFFSETTO:-0800
TZNAME:PST
DTSTART:20261101T090000
END:STANDARD
END:VTIMEZONE
BEGIN:VEVENT
DTSTART;TZID=America/Los_Angeles:20250806T110000
DTEND;TZID=America/Los_Angeles:20250806T153000
DTSTAMP:20260422T212517
CREATED:20250625T212551Z
LAST-MODIFIED:20250625T212551Z
UID:22125-1754478000-1754494200@soulofca.org
SUMMARY:Farmers Market Natividad Hospital
DESCRIPTION:The signs of the end of summer are approaching. Things like school supplies are being featured in ads. So it must be time to really get out to the markets just like you may have promised yourself you were going to  do. What better time? Lots of fresh produce and friendly people. Keep an eye out for special food demos and recipes for new foods. Lots to see and do besides check out the delicious foods fresh and prepared. are available. Go to https://www.montereycfb.com for other days\, times \, and sites.
URL:https://soulofca.org/event/farmers-market-natividad-hospital-10/
LOCATION:Natividad Hospital\, E. Laurel Dr.\, Salinas\, United States
END:VEVENT
BEGIN:VEVENT
DTSTART;TZID=America/Los_Angeles:20250806T130000
DTEND;TZID=America/Los_Angeles:20250806T170000
DTSTAMP:20260422T212517
CREATED:20250625T213009Z
LAST-MODIFIED:20250625T213009Z
UID:22131-1754485200-1754499600@soulofca.org
SUMMARY:Farmers Market Santa Cruz (downtown)
DESCRIPTION:The signs of the end of summer are approaching. Things like school supplies are being featured in ads. So it must be time to really get out to the markets just like you may have promised yourself you were going to  do. What better time? Lots of fresh produce and friendly people. Keep an eye out for special food demos and recipes for new foods. Lots to see and do besides check out the delicious foods fresh and prepared. are available. Go to https://www.montereycfb.com for other days\, times \, and sites.
URL:https://soulofca.org/event/farmers-market-santa-cruz-downtown-7/
LOCATION:Cedar & Lincoln Sts.\, Santa Cruz\, CA\, United States
END:VEVENT
BEGIN:VEVENT
DTSTART;TZID=America/Los_Angeles:20250806T150000
DTEND;TZID=America/Los_Angeles:20250806T190000
DTSTAMP:20260422T212517
CREATED:20250625T212836Z
LAST-MODIFIED:20250625T212836Z
UID:22129-1754492400-1754506800@soulofca.org
SUMMARY:Farmers Market Hollister
DESCRIPTION:The signs of the end of summer are approaching. Things like school supplies are being featured in ads. So it must be time to really get out to the markets just like you may have promised yourself you were going to  do. What better time? Lots of fresh produce and friendly people. Keep an eye out for special food demos and recipes for new foods. Lots to see and do besides check out the delicious foods fresh and prepared. are available. Go to https://www.montereycfb.com for other days\, times \, and sites.
URL:https://soulofca.org/event/farmers-market-hollister-10/
LOCATION:Downtown Hollister\, Hollister\, CA\, United States
END:VEVENT
BEGIN:VEVENT
DTSTART;TZID=America/Los_Angeles:20250806T160000
DTEND;TZID=America/Los_Angeles:20250806T190000
DTSTAMP:20260422T212517
CREATED:20250625T212713Z
LAST-MODIFIED:20250625T212713Z
UID:22127-1754496000-1754506800@soulofca.org
SUMMARY:Farmers Market King City
DESCRIPTION:The signs of the end of summer are approaching. Things like school supplies are being featured in ads. So it must be time to really get out to the markets just like you may have promised yourself you were going to  do. What better time? Lots of fresh produce and friendly people. Keep an eye out for special food demos and recipes for new foods. Lots to see and do besides check out the delicious foods fresh and prepared. are available. Go to https://www.montereycfb.com for other days\, times \, and sites.
URL:https://soulofca.org/event/farmers-market-king-city-10/
LOCATION:Downtown King City\, King City\, CA\, United States
END:VEVENT
BEGIN:VEVENT
DTSTART;TZID=America/Los_Angeles:20250806T183000
DTEND;TZID=America/Los_Angeles:20250806T220000
DTSTAMP:20260422T212517
CREATED:20250702T192543Z
LAST-MODIFIED:20250702T192543Z
UID:22176-1754505000-1754517600@soulofca.org
SUMMARY:The Reel Show
DESCRIPTION:For a while now the Lighthouse Theater folks in Pacific Grove have been hosting an open mic night at their site. As you might guess it includes\, comics\, singer\, poets and more. You can see them and join in the fun of performing. Every Wednesday evening from 6:00 until 10:00.
URL:https://soulofca.org/event/the-reel-show/
LOCATION:lighthouse cinema\, 525 Lighthouse Ave.\, Pacific Grove\, CA\, 93950\, United States
END:VEVENT
BEGIN:VEVENT
DTSTART;TZID=America/Los_Angeles:20250806T190000
DTEND;TZID=America/Los_Angeles:20250806T213000
DTSTAMP:20260422T212517
CREATED:20250430T182523Z
LAST-MODIFIED:20250430T182523Z
UID:21606-1754506800-1754515800@soulofca.org
SUMMARY:Monterey Bay FC v. Tulsa FC
DESCRIPTION:The Crisp & Kelp are off to a great start this season and they are aiming to not only qualify for the playoffs but win the whole thing. You can be part of this effort by coming out and cheering them on. There are several deals and specials available on their website. Go to https://www.montereybayfc.com
URL:https://soulofca.org/event/monterey-bay-fc-v-tulsa-fc/
LOCATION:Cardinale Stadium\, CSUMB campus\, Marina\, CA\, United States
END:VEVENT
END:VCALENDAR