BEGIN:VCALENDAR
VERSION:2.0
PRODID:-//Soul of CA - ECPv6.15.17//NONSGML v1.0//EN
CALSCALE:GREGORIAN
METHOD:PUBLISH
X-ORIGINAL-URL:https://soulofca.org
X-WR-CALDESC:Events for Soul of CA
REFRESH-INTERVAL;VALUE=DURATION:PT1H
X-Robots-Tag:noindex
X-PUBLISHED-TTL:PT1H
BEGIN:VTIMEZONE
TZID:America/Los_Angeles
BEGIN:DAYLIGHT
TZOFFSETFROM:-0800
TZOFFSETTO:-0700
TZNAME:PDT
DTSTART:20240310T100000
END:DAYLIGHT
BEGIN:STANDARD
TZOFFSETFROM:-0700
TZOFFSETTO:-0800
TZNAME:PST
DTSTART:20241103T090000
END:STANDARD
BEGIN:DAYLIGHT
TZOFFSETFROM:-0800
TZOFFSETTO:-0700
TZNAME:PDT
DTSTART:20250309T100000
END:DAYLIGHT
BEGIN:STANDARD
TZOFFSETFROM:-0700
TZOFFSETTO:-0800
TZNAME:PST
DTSTART:20251102T090000
END:STANDARD
BEGIN:DAYLIGHT
TZOFFSETFROM:-0800
TZOFFSETTO:-0700
TZNAME:PDT
DTSTART:20260308T100000
END:DAYLIGHT
BEGIN:STANDARD
TZOFFSETFROM:-0700
TZOFFSETTO:-0800
TZNAME:PST
DTSTART:20261101T090000
END:STANDARD
END:VTIMEZONE
BEGIN:VEVENT
DTSTART;TZID=America/Los_Angeles:20250805T090000
DTEND;TZID=America/Los_Angeles:20250805T130000
DTSTAMP:20260422T212505
CREATED:20250625T212425Z
LAST-MODIFIED:20250625T212425Z
UID:22123-1754384400-1754398800@soulofca.org
SUMMARY:Farmers Market Barnyard
DESCRIPTION:The signs of the end of summer are approaching. Things like school supplies are being featured in ads. So it must be time to really get out to the markets just like you may have promised yourself you were going to  do. What better time? Lots of fresh produce and friendly people. Keep an eye out for special food demos and recipes for new foods. Lots to see and do besides check out the delicious foods fresh and prepared. are available. Go to https://www.montereycfb.com for other days\, times \, and sites.
URL:https://soulofca.org/event/farmers-market-barnyard-10/
LOCATION:The Barnyard\, Barnyard Shopping Center\, Carmel by the Sea\, CA\, United States
END:VEVENT
BEGIN:VEVENT
DTSTART;TZID=America/Los_Angeles:20250805T110000
DTEND;TZID=America/Los_Angeles:20250805T160000
DTSTAMP:20260422T212505
CREATED:20250625T212320Z
LAST-MODIFIED:20250625T212320Z
UID:22121-1754391600-1754409600@soulofca.org
SUMMARY:Farmers Market E. Alisal
DESCRIPTION:The signs of the end of summer are approaching. Things like school supplies are being featured in ads. So it must be time to really get out to the markets just like you may have promised yourself you were going to  do. What better time? Lots of fresh produce and friendly people. Keep an eye out for special food demos and recipes for new foods. Lots to see and do besides check out the delicious foods fresh and prepared. are available. Go to https://www.montereycfb.com for other days\, times \, and sites.
URL:https://soulofca.org/event/farmers-market-e-alisal-11/
LOCATION:WIC Office\, 632 E. Alisal St.\, Salinas\, CA\, United States
END:VEVENT
BEGIN:VEVENT
DTSTART;TZID=America/Los_Angeles:20250805T160000
DTEND;TZID=America/Los_Angeles:20250805T190000
DTSTAMP:20260422T212505
CREATED:20250625T212218Z
LAST-MODIFIED:20250625T212218Z
UID:22119-1754409600-1754420400@soulofca.org
SUMMARY:Farmers Market Monterey
DESCRIPTION:The signs of the end of summer are approaching. Things like school supplies are being featured in ads. So it must be time to really get out to the markets just like you may have promised yourself you were going to  do. What better time? Lots of fresh produce and friendly people. Keep an eye out for special food demos and recipes for new foods. Lots to see and do besides check out the delicious foods fresh and prepared. are available. Go to https://www.montereycfb.com for other days\, times \, and sites.
URL:https://soulofca.org/event/farmers-market-monterey-11/
LOCATION:Downtown Monterey\, Monterey\, CA\, United States
END:VEVENT
BEGIN:VEVENT
DTSTART;TZID=America/Los_Angeles:20250805T170000
DTEND;TZID=America/Los_Angeles:20250805T193000
DTSTAMP:20260422T212505
CREATED:20250730T181036Z
LAST-MODIFIED:20250730T181036Z
UID:22596-1754413200-1754422200@soulofca.org
SUMMARY:National Night Out
DESCRIPTION:Throughout the country there will be cities participating in this event. It is an effort to familiarize the communities with their law enforcement organizations and get people out and into their parks\, streets\, and activities. Hope you can participate.  Go to https://www.police.salinas.gov and get more info.
URL:https://soulofca.org/event/national-night-out/
LOCATION:Salinas Sports Complex\, N. Main Street\, Salinas \, CA\, United States
END:VEVENT
END:VCALENDAR