BEGIN:VCALENDAR
VERSION:2.0
PRODID:-//Soul of CA - ECPv6.15.17//NONSGML v1.0//EN
CALSCALE:GREGORIAN
METHOD:PUBLISH
X-ORIGINAL-URL:https://soulofca.org
X-WR-CALDESC:Events for Soul of CA
REFRESH-INTERVAL;VALUE=DURATION:PT1H
X-Robots-Tag:noindex
X-PUBLISHED-TTL:PT1H
BEGIN:VTIMEZONE
TZID:America/Los_Angeles
BEGIN:DAYLIGHT
TZOFFSETFROM:-0800
TZOFFSETTO:-0700
TZNAME:PDT
DTSTART:20240310T100000
END:DAYLIGHT
BEGIN:STANDARD
TZOFFSETFROM:-0700
TZOFFSETTO:-0800
TZNAME:PST
DTSTART:20241103T090000
END:STANDARD
BEGIN:DAYLIGHT
TZOFFSETFROM:-0800
TZOFFSETTO:-0700
TZNAME:PDT
DTSTART:20250309T100000
END:DAYLIGHT
BEGIN:STANDARD
TZOFFSETFROM:-0700
TZOFFSETTO:-0800
TZNAME:PST
DTSTART:20251102T090000
END:STANDARD
BEGIN:DAYLIGHT
TZOFFSETFROM:-0800
TZOFFSETTO:-0700
TZNAME:PDT
DTSTART:20260308T100000
END:DAYLIGHT
BEGIN:STANDARD
TZOFFSETFROM:-0700
TZOFFSETTO:-0800
TZNAME:PST
DTSTART:20261101T090000
END:STANDARD
END:VTIMEZONE
BEGIN:VEVENT
DTSTART;TZID=America/Los_Angeles:20250801T080000
DTEND;TZID=America/Los_Angeles:20250801T120000
DTSTAMP:20260422T212509
CREATED:20250618T215756Z
LAST-MODIFIED:20250618T215756Z
UID:22078-1754035200-1754049600@soulofca.org
SUMMARY:Farmers Market Del Monte Mall
DESCRIPTION:As summer progresses it becomes more obvious that the local farmers markets have the best selection and freshest produce. Lots of varied and interesting vegetables\, and now the stone fruits have been getting better and better with the summer warmth. So what are you waiting for? Check out the calendar and find the nearest market. More listing of markets and dates is at https://www.montereycfb.com
URL:https://soulofca.org/event/farmers-market-del-monte-mall-18/
LOCATION:Del Monte Shopping Center\, Munras Ave.\, Monterey\, CA\, 93940\, United States
END:VEVENT
BEGIN:VEVENT
DTSTART;TZID=America/Los_Angeles:20250801T100000
DTEND;TZID=America/Los_Angeles:20250801T140000
DTSTAMP:20260422T212509
CREATED:20250618T220550Z
LAST-MODIFIED:20250618T220550Z
UID:22088-1754042400-1754056800@soulofca.org
SUMMARY:Farmers Market Moss Landing
DESCRIPTION:As summer progresses it becomes more obvious that the local farmers markets have the best selection and freshest produce. Lots of varied and interesting vegetables\, and now the stone fruits have been getting better and better with the summer warmth. So what are you waiting for? Check out the calendar and find the nearest market. More listing of markets and dates is at https://www.montereycfb.com
URL:https://soulofca.org/event/farmers-market-moss-landing-11/
LOCATION:Power Plant\, Highway One\, Moss Landing\, CA\, United States
END:VEVENT
BEGIN:VEVENT
DTSTART;TZID=America/Los_Angeles:20250801T120000
DTEND;TZID=America/Los_Angeles:20250801T170000
DTSTAMP:20260422T212509
CREATED:20250618T220010Z
LAST-MODIFIED:20250618T220010Z
UID:22080-1754049600-1754067600@soulofca.org
SUMMARY:Farmers Market Salinas Valley Memorial Hospital
DESCRIPTION:As summer progresses it becomes more obvious that the local farmers markets have the best selection and freshest produce. Lots of varied and interesting vegetables\, and now the stone fruits have been getting better and better with the summer warmth. So what are you waiting for? Check out the calendar and find the nearest market. More listing of markets and dates is at https://www.montereycfb.com
URL:https://soulofca.org/event/farmers-market-salinas-valley-memorial-hospital-10/
LOCATION:Salinas Valley Memorial Hospital\, Romie Lane \, Salinas \, CA\, United States
END:VEVENT
BEGIN:VEVENT
DTSTART;TZID=America/Los_Angeles:20250801T140000
DTEND;TZID=America/Los_Angeles:20250801T190000
DTSTAMP:20260422T212509
CREATED:20250618T220257Z
LAST-MODIFIED:20250618T220257Z
UID:22084-1754056800-1754074800@soulofca.org
SUMMARY:Farmers Market Watsonville
DESCRIPTION:As summer progresses it becomes more obvious that the local farmers markets have the best selection and freshest produce. Lots of varied and interesting vegetables\, and now the stone fruits have been getting better and better with the summer warmth. So what are you waiting for? Check out the calendar and find the nearest market. More listing of markets and dates is at https://www.montereycfb.com
URL:https://soulofca.org/event/farmers-market-watsonville-7/
LOCATION:Downtown Watsonville\, Downtown Plaza\, Watsonville\, CA\, 95076\, United States
END:VEVENT
BEGIN:VEVENT
DTSTART;TZID=America/Los_Angeles:20250801T160000
DTEND;TZID=America/Los_Angeles:20250801T210000
DTSTAMP:20260422T212509
CREATED:20250618T220133Z
LAST-MODIFIED:20250618T220133Z
UID:22082-1754064000-1754082000@soulofca.org
SUMMARY:Mercado Popular Salinas Sports Complex
DESCRIPTION:As summer progresses it becomes more obvious that the local farmers markets have the best selection and freshest produce. Lots of varied and interesting vegetables\, and now the stone fruits have been getting better and better with the summer warmth. So what are you waiting for? Check out the calendar and find the nearest market. More listing of markets and dates is at https://www.montereycfb.com
URL:https://soulofca.org/event/mercado-popular-salinas-sports-complex-12/
LOCATION:Salinas Sports Complex\, N. Main Street\, Salinas \, CA\, United States
END:VEVENT
BEGIN:VEVENT
DTSTART;TZID=America/Los_Angeles:20250801T170000
DTEND;TZID=America/Los_Angeles:20250803T220000
DTSTAMP:20260422T212509
CREATED:20250723T173216Z
LAST-MODIFIED:20250723T173216Z
UID:22507-1754067600-1754258400@soulofca.org
SUMMARY:Monterey Skates
DESCRIPTION:Looking for a fun experience that will give you some exercise and fond memories? Try roller skating. The folks here have a variety of programs designed to make sure you have a good time while skating. Check out their website for those details and much more. It’s at https://www.montereyskates.com
URL:https://soulofca.org/event/monterey-skates-2/
LOCATION:Monterey County Fairgrounds\, 2004 Fairground Rd.\, Monterey\, CA\, 93940\, United States
END:VEVENT
BEGIN:VEVENT
DTSTART;TZID=America/Los_Angeles:20250801T190000
DTEND;TZID=America/Los_Angeles:20250801T220000
DTSTAMP:20260422T212509
CREATED:20250613T180600Z
LAST-MODIFIED:20250613T180600Z
UID:22005-1754074800-1754085600@soulofca.org
SUMMARY:Jerry Garcia Birthday Bash
DESCRIPTION:This is the 16th iteration of David Holodilof’s celebration of Mr. Garcia’s birthday. He is joined by a number of the talented musicians from the area for an evening of Grateful Dead music and two separate sets of music in the lovely setting of the Henry Miller Library.  Go to their website at https://www.henrymiller.org and get all the necessary information.
URL:https://soulofca.org/event/jerry-garcia-birthday-bash/
LOCATION:Henry Miller Library\, 48603 Highway One\, Big Sur\, CA\, 93920\, United States
END:VEVENT
END:VCALENDAR