BEGIN:VCALENDAR
VERSION:2.0
PRODID:-//Soul of CA - ECPv6.15.17//NONSGML v1.0//EN
CALSCALE:GREGORIAN
METHOD:PUBLISH
X-ORIGINAL-URL:https://soulofca.org
X-WR-CALDESC:Events for Soul of CA
REFRESH-INTERVAL;VALUE=DURATION:PT1H
X-Robots-Tag:noindex
X-PUBLISHED-TTL:PT1H
BEGIN:VTIMEZONE
TZID:America/Los_Angeles
BEGIN:DAYLIGHT
TZOFFSETFROM:-0800
TZOFFSETTO:-0700
TZNAME:PDT
DTSTART:20240310T100000
END:DAYLIGHT
BEGIN:STANDARD
TZOFFSETFROM:-0700
TZOFFSETTO:-0800
TZNAME:PST
DTSTART:20241103T090000
END:STANDARD
BEGIN:DAYLIGHT
TZOFFSETFROM:-0800
TZOFFSETTO:-0700
TZNAME:PDT
DTSTART:20250309T100000
END:DAYLIGHT
BEGIN:STANDARD
TZOFFSETFROM:-0700
TZOFFSETTO:-0800
TZNAME:PST
DTSTART:20251102T090000
END:STANDARD
BEGIN:DAYLIGHT
TZOFFSETFROM:-0800
TZOFFSETTO:-0700
TZNAME:PDT
DTSTART:20260308T100000
END:DAYLIGHT
BEGIN:STANDARD
TZOFFSETFROM:-0700
TZOFFSETTO:-0800
TZNAME:PST
DTSTART:20261101T090000
END:STANDARD
END:VTIMEZONE
BEGIN:VEVENT
DTSTART;TZID=America/Los_Angeles:20250730T080000
DTEND;TZID=America/Los_Angeles:20250730T170000
DTSTAMP:20260422T212505
CREATED:20250730T180003Z
LAST-MODIFIED:20250730T180003Z
UID:22591-1753862400-1753894800@soulofca.org
SUMMARY:For the Love of Poetry
DESCRIPTION:It’s an exhibition\, now through the end of September\, of calligraphic interpretations of poetry. Imagine a favorite poem written out in beautiful script. Go to https://www.pacificgrovelibrary.org and get more details.
URL:https://soulofca.org/event/for-the-love-of-poetry/
LOCATION:Pacific Grove Public Library\, 550 Central Ave. \, Pacific Grove\, CA\, 93950\, United States
END:VEVENT
BEGIN:VEVENT
DTSTART;TZID=America/Los_Angeles:20250730T110000
DTEND;TZID=America/Los_Angeles:20250730T153000
DTSTAMP:20260422T212505
CREATED:20250618T214510Z
LAST-MODIFIED:20250618T214510Z
UID:22062-1753873200-1753889400@soulofca.org
SUMMARY:Farmers Market Natividad Hospital
DESCRIPTION:As summer progresses it becomes more obvious that the local farmers markets have the best selection and freshest produce. Lots of varied and interesting vegetables\, and now the stone fruits have been getting better and better with the summer warmth. So what are you waiting for? Check out the calendar and find the nearest market. More listing of markets and dates is at https://www.montereycfb.com
URL:https://soulofca.org/event/farmers-market-natividad-hospital-9/
LOCATION:Natividad Hospital\, E. Laurel Dr.\, Salinas\, United States
END:VEVENT
BEGIN:VEVENT
DTSTART;TZID=America/Los_Angeles:20250730T130000
DTEND;TZID=America/Los_Angeles:20250730T170000
DTSTAMP:20260422T212505
CREATED:20250618T215103Z
LAST-MODIFIED:20250618T215103Z
UID:22068-1753880400-1753894800@soulofca.org
SUMMARY:Farmers Market Santa Cruz
DESCRIPTION:As summer progresses it becomes more obvious that the local farmers markets have the best selection and freshest produce. Lots of varied and interesting vegetables\, and now the stone fruits have been getting better and better with the summer warmth. So what are you waiting for? Check out the calendar and find the nearest market. More listing of markets and dates is at https://www.montereycfb.com
URL:https://soulofca.org/event/farmers-market-santa-cruz-4/
LOCATION:Cedar & Lincoln Sts.\, Santa Cruz\, CA\, United States
END:VEVENT
BEGIN:VEVENT
DTSTART;TZID=America/Los_Angeles:20250730T150000
DTEND;TZID=America/Los_Angeles:20250730T190000
DTSTAMP:20260422T212505
CREATED:20250618T214949Z
LAST-MODIFIED:20250618T214949Z
UID:22066-1753887600-1753902000@soulofca.org
SUMMARY:Farmers Market Hollister
DESCRIPTION:As summer progresses it becomes more obvious that the local farmers markets have the best selection and freshest produce. Lots of varied and interesting vegetables\, and now the stone fruits have been getting better and better with the summer warmth. So what are you waiting for? Check out the calendar and find the nearest market. More listing of markets and dates is at https://www.montereycfb.com
URL:https://soulofca.org/event/farmers-market-hollister-9/
LOCATION:Downtown Hollister\, Hollister\, CA\, United States
END:VEVENT
BEGIN:VEVENT
DTSTART;TZID=America/Los_Angeles:20250730T160000
DTEND;TZID=America/Los_Angeles:20250730T190000
DTSTAMP:20260422T212505
CREATED:20250618T214833Z
LAST-MODIFIED:20250618T214833Z
UID:22064-1753891200-1753902000@soulofca.org
SUMMARY:Farmers Market  King City
DESCRIPTION:As summer progresses it becomes more obvious that the local farmers markets have the best selection and freshest produce. Lots of varied and interesting vegetables\, and now the stone fruits have been getting better and better with the summer warmth. So what are you waiting for? Check out the calendar and find the nearest market. More listing of markets and dates is at https://www.montereycfb.com
URL:https://soulofca.org/event/farmers-market-king-city-9/
LOCATION:Downtown King City\, King City\, CA\, United States
END:VEVENT
END:VCALENDAR