BEGIN:VCALENDAR
VERSION:2.0
PRODID:-//Soul of CA - ECPv6.15.17//NONSGML v1.0//EN
CALSCALE:GREGORIAN
METHOD:PUBLISH
X-ORIGINAL-URL:https://soulofca.org
X-WR-CALDESC:Events for Soul of CA
REFRESH-INTERVAL;VALUE=DURATION:PT1H
X-Robots-Tag:noindex
X-PUBLISHED-TTL:PT1H
BEGIN:VTIMEZONE
TZID:America/Los_Angeles
BEGIN:DAYLIGHT
TZOFFSETFROM:-0800
TZOFFSETTO:-0700
TZNAME:PDT
DTSTART:20240310T100000
END:DAYLIGHT
BEGIN:STANDARD
TZOFFSETFROM:-0700
TZOFFSETTO:-0800
TZNAME:PST
DTSTART:20241103T090000
END:STANDARD
BEGIN:DAYLIGHT
TZOFFSETFROM:-0800
TZOFFSETTO:-0700
TZNAME:PDT
DTSTART:20250309T100000
END:DAYLIGHT
BEGIN:STANDARD
TZOFFSETFROM:-0700
TZOFFSETTO:-0800
TZNAME:PST
DTSTART:20251102T090000
END:STANDARD
BEGIN:DAYLIGHT
TZOFFSETFROM:-0800
TZOFFSETTO:-0700
TZNAME:PDT
DTSTART:20260308T100000
END:DAYLIGHT
BEGIN:STANDARD
TZOFFSETFROM:-0700
TZOFFSETTO:-0800
TZNAME:PST
DTSTART:20261101T090000
END:STANDARD
END:VTIMEZONE
BEGIN:VEVENT
DTSTART;TZID=America/Los_Angeles:20250729T090000
DTEND;TZID=America/Los_Angeles:20250729T130000
DTSTAMP:20260422T212507
CREATED:20250618T214346Z
LAST-MODIFIED:20250618T214346Z
UID:22060-1753779600-1753794000@soulofca.org
SUMMARY:Farmers Market The Barnyard
DESCRIPTION:As summer progresses it becomes more obvious that the local farmers markets have the best selection and freshest produce. Lots of varied and interesting vegetables\, and now the stone fruits have been getting better and better with the summer warmth. So what are you waiting for? Check out the calendar and find the nearest market. More listing of markets and dates is at https://www.montereycfb.com
URL:https://soulofca.org/event/farmers-market-the-barnyard-3/
LOCATION:The Barnyard\, Barnyard Shopping Center\, Carmel by the Sea\, CA\, United States
END:VEVENT
BEGIN:VEVENT
DTSTART;TZID=America/Los_Angeles:20250729T110000
DTEND;TZID=America/Los_Angeles:20250729T160000
DTSTAMP:20260422T212507
CREATED:20250618T214243Z
LAST-MODIFIED:20250618T214243Z
UID:22058-1753786800-1753804800@soulofca.org
SUMMARY:Farmers Market E. Alisal
DESCRIPTION:As summer progresses it becomes more obvious that the local farmers markets have the best selection and freshest produce. Lots of varied and interesting vegetables\, and now the stone fruits have been getting better and better with the summer warmth. So what are you waiting for? Check out the calendar and find the nearest market. More listing of markets and dates is at https://www.montereycfb.com
URL:https://soulofca.org/event/farmers-market-e-alisal-10/
LOCATION:WIC Office\, 632 E. Alisal St.\, Salinas\, CA\, United States
END:VEVENT
BEGIN:VEVENT
DTSTART;TZID=America/Los_Angeles:20250729T160000
DTEND;TZID=America/Los_Angeles:20250729T190000
DTSTAMP:20260422T212507
CREATED:20250618T214131Z
LAST-MODIFIED:20250618T214131Z
UID:22056-1753804800-1753815600@soulofca.org
SUMMARY:Farmers Market Monterey
DESCRIPTION:As summer progresses it becomes more obvious that the local farmers markets have the best selection and freshest produce. Lots of varied and interesting vegetables\, and now the stone fruits have been getting better and better with the summer warmth. So what are you waiting for? Check out the calendar and find the nearest market. More listing of markets and dates is at https://www.montereycfb.com
URL:https://soulofca.org/event/farmers-market-monterey-10/
LOCATION:Downtown Monterey\, Monterey\, CA\, United States
END:VEVENT
END:VCALENDAR