BEGIN:VCALENDAR
VERSION:2.0
PRODID:-//Soul of CA - ECPv6.15.17//NONSGML v1.0//EN
CALSCALE:GREGORIAN
METHOD:PUBLISH
X-ORIGINAL-URL:https://soulofca.org
X-WR-CALDESC:Events for Soul of CA
REFRESH-INTERVAL;VALUE=DURATION:PT1H
X-Robots-Tag:noindex
X-PUBLISHED-TTL:PT1H
BEGIN:VTIMEZONE
TZID:America/Los_Angeles
BEGIN:DAYLIGHT
TZOFFSETFROM:-0800
TZOFFSETTO:-0700
TZNAME:PDT
DTSTART:20170312T100000
END:DAYLIGHT
BEGIN:STANDARD
TZOFFSETFROM:-0700
TZOFFSETTO:-0800
TZNAME:PST
DTSTART:20171105T090000
END:STANDARD
BEGIN:DAYLIGHT
TZOFFSETFROM:-0800
TZOFFSETTO:-0700
TZNAME:PDT
DTSTART:20180311T100000
END:DAYLIGHT
BEGIN:STANDARD
TZOFFSETFROM:-0700
TZOFFSETTO:-0800
TZNAME:PST
DTSTART:20181104T090000
END:STANDARD
BEGIN:DAYLIGHT
TZOFFSETFROM:-0800
TZOFFSETTO:-0700
TZNAME:PDT
DTSTART:20190310T100000
END:DAYLIGHT
BEGIN:STANDARD
TZOFFSETFROM:-0700
TZOFFSETTO:-0800
TZNAME:PST
DTSTART:20191103T090000
END:STANDARD
END:VTIMEZONE
BEGIN:VEVENT
DTSTART;TZID=America/Los_Angeles:20180315T100000
DTEND;TZID=America/Los_Angeles:20181217T170000
DTSTAMP:20260422T071951
CREATED:20180218T224527Z
LAST-MODIFIED:20180218T224527Z
UID:5584-1521108000-1545066000@soulofca.org
SUMMARY:Into the Light  California Women Painters and Photographers
DESCRIPTION:This exhibition features\, guess what\, women artists from California. The many influences that they brought to their work and the personal inspirations caused by the natural beauty of the state are brought to the viewer in these many works.  This is also a sort of grand re-opening of the Pacific Street facility after its extensive remodeling.
URL:https://soulofca.org/event/into-the-light-california-women-painters-and-photographers/
LOCATION:Monterey Museum of Art\, 559 Pacific St. \, Monterey \, CA\, 93940\, United States
END:VEVENT
BEGIN:VEVENT
DTSTART;TZID=America/Los_Angeles:20180315T100000
DTEND;TZID=America/Los_Angeles:20181217T170000
DTSTAMP:20260422T071951
CREATED:20180218T224527Z
LAST-MODIFIED:20180218T224527Z
UID:12242-1521108000-1545066000@soulofca.org
SUMMARY:Into the Light  California Women Painters and Photographers
DESCRIPTION:This exhibition features\, guess what\, women artists from California. The many influences that they brought to their work and the personal inspirations caused by the natural beauty of the state are brought to the viewer in these many works.  This is also a sort of grand re-opening of the Pacific Street facility after its extensive remodeling.
URL:https://soulofca.org/event/into-the-light-california-women-painters-and-photographers-2/
LOCATION:Monterey Museum of Art\, 559 Pacific St. \, Monterey \, CA\, 93940\, United States
END:VEVENT
BEGIN:VEVENT
DTSTART;TZID=America/Los_Angeles:20180416T130000
DTEND;TZID=America/Los_Angeles:20181231T160000
DTSTAMP:20260422T071951
CREATED:20180415T210706Z
LAST-MODIFIED:20180415T210706Z
UID:6071-1523883600-1546272000@soulofca.org
SUMMARY:Point Pinos Lighthouse Tours
DESCRIPTION:Self guided tours through the historic lighthouse at the tip of the Monterey Peninsula. Runs through the end of the year.
URL:https://soulofca.org/event/point-pinos-lighthouse-tours/
LOCATION:Point Pinos Lighthouse\, Monterey \, CA\, United States
END:VEVENT
BEGIN:VEVENT
DTSTART;TZID=America/Los_Angeles:20180416T130000
DTEND;TZID=America/Los_Angeles:20181231T160000
DTSTAMP:20260422T071952
CREATED:20180415T210706Z
LAST-MODIFIED:20180415T210706Z
UID:12375-1523883600-1546272000@soulofca.org
SUMMARY:Point Pinos Lighthouse Tours
DESCRIPTION:Self guided tours through the historic lighthouse at the tip of the Monterey Peninsula. Runs through the end of the year.
URL:https://soulofca.org/event/point-pinos-lighthouse-tours-2/
LOCATION:Point Pinos Lighthouse\, Monterey \, CA\, United States
END:VEVENT
BEGIN:VEVENT
DTSTART;TZID=America/Los_Angeles:20181027T193000
DTEND;TZID=America/Los_Angeles:20181111T170000
DTSTAMP:20260422T071952
CREATED:20180611T203355Z
LAST-MODIFIED:20180611T203355Z
UID:6695-1540668600-1541955600@soulofca.org
SUMMARY:Legacy of Light
DESCRIPTION:The dramatic presentation of two women scientists from different eras and the similarities and differences that face them despite their separation in years.
URL:https://soulofca.org/event/legacy-of-light-2/
LOCATION:Western Stage\, Hartnell College\, Salinas\, CA\, 93901\, United States
END:VEVENT
BEGIN:VEVENT
DTSTART;TZID=America/Los_Angeles:20181027T193000
DTEND;TZID=America/Los_Angeles:20181111T170000
DTSTAMP:20260422T071952
CREATED:20180611T203355Z
LAST-MODIFIED:20180611T203355Z
UID:12559-1540668600-1541955600@soulofca.org
SUMMARY:Legacy of Light
DESCRIPTION:The dramatic presentation of two women scientists from different eras and the similarities and differences that face them despite their separation in years.
URL:https://soulofca.org/event/legacy-of-light-2-2/
LOCATION:Western Stage\, Hartnell College\, Salinas\, CA\, 93901\, United States
END:VEVENT
BEGIN:VEVENT
DTSTART;TZID=America/Los_Angeles:20181027T193000
DTEND;TZID=America/Los_Angeles:20181111T220000
DTSTAMP:20260422T071952
CREATED:20180219T190309Z
LAST-MODIFIED:20180219T190309Z
UID:5628-1540668600-1541973600@soulofca.org
SUMMARY:Legacy of Light
DESCRIPTION:The interwoven story of two women scientists who despite their separation by centuries\, find many similarities in their work and their lives. Check their website for specific dates and times.
URL:https://soulofca.org/event/legacy-of-light/
LOCATION:Western Stage\, Hartnell College\, Salinas\, CA\, 93901\, United States
END:VEVENT
BEGIN:VEVENT
DTSTART;TZID=America/Los_Angeles:20181027T193000
DTEND;TZID=America/Los_Angeles:20181111T220000
DTSTAMP:20260422T071952
CREATED:20180219T190309Z
LAST-MODIFIED:20180219T190309Z
UID:12256-1540668600-1541973600@soulofca.org
SUMMARY:Legacy of Light
DESCRIPTION:The interwoven story of two women scientists who despite their separation by centuries\, find many similarities in their work and their lives. Check their website for specific dates and times.
URL:https://soulofca.org/event/legacy-of-light-3/
LOCATION:Western Stage\, Hartnell College\, Salinas\, CA\, 93901\, United States
END:VEVENT
BEGIN:VEVENT
DTSTART;TZID=America/Los_Angeles:20181101T100000
DTEND;TZID=America/Los_Angeles:20181104T203000
DTSTAMP:20260422T071952
CREATED:20181014T171915Z
LAST-MODIFIED:20181014T171915Z
UID:7672-1541066400-1541363400@soulofca.org
SUMMARY:Big Sur Food and Wine Festival
DESCRIPTION:Join in the fun of Big Sur and the best of food and wine. There will be several activities which involve walking off the luscious food while takin gin the marvels of the scenery. Several days of indulgence and beauty will get you right with the return to reality. http://bigsurfoodandwine.org
URL:https://soulofca.org/event/big-sur-food-and-wine-festival/
LOCATION:Big Sur\, Highway One\, CA\, United States
END:VEVENT
BEGIN:VEVENT
DTSTART;TZID=America/Los_Angeles:20181101T100000
DTEND;TZID=America/Los_Angeles:20181104T203000
DTSTAMP:20260422T071952
CREATED:20181014T171915Z
LAST-MODIFIED:20181014T171915Z
UID:12961-1541066400-1541363400@soulofca.org
SUMMARY:Big Sur Food and Wine Festival
DESCRIPTION:Join in the fun of Big Sur and the best of food and wine. There will be several activities which involve walking off the luscious food while takin gin the marvels of the scenery. Several days of indulgence and beauty will get you right with the return to reality. http://bigsurfoodandwine.org
URL:https://soulofca.org/event/big-sur-food-and-wine-festival-2/
LOCATION:Big Sur\, Highway One\, CA\, United States
END:VEVENT
BEGIN:VEVENT
DTSTART;TZID=America/Los_Angeles:20181102T170000
DTEND;TZID=America/Los_Angeles:20181102T203000
DTSTAMP:20260422T071952
CREATED:20180910T174703Z
LAST-MODIFIED:20180910T174703Z
UID:7422-1541178000-1541190600@soulofca.org
SUMMARY:First Friday (Salinas)
DESCRIPTION:Along with the many artists and musicians throughout the City Center of Salinas there is also the CSUMB satellite campus. Here they also set up wonderful displays featuring art and exhibits of interest to just about anyone. The topics may change but the challenges presented are always worth the time spent.
URL:https://soulofca.org/event/first-friday-salinas-3/
LOCATION:Downtown Salinas\, 1 Main St.\, Salinas\, CA\, 93901\, United States
END:VEVENT
BEGIN:VEVENT
DTSTART;TZID=America/Los_Angeles:20181102T170000
DTEND;TZID=America/Los_Angeles:20181102T203000
DTSTAMP:20260422T071952
CREATED:20180910T174703Z
LAST-MODIFIED:20180910T174703Z
UID:12853-1541178000-1541190600@soulofca.org
SUMMARY:First Friday (Salinas)
DESCRIPTION:Along with the many artists and musicians throughout the City Center of Salinas there is also the CSUMB satellite campus. Here they also set up wonderful displays featuring art and exhibits of interest to just about anyone. The topics may change but the challenges presented are always worth the time spent.
URL:https://soulofca.org/event/first-friday-salinas-3-2/
LOCATION:Downtown Salinas\, 1 Main St.\, Salinas\, CA\, 93901\, United States
END:VEVENT
BEGIN:VEVENT
DTSTART;TZID=America/Los_Angeles:20181102T200000
DTEND;TZID=America/Los_Angeles:20181102T220000
DTSTAMP:20260422T071952
CREATED:20180709T221821Z
LAST-MODIFIED:20180709T221821Z
UID:7031-1541188800-1541196000@soulofca.org
SUMMARY:Pilolobus Dance Company
DESCRIPTION:For the last few years this group has made Carmel a stop in their travels. For good reason their innovative and challenging dance is a big favorite in the area. Come and see things you didn’t realize were part of what we call dance. http://sunsetcenter.org
URL:https://soulofca.org/event/pilolobus-dance-company/
LOCATION:Sunset Center Carpenter Hall\, Mission and 9th\, Carmel\, CA\, 93921\, United States
END:VEVENT
BEGIN:VEVENT
DTSTART;TZID=America/Los_Angeles:20181102T200000
DTEND;TZID=America/Los_Angeles:20181102T220000
DTSTAMP:20260422T071952
CREATED:20180709T221821Z
LAST-MODIFIED:20180709T221821Z
UID:12694-1541188800-1541196000@soulofca.org
SUMMARY:Pilolobus Dance Company
DESCRIPTION:For the last few years this group has made Carmel a stop in their travels. For good reason their innovative and challenging dance is a big favorite in the area. Come and see things you didn’t realize were part of what we call dance. http://sunsetcenter.org
URL:https://soulofca.org/event/pilolobus-dance-company-2/
LOCATION:Sunset Center Carpenter Hall\, Mission and 9th\, Carmel\, CA\, 93921\, United States
END:VEVENT
END:VCALENDAR