BEGIN:VCALENDAR
VERSION:2.0
PRODID:-//Soul of CA - ECPv6.15.17//NONSGML v1.0//EN
CALSCALE:GREGORIAN
METHOD:PUBLISH
X-ORIGINAL-URL:https://soulofca.org
X-WR-CALDESC:Events for Soul of CA
REFRESH-INTERVAL;VALUE=DURATION:PT1H
X-Robots-Tag:noindex
X-PUBLISHED-TTL:PT1H
BEGIN:VTIMEZONE
TZID:America/Los_Angeles
BEGIN:DAYLIGHT
TZOFFSETFROM:-0800
TZOFFSETTO:-0700
TZNAME:PDT
DTSTART:20170312T100000
END:DAYLIGHT
BEGIN:STANDARD
TZOFFSETFROM:-0700
TZOFFSETTO:-0800
TZNAME:PST
DTSTART:20171105T090000
END:STANDARD
BEGIN:DAYLIGHT
TZOFFSETFROM:-0800
TZOFFSETTO:-0700
TZNAME:PDT
DTSTART:20180311T100000
END:DAYLIGHT
BEGIN:STANDARD
TZOFFSETFROM:-0700
TZOFFSETTO:-0800
TZNAME:PST
DTSTART:20181104T090000
END:STANDARD
BEGIN:DAYLIGHT
TZOFFSETFROM:-0800
TZOFFSETTO:-0700
TZNAME:PDT
DTSTART:20190310T100000
END:DAYLIGHT
BEGIN:STANDARD
TZOFFSETFROM:-0700
TZOFFSETTO:-0800
TZNAME:PST
DTSTART:20191103T090000
END:STANDARD
END:VTIMEZONE
BEGIN:VEVENT
DTSTART;TZID=America/Los_Angeles:20180315T100000
DTEND;TZID=America/Los_Angeles:20181217T170000
DTSTAMP:20260420T012312
CREATED:20180218T224527Z
LAST-MODIFIED:20180218T224527Z
UID:12242-1521108000-1545066000@soulofca.org
SUMMARY:Into the Light  California Women Painters and Photographers
DESCRIPTION:This exhibition features\, guess what\, women artists from California. The many influences that they brought to their work and the personal inspirations caused by the natural beauty of the state are brought to the viewer in these many works.  This is also a sort of grand re-opening of the Pacific Street facility after its extensive remodeling.
URL:https://soulofca.org/event/into-the-light-california-women-painters-and-photographers-2/
LOCATION:Monterey Museum of Art\, 559 Pacific St. \, Monterey \, CA\, 93940\, United States
END:VEVENT
BEGIN:VEVENT
DTSTART;TZID=America/Los_Angeles:20180315T100000
DTEND;TZID=America/Los_Angeles:20181217T170000
DTSTAMP:20260420T012312
CREATED:20180218T224527Z
LAST-MODIFIED:20180218T224527Z
UID:5584-1521108000-1545066000@soulofca.org
SUMMARY:Into the Light  California Women Painters and Photographers
DESCRIPTION:This exhibition features\, guess what\, women artists from California. The many influences that they brought to their work and the personal inspirations caused by the natural beauty of the state are brought to the viewer in these many works.  This is also a sort of grand re-opening of the Pacific Street facility after its extensive remodeling.
URL:https://soulofca.org/event/into-the-light-california-women-painters-and-photographers/
LOCATION:Monterey Museum of Art\, 559 Pacific St. \, Monterey \, CA\, 93940\, United States
END:VEVENT
BEGIN:VEVENT
DTSTART;TZID=America/Los_Angeles:20180416T130000
DTEND;TZID=America/Los_Angeles:20181231T160000
DTSTAMP:20260420T012312
CREATED:20180415T210706Z
LAST-MODIFIED:20180415T210706Z
UID:12375-1523883600-1546272000@soulofca.org
SUMMARY:Point Pinos Lighthouse Tours
DESCRIPTION:Self guided tours through the historic lighthouse at the tip of the Monterey Peninsula. Runs through the end of the year.
URL:https://soulofca.org/event/point-pinos-lighthouse-tours-2/
LOCATION:Point Pinos Lighthouse\, Monterey \, CA\, United States
END:VEVENT
BEGIN:VEVENT
DTSTART;TZID=America/Los_Angeles:20180416T130000
DTEND;TZID=America/Los_Angeles:20181231T160000
DTSTAMP:20260420T012312
CREATED:20180415T210706Z
LAST-MODIFIED:20180415T210706Z
UID:6071-1523883600-1546272000@soulofca.org
SUMMARY:Point Pinos Lighthouse Tours
DESCRIPTION:Self guided tours through the historic lighthouse at the tip of the Monterey Peninsula. Runs through the end of the year.
URL:https://soulofca.org/event/point-pinos-lighthouse-tours/
LOCATION:Point Pinos Lighthouse\, Monterey \, CA\, United States
END:VEVENT
BEGIN:VEVENT
DTSTART;TZID=America/Los_Angeles:20181001T110000
DTEND;TZID=America/Los_Angeles:20181031T160000
DTSTAMP:20260420T012312
CREATED:20181001T181701Z
LAST-MODIFIED:20181001T181701Z
UID:12928-1538391600-1541001600@soulofca.org
SUMMARY:Altered Landscapes
DESCRIPTION:This is a show featuring the art of t.c.moore  and Tom Gehrig. moore’s work features assembled materials that re-create figures and landscapes. Gehrig’s more traditional media presents landscapes in unusual ways. Both artists provide compelling views of our world and the changes brought about by humans. http://mpc.edu
URL:https://soulofca.org/event/altered-landscapes-2/
LOCATION:Monterey Peninsula College\, Morgan Stock Theatre 980 Fremont\, Monterey\, CA\, 93940\, United States
END:VEVENT
BEGIN:VEVENT
DTSTART;TZID=America/Los_Angeles:20181001T110000
DTEND;TZID=America/Los_Angeles:20181031T160000
DTSTAMP:20260420T012313
CREATED:20181001T181701Z
LAST-MODIFIED:20181001T181701Z
UID:7593-1538391600-1541001600@soulofca.org
SUMMARY:Altered Landscapes
DESCRIPTION:This is a show featuring the art of t.c.moore  and Tom Gehrig. moore’s work features assembled materials that re-create figures and landscapes. Gehrig’s more traditional media presents landscapes in unusual ways. Both artists provide compelling views of our world and the changes brought about by humans. http://mpc.edu
URL:https://soulofca.org/event/altered-landscapes/
LOCATION:Monterey Peninsula College\, Morgan Stock Theatre 980 Fremont\, Monterey\, CA\, 93940\, United States
END:VEVENT
BEGIN:VEVENT
DTSTART;TZID=America/Los_Angeles:20181011T193000
DTEND;TZID=America/Los_Angeles:20181014T220000
DTSTAMP:20260420T012313
CREATED:20181008T181150Z
LAST-MODIFIED:20181008T181150Z
UID:12937-1539286200-1539554400@soulofca.org
SUMMARY:Desperate Hours
DESCRIPTION:The book and movie from the 50’s is brought up to date in this production. Expect new depictions of the characters and some of the dialogue will be revised. http://mpctheatreco.com
URL:https://soulofca.org/event/desperate-hours-2/
LOCATION:MPC Theater\, Monterey Peninsula College\, Monterey\, CA\, 93940\, United States
END:VEVENT
BEGIN:VEVENT
DTSTART;TZID=America/Los_Angeles:20181011T193000
DTEND;TZID=America/Los_Angeles:20181014T220000
DTSTAMP:20260420T012313
CREATED:20181008T181150Z
LAST-MODIFIED:20181008T181150Z
UID:7618-1539286200-1539554400@soulofca.org
SUMMARY:Desperate Hours
DESCRIPTION:The book and movie from the 50’s is brought up to date in this production. Expect new depictions of the characters and some of the dialogue will be revised. http://mpctheatreco.com
URL:https://soulofca.org/event/desperate-hours/
LOCATION:MPC Theater\, Monterey Peninsula College\, Monterey\, CA\, 93940\, United States
END:VEVENT
BEGIN:VEVENT
DTSTART;TZID=America/Los_Angeles:20181012T193000
DTEND;TZID=America/Los_Angeles:20181014T213000
DTSTAMP:20260420T012313
CREATED:20180924T213728Z
LAST-MODIFIED:20180924T213728Z
UID:12909-1539372600-1539552600@soulofca.org
SUMMARY:Strange Window
DESCRIPTION:This is a new adaptation of Henry James’ “Turn of the Screw”. If you love his work and who doesn’t? Try this one out. Seating is limited and likely to go quickly. Buy ahead of time as there are no guarantees of tickets at the box office at the time of performance. tickets@ucsc.edu
URL:https://soulofca.org/event/strange-window-2/
LOCATION:UCSC Experimental Theater\, Heller & Meyer Streets\, Santa Cruz\, CA\, 95064\, United States
END:VEVENT
BEGIN:VEVENT
DTSTART;TZID=America/Los_Angeles:20181012T193000
DTEND;TZID=America/Los_Angeles:20181014T213000
DTSTAMP:20260420T012313
CREATED:20180924T213728Z
LAST-MODIFIED:20180924T213728Z
UID:7548-1539372600-1539552600@soulofca.org
SUMMARY:Strange Window
DESCRIPTION:This is a new adaptation of Henry James’ “Turn of the Screw”. If you love his work and who doesn’t? Try this one out. Seating is limited and likely to go quickly. Buy ahead of time as there are no guarantees of tickets at the box office at the time of performance. tickets@ucsc.edu
URL:https://soulofca.org/event/strange-window/
LOCATION:UCSC Experimental Theater\, Heller & Meyer Streets\, Santa Cruz\, CA\, 95064\, United States
END:VEVENT
BEGIN:VEVENT
DTSTART;TZID=America/Los_Angeles:20181012T200000
DTEND;TZID=America/Los_Angeles:20181014T150000
DTSTAMP:20260420T012313
CREATED:20180924T204442Z
LAST-MODIFIED:20180924T204442Z
UID:7537-1539374400-1539529200@soulofca.org
SUMMARY:RED
DESCRIPTION:The Tony Award winning Broadway play based on the events of Mark Rothko’s life. In particular his creation of a mural and the changing relations between him and his apprentice. http://sccat.org
URL:https://soulofca.org/event/red-2/
LOCATION:Center Stage Theater\, 1001 Center St.\, Santa Cruz\, CA\, 95060\, United States
END:VEVENT
BEGIN:VEVENT
DTSTART;TZID=America/Los_Angeles:20181012T200000
DTEND;TZID=America/Los_Angeles:20181014T150000
DTSTAMP:20260420T012313
CREATED:20180924T204442Z
LAST-MODIFIED:20180924T204442Z
UID:12904-1539374400-1539529200@soulofca.org
SUMMARY:RED
DESCRIPTION:The Tony Award winning Broadway play based on the events of Mark Rothko’s life. In particular his creation of a mural and the changing relations between him and his apprentice. http://sccat.org
URL:https://soulofca.org/event/red-2-2/
LOCATION:Center Stage Theater\, 1001 Center St.\, Santa Cruz\, CA\, 95060\, United States
END:VEVENT
BEGIN:VEVENT
DTSTART;TZID=America/Los_Angeles:20181013T100000
DTEND;TZID=America/Los_Angeles:20181014T180000
DTSTAMP:20260420T012313
CREATED:20180903T203427Z
LAST-MODIFIED:20180903T203427Z
UID:7409-1539424800-1539540000@soulofca.org
SUMMARY:ROTA Psychic Fair
DESCRIPTION:Since you probably have some doubts and insecurities in this time of turbulence\, come over to the ROTA Fair and have someone help with them. Since they likely already know of your coming\, they will be ready for you.  Lots of merchants\, practitioners\, and other fun folks will be in attendance\, so come by and see if it helps.
URL:https://soulofca.org/event/rota-psychic-fair/
LOCATION:Monterey County Fairgrounds\, 2004 Fairground Rd.\, Monterey\, CA\, 93940\, United States
END:VEVENT
BEGIN:VEVENT
DTSTART;TZID=America/Los_Angeles:20181013T100000
DTEND;TZID=America/Los_Angeles:20181014T180000
DTSTAMP:20260420T012313
CREATED:20180903T203427Z
LAST-MODIFIED:20180903T203427Z
UID:12849-1539424800-1539540000@soulofca.org
SUMMARY:ROTA Psychic Fair
DESCRIPTION:Since you probably have some doubts and insecurities in this time of turbulence\, come over to the ROTA Fair and have someone help with them. Since they likely already know of your coming\, they will be ready for you.  Lots of merchants\, practitioners\, and other fun folks will be in attendance\, so come by and see if it helps.
URL:https://soulofca.org/event/rota-psychic-fair-2/
LOCATION:Monterey County Fairgrounds\, 2004 Fairground Rd.\, Monterey\, CA\, 93940\, United States
END:VEVENT
BEGIN:VEVENT
DTSTART;TZID=America/Los_Angeles:20181014T100000
DTEND;TZID=America/Los_Angeles:20181014T170000
DTSTAMP:20260420T012313
CREATED:20181001T191525Z
LAST-MODIFIED:20181001T191525Z
UID:7604-1539511200-1539536400@soulofca.org
SUMMARY:Fish\, Fins\, and Flukes Festival
DESCRIPTION:Nice title\, very alliterative\, don’t you think? This is a wonderful chance to learn and ask questions about the abundance of animal and plant life of the bay and its environs. http://seymourcenter.ucsc.edu/
URL:https://soulofca.org/event/fish-fins-and-flukes-festival/
LOCATION:Seymour Marine Discovery Center\, 100 McAllister Way\, Santa Cruz\, CA\, 95060\, United States
END:VEVENT
BEGIN:VEVENT
DTSTART;TZID=America/Los_Angeles:20181014T100000
DTEND;TZID=America/Los_Angeles:20181014T170000
DTSTAMP:20260420T012313
CREATED:20181001T191525Z
LAST-MODIFIED:20181001T191525Z
UID:12933-1539511200-1539536400@soulofca.org
SUMMARY:Fish\, Fins\, and Flukes Festival
DESCRIPTION:Nice title\, very alliterative\, don’t you think? This is a wonderful chance to learn and ask questions about the abundance of animal and plant life of the bay and its environs. http://seymourcenter.ucsc.edu/
URL:https://soulofca.org/event/fish-fins-and-flukes-festival-2/
LOCATION:Seymour Marine Discovery Center\, 100 McAllister Way\, Santa Cruz\, CA\, 95060\, United States
END:VEVENT
BEGIN:VEVENT
DTSTART;TZID=America/Los_Angeles:20181014T140000
DTEND;TZID=America/Los_Angeles:20181014T163000
DTSTAMP:20260420T012313
CREATED:20181008T180636Z
LAST-MODIFIED:20181008T180636Z
UID:7616-1539525600-1539534600@soulofca.org
SUMMARY:Suffragette (The Film)
DESCRIPTION:A special showing of the recent movie\, “Suffragette”. it details the story of a young woman\, inspired by the leaders of the movement\, who endeavors to make a difference. After the showing there will be opportunities to register to vote. Not only for women\, they likely will register men also.
URL:https://soulofca.org/event/suffragette-the-film/
LOCATION:Monterey Public Library\, 625 Pacific Street\, Monterey\, CA\, 93940\, United States
END:VEVENT
BEGIN:VEVENT
DTSTART;TZID=America/Los_Angeles:20181014T140000
DTEND;TZID=America/Los_Angeles:20181014T163000
DTSTAMP:20260420T012313
CREATED:20181008T180636Z
LAST-MODIFIED:20181008T180636Z
UID:12936-1539525600-1539534600@soulofca.org
SUMMARY:Suffragette (The Film)
DESCRIPTION:A special showing of the recent movie\, “Suffragette”. it details the story of a young woman\, inspired by the leaders of the movement\, who endeavors to make a difference. After the showing there will be opportunities to register to vote. Not only for women\, they likely will register men also.
URL:https://soulofca.org/event/suffragette-the-film-2/
LOCATION:Monterey Public Library\, 625 Pacific Street\, Monterey\, CA\, 93940\, United States
END:VEVENT
BEGIN:VEVENT
DTSTART;TZID=America/Los_Angeles:20181014T150000
DTEND;TZID=America/Los_Angeles:20181014T170000
DTSTAMP:20260420T012313
CREATED:20180827T175958Z
LAST-MODIFIED:20180827T175958Z
UID:12841-1539529200-1539536400@soulofca.org
SUMMARY:Popovich Comedy Pet Theatre
DESCRIPTION:If you’ve been looking for a delightful show that features household pets and familiar animals\, here you are. Mr. Popovich will bring a smile to the faces of your family and friends. http://riotheatre.com
URL:https://soulofca.org/event/popovich-comedy-pet-theatre-2/
LOCATION:Rio Theater\, 1205 Soquel Ave.\, Santa Cruz\, CA\, 95062\, United States
END:VEVENT
BEGIN:VEVENT
DTSTART;TZID=America/Los_Angeles:20181014T150000
DTEND;TZID=America/Los_Angeles:20181014T170000
DTSTAMP:20260420T012313
CREATED:20180827T175958Z
LAST-MODIFIED:20180827T175958Z
UID:7391-1539529200-1539536400@soulofca.org
SUMMARY:Popovich Comedy Pet Theatre
DESCRIPTION:If you’ve been looking for a delightful show that features household pets and familiar animals\, here you are. Mr. Popovich will bring a smile to the faces of your family and friends. http://riotheatre.com
URL:https://soulofca.org/event/popovich-comedy-pet-theatre/
LOCATION:Rio Theater\, 1205 Soquel Ave.\, Santa Cruz\, CA\, 95062\, United States
END:VEVENT
BEGIN:VEVENT
DTSTART;TZID=America/Los_Angeles:20181014T160000
DTEND;TZID=America/Los_Angeles:20181014T183000
DTSTAMP:20260420T012313
CREATED:20180910T184140Z
LAST-MODIFIED:20180910T184140Z
UID:12868-1539532800-1539541800@soulofca.org
SUMMARY:Jazz at East Village Coffee Lounge
DESCRIPTION:Another venue\, where the locals go\, to find good music and good conversation. A revolving roster of local talent and often some brought in from the eager travelling troubadours. Come have some good java\, tasty goodies and let the world wander by. http://facebook.com/eastvillagemonterey
URL:https://soulofca.org/event/jazz-at-east-village-coffee-lounge-3-2/
LOCATION:East Village Coffee Lounge\, 498 Washington St.\, Monterey\, CA\, 93940\, United States
END:VEVENT
BEGIN:VEVENT
DTSTART;TZID=America/Los_Angeles:20181014T160000
DTEND;TZID=America/Los_Angeles:20181014T183000
DTSTAMP:20260420T012313
CREATED:20180910T184140Z
LAST-MODIFIED:20180910T184140Z
UID:7452-1539532800-1539541800@soulofca.org
SUMMARY:Jazz at East Village Coffee Lounge
DESCRIPTION:Another venue\, where the locals go\, to find good music and good conversation. A revolving roster of local talent and often some brought in from the eager travelling troubadours. Come have some good java\, tasty goodies and let the world wander by. http://facebook.com/eastvillagemonterey
URL:https://soulofca.org/event/jazz-at-east-village-coffee-lounge-3/
LOCATION:East Village Coffee Lounge\, 498 Washington St.\, Monterey\, CA\, 93940\, United States
END:VEVENT
BEGIN:VEVENT
DTSTART;TZID=America/Los_Angeles:20181014T190000
DTEND;TZID=America/Los_Angeles:20181014T203000
DTSTAMP:20260420T012313
CREATED:20180910T173423Z
LAST-MODIFIED:20180910T173423Z
UID:7418-1539543600-1539549000@soulofca.org
SUMMARY:Science Saturday @The Lab
DESCRIPTION:Actually it is on a Sunday. Let’s not dwell on that. These are a series of lectures on science topics geared at the interested everyperson. This one has to do with the recent interst in gravitational waves and their effect on our planet. Will the Earth be pulled into a Black Hole? UCSC professor\, J. Xavier Proschaska\, will give us the recent developments and explanations. info@thelabarts.com
URL:https://soulofca.org/event/science-saturday-the-lab/
LOCATION:The Lab\, 3728 Barnyard Suite G-23\, Carmel\, CA\, 93923\, United States
END:VEVENT
BEGIN:VEVENT
DTSTART;TZID=America/Los_Angeles:20181014T190000
DTEND;TZID=America/Los_Angeles:20181014T203000
DTSTAMP:20260420T012313
CREATED:20180910T173423Z
LAST-MODIFIED:20180910T173423Z
UID:12851-1539543600-1539549000@soulofca.org
SUMMARY:Science Saturday @The Lab
DESCRIPTION:Actually it is on a Sunday. Let’s not dwell on that. These are a series of lectures on science topics geared at the interested everyperson. This one has to do with the recent interst in gravitational waves and their effect on our planet. Will the Earth be pulled into a Black Hole? UCSC professor\, J. Xavier Proschaska\, will give us the recent developments and explanations. info@thelabarts.com
URL:https://soulofca.org/event/science-saturday-the-lab-2/
LOCATION:The Lab\, 3728 Barnyard Suite G-23\, Carmel\, CA\, 93923\, United States
END:VEVENT
BEGIN:VEVENT
DTSTART;TZID=America/Los_Angeles:20181014T193000
DTEND;TZID=America/Los_Angeles:20181014T220000
DTSTAMP:20260420T012313
CREATED:20180910T204837Z
LAST-MODIFIED:20180910T204837Z
UID:12878-1539545400-1539554400@soulofca.org
SUMMARY:Tom Jones (PacRep Theater)
DESCRIPTION:A rollicking farce about the thwarted love of two young people. Adapted from the novel by Henry Fielding and presented in  a family friendly manner\, fun for everyone. http://pacrep.org
URL:https://soulofca.org/event/tom-jones-pacrep-theater-6-2/
LOCATION:Forest Theater\, Santa Rita & Mountain View\, Carmel by the Sea\, CA\, 93923\, United States
END:VEVENT
BEGIN:VEVENT
DTSTART;TZID=America/Los_Angeles:20181014T193000
DTEND;TZID=America/Los_Angeles:20181014T220000
DTSTAMP:20260420T012313
CREATED:20180910T204837Z
LAST-MODIFIED:20180910T204837Z
UID:7474-1539545400-1539554400@soulofca.org
SUMMARY:Tom Jones (PacRep Theater)
DESCRIPTION:A rollicking farce about the thwarted love of two young people. Adapted from the novel by Henry Fielding and presented in  a family friendly manner\, fun for everyone. http://pacrep.org
URL:https://soulofca.org/event/tom-jones-pacrep-theater-6/
LOCATION:Forest Theater\, Santa Rita & Mountain View\, Carmel by the Sea\, CA\, 93923\, United States
END:VEVENT
BEGIN:VEVENT
DTSTART;TZID=America/Los_Angeles:20181014T200000
DTEND;TZID=America/Los_Angeles:20181014T230000
DTSTAMP:20260420T012313
CREATED:20181001T191952Z
LAST-MODIFIED:20181001T191952Z
UID:12934-1539547200-1539558000@soulofca.org
SUMMARY:Orchestra Gold
DESCRIPTION:They describe themselves as analog Afrorock.  The pleasant tunes and instruments from West Africa will be featured in this concert. Under the leadership of Mariam Diakite this diverse\, talented band of musicians will provide an enchanting evening of music.
URL:https://soulofca.org/event/orchestra-gold-2/
LOCATION:Moe’s Alley\, 1535 Commercial Way\, Santa Cruz\, CA\, 95060\, United States
END:VEVENT
BEGIN:VEVENT
DTSTART;TZID=America/Los_Angeles:20181014T200000
DTEND;TZID=America/Los_Angeles:20181014T230000
DTSTAMP:20260420T012313
CREATED:20181001T191952Z
LAST-MODIFIED:20181001T191952Z
UID:7607-1539547200-1539558000@soulofca.org
SUMMARY:Orchestra Gold
DESCRIPTION:They describe themselves as analog Afrorock.  The pleasant tunes and instruments from West Africa will be featured in this concert. Under the leadership of Mariam Diakite this diverse\, talented band of musicians will provide an enchanting evening of music.
URL:https://soulofca.org/event/orchestra-gold/
LOCATION:Moe’s Alley\, 1535 Commercial Way\, Santa Cruz\, CA\, 95060\, United States
END:VEVENT
END:VCALENDAR