BEGIN:VCALENDAR
VERSION:2.0
PRODID:-//Soul of CA - ECPv6.15.17//NONSGML v1.0//EN
CALSCALE:GREGORIAN
METHOD:PUBLISH
X-ORIGINAL-URL:https://soulofca.org
X-WR-CALDESC:Events for Soul of CA
REFRESH-INTERVAL;VALUE=DURATION:PT1H
X-Robots-Tag:noindex
X-PUBLISHED-TTL:PT1H
BEGIN:VTIMEZONE
TZID:America/Los_Angeles
BEGIN:DAYLIGHT
TZOFFSETFROM:-0800
TZOFFSETTO:-0700
TZNAME:PDT
DTSTART:20170312T100000
END:DAYLIGHT
BEGIN:STANDARD
TZOFFSETFROM:-0700
TZOFFSETTO:-0800
TZNAME:PST
DTSTART:20171105T090000
END:STANDARD
BEGIN:DAYLIGHT
TZOFFSETFROM:-0800
TZOFFSETTO:-0700
TZNAME:PDT
DTSTART:20180311T100000
END:DAYLIGHT
BEGIN:STANDARD
TZOFFSETFROM:-0700
TZOFFSETTO:-0800
TZNAME:PST
DTSTART:20181104T090000
END:STANDARD
BEGIN:DAYLIGHT
TZOFFSETFROM:-0800
TZOFFSETTO:-0700
TZNAME:PDT
DTSTART:20190310T100000
END:DAYLIGHT
BEGIN:STANDARD
TZOFFSETFROM:-0700
TZOFFSETTO:-0800
TZNAME:PST
DTSTART:20191103T090000
END:STANDARD
END:VTIMEZONE
BEGIN:VEVENT
DTSTART;TZID=America/Los_Angeles:20180315T100000
DTEND;TZID=America/Los_Angeles:20181217T170000
DTSTAMP:20260422T212526
CREATED:20180218T224527Z
LAST-MODIFIED:20180218T224527Z
UID:5584-1521108000-1545066000@soulofca.org
SUMMARY:Into the Light  California Women Painters and Photographers
DESCRIPTION:This exhibition features\, guess what\, women artists from California. The many influences that they brought to their work and the personal inspirations caused by the natural beauty of the state are brought to the viewer in these many works.  This is also a sort of grand re-opening of the Pacific Street facility after its extensive remodeling.
URL:https://soulofca.org/event/into-the-light-california-women-painters-and-photographers/
LOCATION:Monterey Museum of Art\, 559 Pacific St. \, Monterey \, CA\, 93940\, United States
END:VEVENT
BEGIN:VEVENT
DTSTART;TZID=America/Los_Angeles:20180315T100000
DTEND;TZID=America/Los_Angeles:20181217T170000
DTSTAMP:20260422T212526
CREATED:20180218T224527Z
LAST-MODIFIED:20180218T224527Z
UID:12242-1521108000-1545066000@soulofca.org
SUMMARY:Into the Light  California Women Painters and Photographers
DESCRIPTION:This exhibition features\, guess what\, women artists from California. The many influences that they brought to their work and the personal inspirations caused by the natural beauty of the state are brought to the viewer in these many works.  This is also a sort of grand re-opening of the Pacific Street facility after its extensive remodeling.
URL:https://soulofca.org/event/into-the-light-california-women-painters-and-photographers-2/
LOCATION:Monterey Museum of Art\, 559 Pacific St. \, Monterey \, CA\, 93940\, United States
END:VEVENT
BEGIN:VEVENT
DTSTART;TZID=America/Los_Angeles:20180416T130000
DTEND;TZID=America/Los_Angeles:20181231T160000
DTSTAMP:20260422T212526
CREATED:20180415T210706Z
LAST-MODIFIED:20180415T210706Z
UID:6071-1523883600-1546272000@soulofca.org
SUMMARY:Point Pinos Lighthouse Tours
DESCRIPTION:Self guided tours through the historic lighthouse at the tip of the Monterey Peninsula. Runs through the end of the year.
URL:https://soulofca.org/event/point-pinos-lighthouse-tours/
LOCATION:Point Pinos Lighthouse\, Monterey \, CA\, United States
END:VEVENT
BEGIN:VEVENT
DTSTART;TZID=America/Los_Angeles:20180416T130000
DTEND;TZID=America/Los_Angeles:20181231T160000
DTSTAMP:20260422T212526
CREATED:20180415T210706Z
LAST-MODIFIED:20180415T210706Z
UID:12375-1523883600-1546272000@soulofca.org
SUMMARY:Point Pinos Lighthouse Tours
DESCRIPTION:Self guided tours through the historic lighthouse at the tip of the Monterey Peninsula. Runs through the end of the year.
URL:https://soulofca.org/event/point-pinos-lighthouse-tours-2/
LOCATION:Point Pinos Lighthouse\, Monterey \, CA\, United States
END:VEVENT
BEGIN:VEVENT
DTSTART;TZID=America/Los_Angeles:20181001T110000
DTEND;TZID=America/Los_Angeles:20181031T160000
DTSTAMP:20260422T212526
CREATED:20181001T181701Z
LAST-MODIFIED:20181001T181701Z
UID:7593-1538391600-1541001600@soulofca.org
SUMMARY:Altered Landscapes
DESCRIPTION:This is a show featuring the art of t.c.moore  and Tom Gehrig. moore’s work features assembled materials that re-create figures and landscapes. Gehrig’s more traditional media presents landscapes in unusual ways. Both artists provide compelling views of our world and the changes brought about by humans. http://mpc.edu
URL:https://soulofca.org/event/altered-landscapes/
LOCATION:Monterey Peninsula College\, Morgan Stock Theatre 980 Fremont\, Monterey\, CA\, 93940\, United States
END:VEVENT
BEGIN:VEVENT
DTSTART;TZID=America/Los_Angeles:20181001T110000
DTEND;TZID=America/Los_Angeles:20181031T160000
DTSTAMP:20260422T212526
CREATED:20181001T181701Z
LAST-MODIFIED:20181001T181701Z
UID:12928-1538391600-1541001600@soulofca.org
SUMMARY:Altered Landscapes
DESCRIPTION:This is a show featuring the art of t.c.moore  and Tom Gehrig. moore’s work features assembled materials that re-create figures and landscapes. Gehrig’s more traditional media presents landscapes in unusual ways. Both artists provide compelling views of our world and the changes brought about by humans. http://mpc.edu
URL:https://soulofca.org/event/altered-landscapes-2/
LOCATION:Monterey Peninsula College\, Morgan Stock Theatre 980 Fremont\, Monterey\, CA\, 93940\, United States
END:VEVENT
BEGIN:VEVENT
DTSTART;TZID=America/Los_Angeles:20181009T200000
DTEND;TZID=America/Los_Angeles:20181009T220000
DTSTAMP:20260422T212526
CREATED:20180708T182906Z
LAST-MODIFIED:20180708T182906Z
UID:6969-1539115200-1539122400@soulofca.org
SUMMARY:Jesse Cook
DESCRIPTION:If you are looking for a new and innovative sound in modern music Jesse is your source. he has been listening to and incorporating music from around the world into his music for a while now. His latest release\, Beyond Borders\, is his effort at bringing these sounds to his listeners. Come and see how successful this work is. http://goldenstatetheatre.com
URL:https://soulofca.org/event/jesse-cook/
LOCATION:Golden State Theater\, 417 Alvarado St.\, Monterey\, CA\, 93940\, United States
END:VEVENT
BEGIN:VEVENT
DTSTART;TZID=America/Los_Angeles:20181009T200000
DTEND;TZID=America/Los_Angeles:20181009T220000
DTSTAMP:20260422T212526
CREATED:20180708T182906Z
LAST-MODIFIED:20180708T182906Z
UID:12668-1539115200-1539122400@soulofca.org
SUMMARY:Jesse Cook
DESCRIPTION:If you are looking for a new and innovative sound in modern music Jesse is your source. he has been listening to and incorporating music from around the world into his music for a while now. His latest release\, Beyond Borders\, is his effort at bringing these sounds to his listeners. Come and see how successful this work is. http://goldenstatetheatre.com
URL:https://soulofca.org/event/jesse-cook-2/
LOCATION:Golden State Theater\, 417 Alvarado St.\, Monterey\, CA\, 93940\, United States
END:VEVENT
BEGIN:VEVENT
DTSTART;TZID=America/Los_Angeles:20181009T210000
DTEND;TZID=America/Los_Angeles:20181009T230000
DTSTAMP:20260422T212526
CREATED:20180827T174220Z
LAST-MODIFIED:20180827T174220Z
UID:7385-1539118800-1539126000@soulofca.org
SUMMARY:Simon & Garfunkle Story
DESCRIPTION:With music\, video\, photos\,and a four piece band the story and music of these two music legends will be brought to life. http://riotheatre.com
URL:https://soulofca.org/event/simon-garfunkle-story/
LOCATION:Rio Theater\, 1205 Soquel Ave.\, Santa Cruz\, CA\, 95062\, United States
END:VEVENT
BEGIN:VEVENT
DTSTART;TZID=America/Los_Angeles:20181009T210000
DTEND;TZID=America/Los_Angeles:20181009T230000
DTSTAMP:20260422T212526
CREATED:20180827T174220Z
LAST-MODIFIED:20180827T174220Z
UID:12838-1539118800-1539126000@soulofca.org
SUMMARY:Simon & Garfunkle Story
DESCRIPTION:With music\, video\, photos\,and a four piece band the story and music of these two music legends will be brought to life. http://riotheatre.com
URL:https://soulofca.org/event/simon-garfunkle-story-2/
LOCATION:Rio Theater\, 1205 Soquel Ave.\, Santa Cruz\, CA\, 95062\, United States
END:VEVENT
END:VCALENDAR